BEGIN:VCALENDAR
VERSION:2.0
PRODID:-// - ECPv6.15.15//NONSGML v1.0//EN
CALSCALE:GREGORIAN
METHOD:PUBLISH
X-ORIGINAL-URL:https://downtowntomsriver.com
X-WR-CALDESC:Events for 
REFRESH-INTERVAL;VALUE=DURATION:PT1H
X-Robots-Tag:noindex
X-PUBLISHED-TTL:PT1H
BEGIN:VTIMEZONE
TZID:America/New_York
BEGIN:DAYLIGHT
TZOFFSETFROM:-0500
TZOFFSETTO:-0400
TZNAME:EDT
DTSTART:20250309T070000
END:DAYLIGHT
BEGIN:STANDARD
TZOFFSETFROM:-0400
TZOFFSETTO:-0500
TZNAME:EST
DTSTART:20251102T060000
END:STANDARD
BEGIN:DAYLIGHT
TZOFFSETFROM:-0500
TZOFFSETTO:-0400
TZNAME:EDT
DTSTART:20260308T070000
END:DAYLIGHT
BEGIN:STANDARD
TZOFFSETFROM:-0400
TZOFFSETTO:-0500
TZNAME:EST
DTSTART:20261101T060000
END:STANDARD
BEGIN:DAYLIGHT
TZOFFSETFROM:-0500
TZOFFSETTO:-0400
TZNAME:EDT
DTSTART:20270314T070000
END:DAYLIGHT
BEGIN:STANDARD
TZOFFSETFROM:-0400
TZOFFSETTO:-0500
TZNAME:EST
DTSTART:20271107T060000
END:STANDARD
END:VTIMEZONE
BEGIN:VEVENT
DTSTART;TZID=America/New_York:20260215T140000
DTEND;TZID=America/New_York:20260215T170000
DTSTAMP:20260423T104343
CREATED:20251215T151716Z
LAST-MODIFIED:20251215T151716Z
UID:10005636-1771164000-1771174800@downtowntomsriver.com
SUMMARY:"A Titanic Loss for New Jersey" -  by Robert DeSando
DESCRIPTION:“A Titanic Loss for New Jersey” by Robert DeSando \nSunday\, February 15\, 2026\, at 2:00 PM \nMeet Robert DeSando as he discusses his newest book ” A Titanic Loss for New Jersey” on Sunday\, February 15\, 2026\, at 2:00 PM. Learn about how the sinking of the Titanic impacted New Jersey from both a personal and economic perspective. The program will be followed with a book signing by Robert. His book will be available for purchase that day. \nRobert is a former journalist\, lobbyist\, and public servant. For more than 16 years\, he held a variety of positions with the Asbury Park Press from reporter to bureau chief. He served as communications director and deputy executive director for the New Jersey State General Assembly. Also\, he was a special assistant to the state education commissioner and assistant commissioner for the Department of Transportation. \nThis event takes place at our museum at 26 Hadley Avenue in Toms River. There is no charge\, but donations are appreciated. To reserve your seat early please send your name\, zip code\, email address\, phone number\, and the name and date of the program (February 15\, 2026) to: oceancountyhistory.programs@gmail.com.
URL:https://downtowntomsriver.com/event/a-titanic-loss-for-new-jersey-by-robert-desando/
LOCATION:Ocean County Historical Society\, 26 Hadley Ave\, Toms River\, NJ\, 08753\, United States
CATEGORIES:History
END:VEVENT
END:VCALENDAR