BEGIN:VCALENDAR
VERSION:2.0
PRODID:-// - ECPv6.15.15//NONSGML v1.0//EN
CALSCALE:GREGORIAN
METHOD:PUBLISH
X-ORIGINAL-URL:https://downtowntomsriver.com
X-WR-CALDESC:Events for 
REFRESH-INTERVAL;VALUE=DURATION:PT1H
X-Robots-Tag:noindex
X-PUBLISHED-TTL:PT1H
BEGIN:VTIMEZONE
TZID:America/New_York
BEGIN:DAYLIGHT
TZOFFSETFROM:-0500
TZOFFSETTO:-0400
TZNAME:EDT
DTSTART:20240310T070000
END:DAYLIGHT
BEGIN:STANDARD
TZOFFSETFROM:-0400
TZOFFSETTO:-0500
TZNAME:EST
DTSTART:20241103T060000
END:STANDARD
BEGIN:DAYLIGHT
TZOFFSETFROM:-0500
TZOFFSETTO:-0400
TZNAME:EDT
DTSTART:20250309T070000
END:DAYLIGHT
BEGIN:STANDARD
TZOFFSETFROM:-0400
TZOFFSETTO:-0500
TZNAME:EST
DTSTART:20251102T060000
END:STANDARD
BEGIN:DAYLIGHT
TZOFFSETFROM:-0500
TZOFFSETTO:-0400
TZNAME:EDT
DTSTART:20260308T070000
END:DAYLIGHT
BEGIN:STANDARD
TZOFFSETFROM:-0400
TZOFFSETTO:-0500
TZNAME:EST
DTSTART:20261101T060000
END:STANDARD
END:VTIMEZONE
BEGIN:VEVENT
DTSTART;TZID=America/New_York:20250821T080000
DTEND;TZID=America/New_York:20250821T170000
DTSTAMP:20260424T013300
CREATED:20250821T150627Z
LAST-MODIFIED:20250821T150631Z
UID:10005589-1755763200-1755795600@downtowntomsriver.com
SUMMARY:CAR WASH FUNDRAISER - Broadway on Main
DESCRIPTION:<p>Summer Carwash to help fundraise for the Broadway on Main Dancing Studios. </p> \n<p>Support young artists as they grow their skills and passion! </p> \n<p>Activities for kids available\, lemonade\, cotton candy\, face painting\, shaved ice and more! </p> \n<p>See the flyer or reach out to Broadway on Main for more details! </p>
URL:https://downtowntomsriver.com/event/car-wash-fundraiser-broadway-on-main/
LOCATION:Broadway On Main\, 806 N. Main Street\, Toms River\, 08753\, United States
CATEGORIES:Arts & Cluture,Fundraising,Kids,Other
ATTACH;FMTTYPE=image/jpeg:https://downtowntomsriver.com/wp-content/uploads/2025/08/BOM-Carwash.jpg
ORGANIZER;CN="Broadway On Main":MAILTO:broadwayonmaintrnj@gmail.com
END:VEVENT
END:VCALENDAR