BEGIN:VCALENDAR
VERSION:2.0
PRODID:-// - ECPv6.15.15//NONSGML v1.0//EN
CALSCALE:GREGORIAN
METHOD:PUBLISH
X-ORIGINAL-URL:https://downtowntomsriver.com
X-WR-CALDESC:Events for 
REFRESH-INTERVAL;VALUE=DURATION:PT1H
X-Robots-Tag:noindex
X-PUBLISHED-TTL:PT1H
BEGIN:VTIMEZONE
TZID:America/New_York
BEGIN:DAYLIGHT
TZOFFSETFROM:-0500
TZOFFSETTO:-0400
TZNAME:EDT
DTSTART:20250309T070000
END:DAYLIGHT
BEGIN:STANDARD
TZOFFSETFROM:-0400
TZOFFSETTO:-0500
TZNAME:EST
DTSTART:20251102T060000
END:STANDARD
BEGIN:DAYLIGHT
TZOFFSETFROM:-0500
TZOFFSETTO:-0400
TZNAME:EDT
DTSTART:20260308T070000
END:DAYLIGHT
BEGIN:STANDARD
TZOFFSETFROM:-0400
TZOFFSETTO:-0500
TZNAME:EST
DTSTART:20261101T060000
END:STANDARD
BEGIN:DAYLIGHT
TZOFFSETFROM:-0500
TZOFFSETTO:-0400
TZNAME:EDT
DTSTART:20270314T070000
END:DAYLIGHT
BEGIN:STANDARD
TZOFFSETFROM:-0400
TZOFFSETTO:-0500
TZNAME:EST
DTSTART:20271107T060000
END:STANDARD
END:VTIMEZONE
BEGIN:VEVENT
DTSTART;TZID=America/New_York:20260103T190000
DTEND;TZID=America/New_York:20260103T213000
DTSTAMP:20260423T093449
CREATED:20251204T150101Z
LAST-MODIFIED:20251204T152535Z
UID:10005629-1767466800-1767475800@downtowntomsriver.com
SUMMARY:Most Wonderful Crime of the Year Murder Mystery Dinner Show
DESCRIPTION: Join us at the Mathis House for a Most Wonderful Time of the Year Murder Mystery Dinner Show! \nCome celebrate the season with us tonight at 7:00 PM! Dress in your holiday dinner best and get ready to enjoy a beautifully decorated Inn with over 35 Christmas Trees. \n\n Dinner includes: Mini Charcuterie Cups Chicken Picatta Penne Vodka\, sautéed vegetables\, & a fresh green salad Warm bread with herb butter Assorted Teatime Desserts to end on a sweet note\nPlus coffee or tea (BYOB welcome)\n Tickets:$75 per person10 Percent off for Seniors and MilitaryPlus tax & gratuityLimited seating – reservations required!Parties of 2 or 3 may be grouped with other teams of 2 or 3.\n Call 732-818-7580 for more information or to reserve your spot Visit: www.mathishouse600main.com Buy tickets on: [Eventbrite]\, RESY\, or at 732-818-7580. Location: The Historic Mathis House\, 600 Main Street\, Downtown Toms River Parking located directly behind the Inn\nDon’t miss out on a festive night full of mystery\, delicious food\, and holiday cheer! 
URL:https://downtowntomsriver.com/event/most-wonderful-crime-of-the-year-murder-mystery-dinner-show/
LOCATION:The Mathis House at 600 Main\, 600 Main St.\, Toms River\, NJ\, 08753\, United States
CATEGORIES:Downtown Toms River Events,Entertainment
ATTACH;FMTTYPE=image/jpeg:https://downtowntomsriver.com/wp-content/uploads/2025/12/most-wonderful-crime-of-the-year.jpg
ORGANIZER;CN="WWW.mathishouse600main.com":MAILTO:vweiss@mathishouse600main.com
END:VEVENT
BEGIN:VEVENT
DTSTART;TZID=America/New_York:20260111T140000
DTEND;TZID=America/New_York:20260111T170000
DTSTAMP:20260423T093449
CREATED:20251107T214020Z
LAST-MODIFIED:20251107T214020Z
UID:10005623-1768140000-1768150800@downtowntomsriver.com
SUMMARY:The Battle of Springfield
DESCRIPTION:Ocean County Historical Society \nSunday\, January 11\, 2026\, at 2:00 PM \nThe Battle of Springfield – presented by Bob Gula \nJoin us for a talk by Bob Gula\, who will be portraying Revolutionary War soldier Jehiel Day (his 5x great grandfather!) as he discusses the Battle of Springfield. The Battle of Springfield in 1780 was the last major fighting of the American Revolution in the Northeast United States. The Continental Army and local NJ militia successfully repelled British forces looking to capture George Washington and his army in Morristown. \nBob Gula is a retired senior finance executive. He is an active member/officer in the Mayflower Society of New Jersey\, Sons of the American Revolution\, Sons of Union Veterans of the Civil War and the Forgotten Victory Trail Association. \nThis event is free\, but your donation in support of our program is appreciated. To reserve your seat early please send your name\, zip code\, email address\, telephone number and the name and date of the program (January 11\, 2026) to: oceancountyhistory.programs@gmail.com. \n  \n  \n 
URL:https://downtowntomsriver.com/event/the-battle-of-springfield/
LOCATION:Ocean County Historical Society\, 26 Hadley Ave\, Toms River\, NJ\, 08753\, United States
CATEGORIES:Arts & Cluture,Entertainment,History
END:VEVENT
BEGIN:VEVENT
DTSTART;TZID=America/New_York:20260114T183000
DTEND;TZID=America/New_York:20260114T200000
DTSTAMP:20260423T093449
CREATED:20251204T162322Z
LAST-MODIFIED:20251204T162322Z
UID:10005634-1768415400-1768420800@downtowntomsriver.com
SUMMARY:Princess Tea Party with Elsa
DESCRIPTION:Bring your little princess to join the Winter Ice Queen for a special tea time at the Historic Mathis House Victorian Tea Room. The tea time includes an appearance from our Princess\, who will sing songs\, read a story\, and take pictures with your children.\nEnjoy warm scones with clotted cream and homemade cupcakes with cold and hot tea. The mansion is perfectly decorated and a place that brings smiles and memories.\nTickets are $20 for adults and $10 for children. Please call 732-818-7580 for more information or visit www.mathishouse600main.com to buy direct online.\nLocated at 600 Main Street in Downtown Toms River. Parking located directly behind the Inn. Please no early birds. Feel free to come dressed in your princess outfits and bring your camera.
URL:https://downtowntomsriver.com/event/princess-tea-party-with-elsa-2/
LOCATION:The Mathis House at 600 Main\, 600 Main St.\, Toms River\, NJ\, 08753\, United States
CATEGORIES:Downtown Toms River Events,Entertainment,Kids
ATTACH;FMTTYPE=image/jpeg:https://downtowntomsriver.com/wp-content/uploads/2025/12/princess-tea-with-elsa.jpg
ORGANIZER;CN="WWW.mathishouse600main.com":MAILTO:vweiss@mathishouse600main.com
END:VEVENT
BEGIN:VEVENT
DTSTART;TZID=America/New_York:20260128T183000
DTEND;TZID=America/New_York:20260128T200000
DTSTAMP:20260423T093449
CREATED:20251204T160517Z
LAST-MODIFIED:20251204T160517Z
UID:10005635-1769625000-1769630400@downtowntomsriver.com
SUMMARY:Princess Tea Party with Elsa
DESCRIPTION:Bring your little princess to join the Winter Ice Queen for a special tea time at the Historic Mathis House Victorian Tea Room. The tea time includes an appearance from our Princess that will sing songs\, read a story and take pictures with your children.\nEnjoy warm scones with clotted cream and homemade cupcakes with cold and hot tea. The mansion is perfectly decorated and a place that brings smiles and memories.\nTickets are $20 for adults and $10 for children. Please call 732-818-7580 for more information or visit www.mathishouse600main.com to buy directly online.\nLocated at 600 Main Street in Downtown Toms River. Parking is located directly behind the Inn. Please\, no early birds. Feel free to come dressed in your princess outfits and bring your camera.
URL:https://downtowntomsriver.com/event/princess-tea-party-with-elsa/
LOCATION:The Mathis House at 600 Main\, 600 Main St.\, Toms River\, NJ\, 08753\, United States
CATEGORIES:Downtown Toms River Events,Entertainment,Kids
ATTACH;FMTTYPE=image/jpeg:https://downtowntomsriver.com/wp-content/uploads/2025/12/princess-tea-with-elsa-1.jpg
ORGANIZER;CN="WWW.mathishouse600main.com":MAILTO:vweiss@mathishouse600main.com
END:VEVENT
END:VCALENDAR