BEGIN:VCALENDAR
VERSION:2.0
PRODID:-// - ECPv6.15.15//NONSGML v1.0//EN
CALSCALE:GREGORIAN
METHOD:PUBLISH
X-ORIGINAL-URL:https://downtowntomsriver.com
X-WR-CALDESC:Events for 
REFRESH-INTERVAL;VALUE=DURATION:PT1H
X-Robots-Tag:noindex
X-PUBLISHED-TTL:PT1H
BEGIN:VTIMEZONE
TZID:America/New_York
BEGIN:DAYLIGHT
TZOFFSETFROM:-0500
TZOFFSETTO:-0400
TZNAME:EDT
DTSTART:20240310T070000
END:DAYLIGHT
BEGIN:STANDARD
TZOFFSETFROM:-0400
TZOFFSETTO:-0500
TZNAME:EST
DTSTART:20241103T060000
END:STANDARD
BEGIN:DAYLIGHT
TZOFFSETFROM:-0500
TZOFFSETTO:-0400
TZNAME:EDT
DTSTART:20250309T070000
END:DAYLIGHT
BEGIN:STANDARD
TZOFFSETFROM:-0400
TZOFFSETTO:-0500
TZNAME:EST
DTSTART:20251102T060000
END:STANDARD
BEGIN:DAYLIGHT
TZOFFSETFROM:-0500
TZOFFSETTO:-0400
TZNAME:EDT
DTSTART:20260308T070000
END:DAYLIGHT
BEGIN:STANDARD
TZOFFSETFROM:-0400
TZOFFSETTO:-0500
TZNAME:EST
DTSTART:20261101T060000
END:STANDARD
END:VTIMEZONE
BEGIN:VEVENT
DTSTART;VALUE=DATE:20250827
DTEND;VALUE=DATE:20251004
DTSTAMP:20260423T141204
CREATED:20250827T181423Z
LAST-MODIFIED:20250827T181757Z
UID:10005603-1756252800-1759535999@downtowntomsriver.com
SUMMARY:Scarecrow Walk Registration 2025
DESCRIPTION:It’s starting to feel like fall! Help us decorate the Downtown with your very own Scarecrow. You could even win up to $400! \n\nCreate lasting memories and build your scarecrow as a family or team-building opportunity!\nAdvertise your Business for Free! All scarecrows will be clearly labeled and waterproofed\, and your business or organization can be featured!\nScarecrows on display from October 10th – 31st\nYour scarecrow can be seen by thousands of people during the Halloween Parade where we can have over 38\,000 visitors.\n\nScarecrow Walk Registration Link
URL:https://downtowntomsriver.com/event/scarecrow-walk-registration-2025/
LOCATION:Downtown Toms River\, Washington St\,.\, Toms River\, NJ\, 08753\, United States
CATEGORIES:Arts & Cluture,Arts & Crafts,Contests,Downtown Business Events,Downtown Toms River Events,Entertainment,Kids,Other
ATTACH;FMTTYPE=image/png:https://downtowntomsriver.com/wp-content/uploads/2025/08/Scarecrows-Wanted-2025.png
ORGANIZER;CN="Downtown Toms River BID":MAILTO:info@downtowntomsriver.com
END:VEVENT
BEGIN:VEVENT
DTSTART;TZID=America/New_York:20251001T110000
DTEND;TZID=America/New_York:20251001T160000
DTSTAMP:20260423T141204
CREATED:20250416T144157Z
LAST-MODIFIED:20250416T144559Z
UID:10004224-1759316400-1759334400@downtowntomsriver.com
SUMMARY:Farmer's Market 2025
DESCRIPTION:Once again\, Toms River hosts artisans of food\, crafts and more–to our weekly Farmer’s Market! \n  \n  \nBeginning June 6th 2025\, through October 1st \nEvery Wednesday from 11AM – 4PM @ 33 Washington St. \n  \n  \nExciting smells and aromas\, gifts and charms of all sorts are just waiting to be found at this years’ Farmer’s Market. \nStay tuned: \nFollow our Facebook and Instagram for updates and info. \n 
URL:https://downtowntomsriver.com/event/farmers-market-2025/2025-10-01/
LOCATION:Farmer’s Market\, 33 Washington St.\, Toms River\, 08753\, United States
CATEGORIES:Arts & Cluture,Arts & Crafts,Downtown Toms River Events,Entertainment
ATTACH;FMTTYPE=image/png:https://downtowntomsriver.com/wp-content/uploads/2025/04/Farmers-Market-2025-.png
ORGANIZER;CN="Downtown Toms River BID":MAILTO:info@downtowntomsriver.com
END:VEVENT
BEGIN:VEVENT
DTSTART;TZID=America/New_York:20251003T190000
DTEND;TZID=America/New_York:20251003T213000
DTSTAMP:20260423T141204
CREATED:20250814T164246Z
LAST-MODIFIED:20250814T164246Z
UID:10005571-1759518000-1759527000@downtowntomsriver.com
SUMMARY:Midnight Masquerade Murder Mystery
DESCRIPTION:Halloween Murder Mystery.\nThe rustle of silks and feathers under muted conversation was probably the last thing heard by the tragically and unexpectedly deceased at the Billionaires’ Club Annual Masquerade Ball. With a mystery under each feathery façade\, unmasking the killer may be quite a challenge. It’s up to you to determine which partygoer is guilty\, bring this crime to justice\, and save the party!\nAttend the Billionaires’ Club Annual Masquerade Ball and help get this soiree back on track by trading clues with your guests\, gathering information\, and solving the crime before the masked menace gets away!\nEvening wear\, beautiful costumes\, Venetian masks\, suits\, and suits are what to wear to this high class night of masks and murder. Get ready for a glamorous evening of mystery\, intrigue\, and murder at this masquerade ball murder mystery party! The Mathis House staff will all participate in costume.\n Dinner Menu Includes:Mini Charcuterie Cups to startChicken Picatta as the main entréePenne Vodka\, sautéed vegetables\, and a fresh mixed green saladWarm bread with herb butterAssorted Teatime Desserts to end the night on a sweet noteIncludes coffee or tea (BYOB welcome) Tickets:$75 per person$55 for Seniors (65+)Plus tax & gratuityLimited seating – reservations required! Call 732-818-7580 for more information or to reserve your spot Visit: www.mathishouse600main.com Buy tickets on: [Eventbrite]\, RESY\, or at 732-818-7580. Location: The Historic Mathis House\, 600 Main Street\, Downtown Toms River Parking located directly behind the InnDon’t miss this totally tubular night of food\, fun\, and whodunnit suspense! \nWe have guest rooms remaining for an overnight stay\, but reservations must be made by calling the Inn.\nCancellation policy for all pre paid events is a two year credit at the Inn for the value of the tickets with 24 hours notice. Click Below to order your tickets on Event Brite.
URL:https://downtowntomsriver.com/event/midnight-masquerade-murder-mystery-4/
LOCATION:The Mathis House at 600 Main\, 600 Main St.\, Toms River\, NJ\, 08753\, United States
CATEGORIES:Downtown Toms River Events,Entertainment
ATTACH;FMTTYPE=image/jpeg:https://downtowntomsriver.com/wp-content/uploads/2025/08/midnight-masquerade-murder-mystery.jpg
ORGANIZER;CN="WWW.mathishouse600main.com":MAILTO:vweiss@mathishouse600main.com
END:VEVENT
BEGIN:VEVENT
DTSTART;TZID=America/New_York:20251004T190000
DTEND;TZID=America/New_York:20251004T213000
DTSTAMP:20260423T141204
CREATED:20250814T155217Z
LAST-MODIFIED:20250814T155217Z
UID:10005572-1759604400-1759613400@downtowntomsriver.com
SUMMARY:Ladies Night Costume Party
DESCRIPTION:Savor a comfort food buffet with dessert and gourmet tea\, enhanced by live music and tours of the Inn. Tickets are priced at $42 per person and $22 for seniors. Attendees are invited to wear their favorite costumes for a contest\, with an overnight stay gift card at the Bed & Breakfast awarded as a prize. Please call 732-818-7580 to purchase tickets and obtain further details.\n\nClick Below to purchase your tickets on Event Brite.
URL:https://downtowntomsriver.com/event/ladies-night-costume-party/
LOCATION:The Mathis House at 600 Main\, 600 Main St.\, Toms River\, NJ\, 08753\, United States
CATEGORIES:Downtown Toms River Events,Entertainment,Live Music
ATTACH;FMTTYPE=image/jpeg:https://downtowntomsriver.com/wp-content/uploads/2025/08/ladies-night-costume-party.jpg
ORGANIZER;CN="WWW.mathishouse600main.com":MAILTO:vweiss@mathishouse600main.com
END:VEVENT
BEGIN:VEVENT
DTSTART;VALUE=DATE:20251010
DTEND;VALUE=DATE:20251101
DTSTAMP:20260423T141204
CREATED:20250416T200158Z
LAST-MODIFIED:20250416T200158Z
UID:10004231-1760054400-1761955199@downtowntomsriver.com
SUMMARY:Downtown Scarecrow Walk 2025
DESCRIPTION:Spooky\, scary… Scarecrows! – \nHandmade scarecrows\, submitted by locals like you! – \nDisplayed on Washington St. from October 10th to October 31st to usher in All Hallows Eve! – \nCast your vote for your favorite scarecrow\, see flyer for details. – \nAnd while you’re here\, you’ll probably want to stop\, shop and grab a bite. \n  \nDo you have the stuffing to win Best Scarecrow? Entry is FREE! \nStay tuned: Follow our Facebook: www.facebook.com/downtowntomsrive Instagram: www.instagram.com/downtowntomsriver/ for updates and info.
URL:https://downtowntomsriver.com/event/downtown-scarecrow-walk-2025/
LOCATION:Downtown Toms River\, Washington St\,.\, Toms River\, NJ\, 08753\, United States
CATEGORIES:Arts & Cluture,Arts & Crafts,Downtown Toms River Events,Entertainment,Kids
ATTACH;FMTTYPE=image/png:https://downtowntomsriver.com/wp-content/uploads/2025/04/Scarecrow-Walk-2025.png
ORGANIZER;CN="Downtown Toms River BID":MAILTO:info@downtowntomsriver.com
END:VEVENT
BEGIN:VEVENT
DTSTART;TZID=America/New_York:20251015T183000
DTEND;TZID=America/New_York:20251015T200000
DTSTAMP:20260423T141204
CREATED:20250811T152057Z
LAST-MODIFIED:20250811T152057Z
UID:10005560-1760553000-1760558400@downtowntomsriver.com
SUMMARY:The Italian American Songbook
DESCRIPTION:This presentation by Jimmy Scalia will delight audiences with the sounds and life stories about favorite Italian American artists. You will hear and see Frank Sinatra\, Perry Como\, Louis Prima\, Connie Frances\, Tony Martin\, Frankie Laine\, Dean Martin and more. \nNote: this is a feel-good multimedia presentation\, not a live concert. \nThis program is sponsored by the Friends of the Ocean County Library – Toms River.
URL:https://downtowntomsriver.com/event/the-italian-american-songbook/
LOCATION:The Ocean County Library\, 101 Washington St\, Toms River\, NJ\, 08753\, United States
CATEGORIES:Entertainment
ORGANIZER;CN="The Ocean County Library":MAILTO:programs@theoceancountylibrary.org
END:VEVENT
BEGIN:VEVENT
DTSTART;TZID=America/New_York:20251018T110000
DTEND;TZID=America/New_York:20251018T170000
DTSTAMP:20260423T141204
CREATED:20250417T133725Z
LAST-MODIFIED:20250417T133840Z
UID:10004232-1760785200-1760806800@downtowntomsriver.com
SUMMARY:Harvest Arts Festival 2025
DESCRIPTION:Harvest Arts Returns with the changing leaves! Local NJ artists come to showcase their art with the kaleidoscopic colors of fall. A juried art show with a cash prize and all the adulation that comes with it! Join us Saturday October 18th from 11Am – 5PM on Washington St. in the downtown. – \nFood trucks – Vendors – Artists – Live Bands – Free Kids Games – Pumpkins – District Businesses – \nFollow our Facebook: www.facebook.com/downtowntomsrive Instagram: www.instagram.com/downtowntomsriver/ for updates and info.
URL:https://downtowntomsriver.com/event/harvest-arts-festival-2025/
LOCATION:Downtown Toms River\, Washington St\,.\, Toms River\, NJ\, 08753\, United States
CATEGORIES:Arts & Cluture,Arts & Crafts,Downtown Toms River Events,Entertainment,Kids
ATTACH;FMTTYPE=image/png:https://downtowntomsriver.com/wp-content/uploads/2025/04/Harvest-Arts-2025.png
ORGANIZER;CN="Downtown Toms River BID":MAILTO:info@downtowntomsriver.com
END:VEVENT
BEGIN:VEVENT
DTSTART;TZID=America/New_York:20251019T150000
DTEND;TZID=America/New_York:20251019T170000
DTSTAMP:20260423T141204
CREATED:20250819T211435Z
LAST-MODIFIED:20250819T211435Z
UID:10005587-1760886000-1760893200@downtowntomsriver.com
SUMMARY:Masquerade Murder Mystery
DESCRIPTION:Masquerade Murder Mystery \n\n\n\n\n\n\n\n  \nAt the Mathis House \n600 Main Street \nToms River \nSunday\, October 19\, 2025\, 3:00 PM \nCost $80.00 per person \nGratuity not included  \nIncludes soup\, salad\, dinner\, dessert & interactive show \nCoffee\, tea\, iced tea & water included \n BYOB beverage of your choice  \nCostumes optional \nThe best-dressed costume wins an overnight stay at \nthe Mathis House \n  \nCall for reservations: \nPat @ 732-814-2979 \nSponsored by the Ocean County Historical Society
URL:https://downtowntomsriver.com/event/masquerade-murder-mystery/
LOCATION:The Mathis House at 600 Main\, 600 Main St.\, Toms River\, NJ\, 08753\, United States
CATEGORIES:Entertainment
END:VEVENT
BEGIN:VEVENT
DTSTART;TZID=America/New_York:20251024T183000
DTEND;TZID=America/New_York:20251024T210000
DTSTAMP:20260423T141204
CREATED:20251002T140135Z
LAST-MODIFIED:20251002T140158Z
UID:10005615-1761330600-1761339600@downtowntomsriver.com
SUMMARY:HOCUS POCUS: Movie and Craft Night @ Gifted
DESCRIPTION:Popcorn\, pajamas & a little Magic. Grab your comfiest PJs and settle in for a Hocus Pocus movie night like no other – right here in store\, Friday 10/24\, starting at 6:30PM! \n  \n$48 ticket includes:\n– All materials needed to create your charm necklace (pick up to 4 charms)\n– All materials needed to decoupage 2 mini faux pumpkins\n– A popcorn & candy bar to snack on while you craft and enjoy watching Hocus Pocus \nSpots are limited\, tickets must be purchased in advance!
URL:https://downtowntomsriver.com/event/hocus-pocus-movie-and-craft-night-gifted/
LOCATION:Gifted on Washington\, 16 Washington St\, Toms River\, NJ\, 08753-8709\, United States
CATEGORIES:Arts & Crafts,Entertainment,Other
ATTACH;FMTTYPE=image/png:https://downtowntomsriver.com/wp-content/uploads/2025/10/Hocus-Pocus-Party-Gifted-scaled.png
END:VEVENT
BEGIN:VEVENT
DTSTART;TZID=America/New_York:20251025T170000
DTEND;TZID=America/New_York:20251025T220000
DTSTAMP:20260423T141204
CREATED:20250609T194426Z
LAST-MODIFIED:20250609T194426Z
UID:10005511-1761411600-1761429600@downtowntomsriver.com
SUMMARY:Haunt the Downtown: Trick or Treating and Family Fun in Downtown
DESCRIPTION:Haunted Downtown Toms River
URL:https://downtowntomsriver.com/event/haunt-the-downtown-trick-or-treating-and-family-fun-in-downtown/
LOCATION:Downtown Toms River\, Washington St\,.\, Toms River\, NJ\, 08753\, United States
CATEGORIES:Downtown Toms River Events,Entertainment,Kids,Other,Sweets and Treats
ATTACH;FMTTYPE=image/jpeg:https://downtowntomsriver.com/wp-content/uploads/2025/06/Haunted-Downtown-Toms-River.jpg
ORGANIZER;CN="Downtown Toms River BID":MAILTO:info@downtowntomsriver.com
END:VEVENT
END:VCALENDAR