BEGIN:VCALENDAR
VERSION:2.0
PRODID:-// - ECPv6.15.15//NONSGML v1.0//EN
CALSCALE:GREGORIAN
METHOD:PUBLISH
X-ORIGINAL-URL:https://downtowntomsriver.com
X-WR-CALDESC:Events for 
REFRESH-INTERVAL;VALUE=DURATION:PT1H
X-Robots-Tag:noindex
X-PUBLISHED-TTL:PT1H
BEGIN:VTIMEZONE
TZID:America/New_York
BEGIN:DAYLIGHT
TZOFFSETFROM:-0500
TZOFFSETTO:-0400
TZNAME:EDT
DTSTART:20240310T070000
END:DAYLIGHT
BEGIN:STANDARD
TZOFFSETFROM:-0400
TZOFFSETTO:-0500
TZNAME:EST
DTSTART:20241103T060000
END:STANDARD
BEGIN:DAYLIGHT
TZOFFSETFROM:-0500
TZOFFSETTO:-0400
TZNAME:EDT
DTSTART:20250309T070000
END:DAYLIGHT
BEGIN:STANDARD
TZOFFSETFROM:-0400
TZOFFSETTO:-0500
TZNAME:EST
DTSTART:20251102T060000
END:STANDARD
BEGIN:DAYLIGHT
TZOFFSETFROM:-0500
TZOFFSETTO:-0400
TZNAME:EDT
DTSTART:20260308T070000
END:DAYLIGHT
BEGIN:STANDARD
TZOFFSETFROM:-0400
TZOFFSETTO:-0500
TZNAME:EST
DTSTART:20261101T060000
END:STANDARD
END:VTIMEZONE
BEGIN:VEVENT
DTSTART;VALUE=DATE:20250827
DTEND;VALUE=DATE:20251004
DTSTAMP:20260423T154410
CREATED:20250827T181423Z
LAST-MODIFIED:20250827T181757Z
UID:10005603-1756252800-1759535999@downtowntomsriver.com
SUMMARY:Scarecrow Walk Registration 2025
DESCRIPTION:It’s starting to feel like fall! Help us decorate the Downtown with your very own Scarecrow. You could even win up to $400! \n\nCreate lasting memories and build your scarecrow as a family or team-building opportunity!\nAdvertise your Business for Free! All scarecrows will be clearly labeled and waterproofed\, and your business or organization can be featured!\nScarecrows on display from October 10th – 31st\nYour scarecrow can be seen by thousands of people during the Halloween Parade where we can have over 38\,000 visitors.\n\nScarecrow Walk Registration Link
URL:https://downtowntomsriver.com/event/scarecrow-walk-registration-2025/
LOCATION:Downtown Toms River\, Washington St\,.\, Toms River\, NJ\, 08753\, United States
CATEGORIES:Arts & Cluture,Arts & Crafts,Contests,Downtown Business Events,Downtown Toms River Events,Entertainment,Kids,Other
ATTACH;FMTTYPE=image/png:https://downtowntomsriver.com/wp-content/uploads/2025/08/Scarecrows-Wanted-2025.png
ORGANIZER;CN="Downtown Toms River BID":MAILTO:info@downtowntomsriver.com
END:VEVENT
BEGIN:VEVENT
DTSTART;TZID=America/New_York:20250903T110000
DTEND;TZID=America/New_York:20250903T160000
DTSTAMP:20260423T154410
CREATED:20250416T144157Z
LAST-MODIFIED:20250416T144559Z
UID:10004220-1756897200-1756915200@downtowntomsriver.com
SUMMARY:Farmer's Market 2025
DESCRIPTION:Once again\, Toms River hosts artisans of food\, crafts and more–to our weekly Farmer’s Market! \n  \n  \nBeginning June 6th 2025\, through October 1st \nEvery Wednesday from 11AM – 4PM @ 33 Washington St. \n  \n  \nExciting smells and aromas\, gifts and charms of all sorts are just waiting to be found at this years’ Farmer’s Market. \nStay tuned: \nFollow our Facebook and Instagram for updates and info. \n 
URL:https://downtowntomsriver.com/event/farmers-market-2025/2025-09-03/
LOCATION:Farmer’s Market\, 33 Washington St.\, Toms River\, 08753\, United States
CATEGORIES:Arts & Cluture,Arts & Crafts,Downtown Toms River Events,Entertainment
ATTACH;FMTTYPE=image/png:https://downtowntomsriver.com/wp-content/uploads/2025/04/Farmers-Market-2025-.png
ORGANIZER;CN="Downtown Toms River BID":MAILTO:info@downtowntomsriver.com
END:VEVENT
BEGIN:VEVENT
DTSTART;TZID=America/New_York:20250905T170000
DTEND;TZID=America/New_York:20250905T220000
DTSTAMP:20260423T154410
CREATED:20250822T200421Z
LAST-MODIFIED:20250822T200426Z
UID:10005590-1757091600-1757109600@downtowntomsriver.com
SUMMARY:LOCAL SUMMER @ Downtown Night Out
DESCRIPTION:Join us for a special Downtown Night Out on September 5th!
URL:https://downtowntomsriver.com/event/local-summer-downtown-night-out/
LOCATION:NJ
CATEGORIES:Dining,Downtown Toms River Events,Entertainment,Kids,Live Music,Other
ATTACH;FMTTYPE=image/jpeg:https://downtowntomsriver.com/wp-content/uploads/2025/08/Local-Summer-Flyer.jpg
ORGANIZER;CN="Downtown Toms River BID":MAILTO:info@downtowntomsriver.com
END:VEVENT
BEGIN:VEVENT
DTSTART;TZID=America/New_York:20250906T190000
DTEND;TZID=America/New_York:20250906T213000
DTSTAMP:20260423T154410
CREATED:20250807T180151Z
LAST-MODIFIED:20250807T180151Z
UID:10005553-1757185200-1757194200@downtowntomsriver.com
SUMMARY:Broadway on Your Block
DESCRIPTION:Experience an unforgettable evening at The Mathis House\, as Moment by Moment takes the stage to perform a captivating musical cabaret inspired by the Sound of Music\, accompanied by live performers. This exclusive supper show features a sumptuous\, catered dinner\, expertly prepared by Joe Leones\, including soup\, salad\, chicken picatta\, penne pasta\, roasted vegetables\, and a mouthwatering dessert\, served with coffee\, tea\, or your beverage of choice. Tickets are available for $75\, plus tax and gratuity. Seniors and military personnel are eligible for a $20 discount. Children under 12 are admitted for $20. To reserve event tickets\, please call 732-818-7580
URL:https://downtowntomsriver.com/event/broadway-on-your-block/
LOCATION:The Mathis House at 600 Main\, 600 Main St.\, Toms River\, NJ\, 08753\, United States
CATEGORIES:Arts & Cluture,Dining,Downtown Toms River Events,Entertainment,Other
ATTACH;FMTTYPE=image/jpeg:https://downtowntomsriver.com/wp-content/uploads/2025/07/Broadway-on-your-block-2.jpg
ORGANIZER;CN="WWW.mathishouse600main.com":MAILTO:vweiss@mathishouse600main.com
END:VEVENT
BEGIN:VEVENT
DTSTART;TZID=America/New_York:20250908T183000
DTEND;TZID=America/New_York:20250908T193000
DTSTAMP:20260423T154410
CREATED:20250820T162010Z
LAST-MODIFIED:20250820T162010Z
UID:10005588-1757356200-1757359800@downtowntomsriver.com
SUMMARY:Acoustic Concert with Todd Meredith
DESCRIPTION:Join us for an acoustic concert with Ocean County musician\, Todd Meredith. \n\n\n\n\n\n\nTodd will be playing some of your favorite hits from Buddy Holly\, Bruce Springsteen\, The Beatles\, James Taylor\, and more. This program is sponsored by the Friends of the Ocean County Library – Toms River. Please register at the link!
URL:https://downtowntomsriver.com/event/acoustic-concert-with-todd-meredith-3/
LOCATION:The Ocean County Library\, 101 Washington St\, Toms River\, NJ\, 08753\, United States
CATEGORIES:Entertainment
ORGANIZER;CN="The Ocean County Library":MAILTO:programs@theoceancountylibrary.org
END:VEVENT
BEGIN:VEVENT
DTSTART;TZID=America/New_York:20250910T110000
DTEND;TZID=America/New_York:20250910T160000
DTSTAMP:20260423T154410
CREATED:20250416T144157Z
LAST-MODIFIED:20250416T144559Z
UID:10004221-1757502000-1757520000@downtowntomsriver.com
SUMMARY:Farmer's Market 2025
DESCRIPTION:Once again\, Toms River hosts artisans of food\, crafts and more–to our weekly Farmer’s Market! \n  \n  \nBeginning June 6th 2025\, through October 1st \nEvery Wednesday from 11AM – 4PM @ 33 Washington St. \n  \n  \nExciting smells and aromas\, gifts and charms of all sorts are just waiting to be found at this years’ Farmer’s Market. \nStay tuned: \nFollow our Facebook and Instagram for updates and info. \n 
URL:https://downtowntomsriver.com/event/farmers-market-2025/2025-09-10/
LOCATION:Farmer’s Market\, 33 Washington St.\, Toms River\, 08753\, United States
CATEGORIES:Arts & Cluture,Arts & Crafts,Downtown Toms River Events,Entertainment
ATTACH;FMTTYPE=image/png:https://downtowntomsriver.com/wp-content/uploads/2025/04/Farmers-Market-2025-.png
ORGANIZER;CN="Downtown Toms River BID":MAILTO:info@downtowntomsriver.com
END:VEVENT
BEGIN:VEVENT
DTSTART;TZID=America/New_York:20250913T190000
DTEND;TZID=America/New_York:20250913T213000
DTSTAMP:20260423T154410
CREATED:20250814T154007Z
LAST-MODIFIED:20250814T154007Z
UID:10005562-1757790000-1757799000@downtowntomsriver.com
SUMMARY:80's Night Murder Mystery Dinner Party
DESCRIPTION:Make sure you are dressed in the times for this 80’s Murder Mystery Dinner party or someone may ask you to bag your head! Grab your most righteous ‘80s concert gear to rock out in style while you sing the night away with your friends. Jean jackets and spandex leggings\, big hair\, bangles\, leg warmers\, and ripped jeans will be all the rage at this rocking night of Murder Mystery fun. See you there!\nThe Dinner Service includes: Mini Charcuterie Cups as the appetizer\, main dish is Chicken Picatta\, a side of Penne Vodka\, sauteed vegetables\, a mixed green salad\, and warm bread with herb butter. Dessert for the evening is a variety of teatime desserts.\nTickets are $75 per person and $55 for Seniors 65 and up plus tax and gratuity.\nDinner includes tea or coffee and your own. This is a limited ticketed event. For more information or to make your reservation\, call 732-818-7580 or visit our website at www.mathishouse600main.com\nBuy your tickets on Eventbrite\, RESY or call 732-818-7580 for your pre-paid reservation.
URL:https://downtowntomsriver.com/event/80s-night-murder-mystery-dinner-party/
LOCATION:The Mathis House at 600 Main\, 600 Main St.\, Toms River\, NJ\, 08753\, United States
CATEGORIES:Dining,Downtown Toms River Events,Entertainment
ATTACH;FMTTYPE=image/jpeg:https://downtowntomsriver.com/wp-content/uploads/2025/08/80s-night-murder-mystery-party.jpg
ORGANIZER;CN="WWW.mathishouse600main.com":MAILTO:vweiss@mathishouse600main.com
END:VEVENT
BEGIN:VEVENT
DTSTART;TZID=America/New_York:20250917T110000
DTEND;TZID=America/New_York:20250917T160000
DTSTAMP:20260423T154410
CREATED:20250416T144157Z
LAST-MODIFIED:20250416T144559Z
UID:10004222-1758106800-1758124800@downtowntomsriver.com
SUMMARY:Farmer's Market 2025
DESCRIPTION:Once again\, Toms River hosts artisans of food\, crafts and more–to our weekly Farmer’s Market! \n  \n  \nBeginning June 6th 2025\, through October 1st \nEvery Wednesday from 11AM – 4PM @ 33 Washington St. \n  \n  \nExciting smells and aromas\, gifts and charms of all sorts are just waiting to be found at this years’ Farmer’s Market. \nStay tuned: \nFollow our Facebook and Instagram for updates and info. \n 
URL:https://downtowntomsriver.com/event/farmers-market-2025/2025-09-17/
LOCATION:Farmer’s Market\, 33 Washington St.\, Toms River\, 08753\, United States
CATEGORIES:Arts & Cluture,Arts & Crafts,Downtown Toms River Events,Entertainment
ATTACH;FMTTYPE=image/png:https://downtowntomsriver.com/wp-content/uploads/2025/04/Farmers-Market-2025-.png
ORGANIZER;CN="Downtown Toms River BID":MAILTO:info@downtowntomsriver.com
END:VEVENT
BEGIN:VEVENT
DTSTART;TZID=America/New_York:20250917T183000
DTEND;TZID=America/New_York:20250917T200000
DTSTAMP:20260423T154410
CREATED:20250807T180053Z
LAST-MODIFIED:20250807T180053Z
UID:10005555-1758133800-1758139200@downtowntomsriver.com
SUMMARY:OCL's 100th Anniversary Concert: Fred Lehotay and the Ragtimers
DESCRIPTION:In celebration of OCL’s 100th Anniversary\, enjoy music from the roaring 20s with Fred Lehotay and the Ragtimers. This popular quartet’s music is upbeat and timeless. \nThis program is sponsored by the Friends of the Ocean County Library – Toms River.
URL:https://downtowntomsriver.com/event/ocls-100th-anniversary-concert-fred-lehotay-and-the-ragtimers/
LOCATION:The Ocean County Library\, 101 Washington St\, Toms River\, NJ\, 08753\, United States
CATEGORIES:Entertainment
ORGANIZER;CN="The Ocean County Library":MAILTO:programs@theoceancountylibrary.org
END:VEVENT
BEGIN:VEVENT
DTSTART;TZID=America/New_York:20250917T183000
DTEND;TZID=America/New_York:20250917T200000
DTSTAMP:20260423T154410
CREATED:20250818T195539Z
LAST-MODIFIED:20250818T195539Z
UID:10005564-1758133800-1758139200@downtowntomsriver.com
SUMMARY:Princess Tea with  Sleeping Beauty
DESCRIPTION:Bring your little princess to join the Princess Sleep for a special tea time at the Historic Mathis House Victorian Tea Room. The tea time includes an appearance from our Princess that will sing songs\, read a story and take pictures with your children.\nEnjoy warm scones with clotted cream and homemade cupcakes with cold and hot tea. The mansion is perfectly decorated and a place that brings smiles and memories.\nTickets are $20 for adults and $10 for children. Please call 732-818-7580 for more information or visit www.mathishouse600main.com to buy direct online.\nLocated at 600 Main Street in Downtown Toms River. Parking located directly behind the Inn. Please no early birds. Feel free to come dressed in your princess outfits and bring your camera.
URL:https://downtowntomsriver.com/event/princess-tea-with-sleeping-beauty/
LOCATION:The Mathis House at 600 Main\, 600 Main St.\, Toms River\, NJ\, 08753\, United States
CATEGORIES:Downtown Toms River Events,Entertainment,Kids
ATTACH;FMTTYPE=image/jpeg:https://downtowntomsriver.com/wp-content/uploads/2025/08/Princess-tea-with-sleeping-beauty.jpg
ORGANIZER;CN="WWW.mathishouse600main.com":MAILTO:vweiss@mathishouse600main.com
END:VEVENT
BEGIN:VEVENT
DTSTART;TZID=America/New_York:20250917T183000
DTEND;TZID=America/New_York:20250917T200000
DTSTAMP:20260423T154410
CREATED:20250826T191700Z
LAST-MODIFIED:20250826T191705Z
UID:10005602-1758133800-1758139200@downtowntomsriver.com
SUMMARY:100th Anniversary Concert: The Ragtimers @ Ocean County Library
DESCRIPTION:Celebrate 100 years of Ocean County Library with Fred Lehotay and the Ragtimers!
URL:https://downtowntomsriver.com/event/100th-anniversary-concert-the-ragtimers-ocean-county-library/
LOCATION:The Ocean County Library\, 101 Washington St\, Toms River\, NJ\, 08753\, United States
CATEGORIES:Arts & Cluture,Entertainment,Live Music,Ocean County Library,Other
ATTACH;FMTTYPE=image/png:https://downtowntomsriver.com/wp-content/uploads/2025/08/Lehotay-and-the-Ragtimers.png
ORGANIZER;CN="The Ocean County Library":MAILTO:programs@theoceancountylibrary.org
END:VEVENT
BEGIN:VEVENT
DTSTART;TZID=America/New_York:20250919T190000
DTEND;TZID=America/New_York:20250919T213000
DTSTAMP:20260423T154410
CREATED:20250818T170308Z
LAST-MODIFIED:20250818T170308Z
UID:10005565-1758308400-1758317400@downtowntomsriver.com
SUMMARY:Filipino Dinner and Karaoke Contest
DESCRIPTION:The Mathis House is bringing a touch of culture and authentic Filipino Cuisine to Toms River.\nPlease join us at the Mathis House for a wonderful meal of authentic Filipino dishes.\nThe menu includes:Aroz Caldo which is chicken soup with rice and gingerPork BBQ KabobsBeef LumpiaShrimp PacitFried Garlic RiceVegetable Stir FryAdobo chickenHomemade Ube which is a purple yam cakeLeche Flan\nPlease join us at the Mathis House for a wonderful meal of authentic Filipino dishes.\nTickets are $42 a person excluding tax and gratuity.Children 12 and under $20 and Kids five and under free with an adult\nLive DJ Kareoke Contest and DancingCoffee\, tea\, soda\, and your own provided.\n\nPlease call 732-818-7580 to make reservations or visit eventbrite to purchase online.
URL:https://downtowntomsriver.com/event/filipino-dinner-and-karaoke-contest/
LOCATION:The Mathis House at 600 Main\, 600 Main St.\, Toms River\, NJ\, 08753\, United States
CATEGORIES:Downtown Toms River Events,Entertainment
ATTACH;FMTTYPE=image/jpeg:https://downtowntomsriver.com/wp-content/uploads/2025/08/filipino-night-w-karaoke.jpg
ORGANIZER;CN="WWW.mathishouse600main.com":MAILTO:vweiss@mathishouse600main.com
END:VEVENT
BEGIN:VEVENT
DTSTART;TZID=America/New_York:20250920T120000
DTEND;TZID=America/New_York:20250920T180000
DTSTAMP:20260423T154410
CREATED:20250416T194642Z
LAST-MODIFIED:20250416T195043Z
UID:10004229-1758369600-1758391200@downtowntomsriver.com
SUMMARY:Comfort Food Festival 2025
DESCRIPTION:One of biggest and most anticipated events of the season is coming back to Downtown Toms River! – \nSeptember 20th\, 2025 from 12PM to 6PM  \nWashington St. will be FULL of delicious food trucks\, food stands\, treats\, crafts and vendors of all sorts. Fun for the whole family! \nStay tuned: Follow our Facebook: www.facebook.com/downtowntomsrive \nInstagram: www.instagram.com/downtowntomsriver/ for updates and info. \n 
URL:https://downtowntomsriver.com/event/comfort-food-festival-2025/
LOCATION:Downtown Toms River\, Washington St\,.\, Toms River\, NJ\, 08753\, United States
CATEGORIES:Downtown Toms River Events,Entertainment,Kids
ATTACH;FMTTYPE=image/png:https://downtowntomsriver.com/wp-content/uploads/2025/04/COMFORT-FOOD-FEST-2025.png
ORGANIZER;CN="Downtown Toms River BID":MAILTO:info@downtowntomsriver.com
END:VEVENT
BEGIN:VEVENT
DTSTART;TZID=America/New_York:20250920T190000
DTEND;TZID=America/New_York:20250920T213000
DTSTAMP:20260423T154410
CREATED:20250818T141030Z
LAST-MODIFIED:20250818T141030Z
UID:10005566-1758394800-1758403800@downtowntomsriver.com
SUMMARY:Elvis Tribute Show at the Historic Mathis House
DESCRIPTION: ELVIS TRIBUTE DINNER SHOW at the Mathis House\, A Victorian Bed & Breakfast\n Date: September 20th Time: 7:00 PM Location: Mathis House\, Toms River\, NJ\n Elvis is in the building!Join us for an action-packed evening featuring our own Elvis Tribute Show starring Evan Mills as the King of Rock and Roll!\n Dinner Catered by Joe Leone’s of Point PleasantIncludes: Warm artisan bread Soup Seasonal salad Chicken Picatta Penne vodka Mixed vegetables peach cobbler with ice cream Coffee\, tea\, or gourmet iced tea\n TICKETS: $50/person(+ tax & gratuity)All tickets are pre-paid and include dinner & the show.Cancellation policy: Credit valid at the Mathis House for 2 years.\n Call 732-818-7580 to reserve! Purchase tickets online: [Eventbrite link]\n Dress to Impress in 50’s Attire!Best dressed wins a FREE overnight stay at the Mathis House!\n Overnight Package:Dinner\, the show & overnight stay for $249\, includes breakfast the next morning.\n Parties of 2 may be seated with another party of 2.
URL:https://downtowntomsriver.com/event/elvis-tribute-show-at-the-historic-mathis-house/
LOCATION:The Mathis House at 600 Main\, 600 Main St.\, Toms River\, NJ\, 08753\, United States
CATEGORIES:Downtown Toms River Events,Entertainment,Live Music
ATTACH;FMTTYPE=image/jpeg:https://downtowntomsriver.com/wp-content/uploads/2025/08/Elvis-Tribute-show.jpg
ORGANIZER;CN="WWW.mathishouse600main.com":MAILTO:vweiss@mathishouse600main.com
END:VEVENT
BEGIN:VEVENT
DTSTART;TZID=America/New_York:20250924T110000
DTEND;TZID=America/New_York:20250924T160000
DTSTAMP:20260423T154410
CREATED:20250416T144157Z
LAST-MODIFIED:20250416T144559Z
UID:10004223-1758711600-1758729600@downtowntomsriver.com
SUMMARY:Farmer's Market 2025
DESCRIPTION:Once again\, Toms River hosts artisans of food\, crafts and more–to our weekly Farmer’s Market! \n  \n  \nBeginning June 6th 2025\, through October 1st \nEvery Wednesday from 11AM – 4PM @ 33 Washington St. \n  \n  \nExciting smells and aromas\, gifts and charms of all sorts are just waiting to be found at this years’ Farmer’s Market. \nStay tuned: \nFollow our Facebook and Instagram for updates and info. \n 
URL:https://downtowntomsriver.com/event/farmers-market-2025/2025-09-24/
LOCATION:Farmer’s Market\, 33 Washington St.\, Toms River\, 08753\, United States
CATEGORIES:Arts & Cluture,Arts & Crafts,Downtown Toms River Events,Entertainment
ATTACH;FMTTYPE=image/png:https://downtowntomsriver.com/wp-content/uploads/2025/04/Farmers-Market-2025-.png
ORGANIZER;CN="Downtown Toms River BID":MAILTO:info@downtowntomsriver.com
END:VEVENT
BEGIN:VEVENT
DTSTART;TZID=America/New_York:20250929T170000
DTEND;TZID=America/New_York:20250929T210000
DTSTAMP:20260423T154410
CREATED:20250828T150516Z
LAST-MODIFIED:20250828T150516Z
UID:10005604-1759165200-1759179600@downtowntomsriver.com
SUMMARY:First Annual PBA Fall Fest
DESCRIPTION:Formerly known as Vest-A-Cop: \nJoin the Toms River PBA Monday September 29th at 5pm for the first annual Toms River PBA “Fall Fest” \nFor an awesome night of fun for the entire family. \nThere will be Police K-9 and ESU demonstrations\, raffles\, face-painting\, kids’ characters\, axe throwing\, dunk tanks\, food trucks\, ice cream\, a live radio broadcast and more! \nWe hope to see you there!
URL:https://downtowntomsriver.com/event/first-annual-pba-fall-fest/
LOCATION:Downtown Toms River\, Washington St\,.\, Toms River\, NJ\, 08753\, United States
CATEGORIES:Clubs & Organizations,Downtown Toms River Events,Entertainment,Fundraising,Other
ATTACH;FMTTYPE=image/jpeg:https://downtowntomsriver.com/wp-content/uploads/2025/08/Vest-A-Cop.jpg
ORGANIZER;CN="Toms River PBA":MAILTO:trpba137@gmail.com
END:VEVENT
END:VCALENDAR