BEGIN:VCALENDAR
VERSION:2.0
PRODID:-// - ECPv6.15.15//NONSGML v1.0//EN
CALSCALE:GREGORIAN
METHOD:PUBLISH
X-ORIGINAL-URL:https://downtowntomsriver.com
X-WR-CALDESC:Events for 
REFRESH-INTERVAL;VALUE=DURATION:PT1H
X-Robots-Tag:noindex
X-PUBLISHED-TTL:PT1H
BEGIN:VTIMEZONE
TZID:America/New_York
BEGIN:DAYLIGHT
TZOFFSETFROM:-0500
TZOFFSETTO:-0400
TZNAME:EDT
DTSTART:20240310T070000
END:DAYLIGHT
BEGIN:STANDARD
TZOFFSETFROM:-0400
TZOFFSETTO:-0500
TZNAME:EST
DTSTART:20241103T060000
END:STANDARD
BEGIN:DAYLIGHT
TZOFFSETFROM:-0500
TZOFFSETTO:-0400
TZNAME:EDT
DTSTART:20250309T070000
END:DAYLIGHT
BEGIN:STANDARD
TZOFFSETFROM:-0400
TZOFFSETTO:-0500
TZNAME:EST
DTSTART:20251102T060000
END:STANDARD
BEGIN:DAYLIGHT
TZOFFSETFROM:-0500
TZOFFSETTO:-0400
TZNAME:EDT
DTSTART:20260308T070000
END:DAYLIGHT
BEGIN:STANDARD
TZOFFSETFROM:-0400
TZOFFSETTO:-0500
TZNAME:EST
DTSTART:20261101T060000
END:STANDARD
END:VTIMEZONE
BEGIN:VEVENT
DTSTART;TZID=America/New_York:20250601T110000
DTEND;TZID=America/New_York:20250601T150000
DTSTAMP:20260423T202136
CREATED:20250529T194349Z
LAST-MODIFIED:20250529T195718Z
UID:10005486-1748775600-1748790000@downtowntomsriver.com
SUMMARY:Summer Afternoon Victorian Teatime @ The Mathis House
DESCRIPTION:Enjoy a five-course Summer Victorian Afternoon Teatime experience with a seasonal salad\, a cup of soup\, a warm scone with clotted cream\, lemon curd\, and preserves\, with a variety of tea sandwiches and a plate of desserts.  Your teatime will include a pot of gourmet tea with over 90 varieties to choose from. Call 732-818-7580 to make your reservation or book on RESY \nCelebrate your special occasion at the beautiful Mathis House! \n  \nBeginning June 1st – August 31st: MULTIPLE SEATING TIMES: Tues-Friday Seatings @ 11am/12pm/1pm/2pm | Saturday and Sunday Seatings @ 11am or 3pm
URL:https://downtowntomsriver.com/event/summer-afternoon-victorian-teatime-the-mathis-house/2025-06-01/
LOCATION:The Mathis House at 600 Main\, 600 Main St.\, Toms River\, NJ\, 08753\, United States
CATEGORIES:Arts & Cluture,Business Events,Dining,Entertainment,Other
ATTACH;FMTTYPE=image/jpeg:https://downtowntomsriver.com/wp-content/uploads/2025/05/Summer-Tea-2925.jpg
END:VEVENT
BEGIN:VEVENT
DTSTART;TZID=America/New_York:20250603T110000
DTEND;TZID=America/New_York:20250603T150000
DTSTAMP:20260423T202136
CREATED:20250529T194349Z
LAST-MODIFIED:20250529T195718Z
UID:10005487-1748948400-1748962800@downtowntomsriver.com
SUMMARY:Summer Afternoon Victorian Teatime @ The Mathis House
DESCRIPTION:Enjoy a five-course Summer Victorian Afternoon Teatime experience with a seasonal salad\, a cup of soup\, a warm scone with clotted cream\, lemon curd\, and preserves\, with a variety of tea sandwiches and a plate of desserts.  Your teatime will include a pot of gourmet tea with over 90 varieties to choose from. Call 732-818-7580 to make your reservation or book on RESY \nCelebrate your special occasion at the beautiful Mathis House! \n  \nBeginning June 1st – August 31st: MULTIPLE SEATING TIMES: Tues-Friday Seatings @ 11am/12pm/1pm/2pm | Saturday and Sunday Seatings @ 11am or 3pm
URL:https://downtowntomsriver.com/event/summer-afternoon-victorian-teatime-the-mathis-house/2025-06-03/
LOCATION:The Mathis House at 600 Main\, 600 Main St.\, Toms River\, NJ\, 08753\, United States
CATEGORIES:Arts & Cluture,Business Events,Dining,Entertainment,Other
ATTACH;FMTTYPE=image/jpeg:https://downtowntomsriver.com/wp-content/uploads/2025/05/Summer-Tea-2925.jpg
END:VEVENT
BEGIN:VEVENT
DTSTART;TZID=America/New_York:20250604T110000
DTEND;TZID=America/New_York:20250604T150000
DTSTAMP:20260423T202136
CREATED:20250529T194349Z
LAST-MODIFIED:20250529T195718Z
UID:10005488-1749034800-1749049200@downtowntomsriver.com
SUMMARY:Summer Afternoon Victorian Teatime @ The Mathis House
DESCRIPTION:Enjoy a five-course Summer Victorian Afternoon Teatime experience with a seasonal salad\, a cup of soup\, a warm scone with clotted cream\, lemon curd\, and preserves\, with a variety of tea sandwiches and a plate of desserts.  Your teatime will include a pot of gourmet tea with over 90 varieties to choose from. Call 732-818-7580 to make your reservation or book on RESY \nCelebrate your special occasion at the beautiful Mathis House! \n  \nBeginning June 1st – August 31st: MULTIPLE SEATING TIMES: Tues-Friday Seatings @ 11am/12pm/1pm/2pm | Saturday and Sunday Seatings @ 11am or 3pm
URL:https://downtowntomsriver.com/event/summer-afternoon-victorian-teatime-the-mathis-house/2025-06-04/
LOCATION:The Mathis House at 600 Main\, 600 Main St.\, Toms River\, NJ\, 08753\, United States
CATEGORIES:Arts & Cluture,Business Events,Dining,Entertainment,Other
ATTACH;FMTTYPE=image/jpeg:https://downtowntomsriver.com/wp-content/uploads/2025/05/Summer-Tea-2925.jpg
END:VEVENT
BEGIN:VEVENT
DTSTART;TZID=America/New_York:20250605T110000
DTEND;TZID=America/New_York:20250605T150000
DTSTAMP:20260423T202136
CREATED:20250529T194349Z
LAST-MODIFIED:20250529T195718Z
UID:10005489-1749121200-1749135600@downtowntomsriver.com
SUMMARY:Summer Afternoon Victorian Teatime @ The Mathis House
DESCRIPTION:Enjoy a five-course Summer Victorian Afternoon Teatime experience with a seasonal salad\, a cup of soup\, a warm scone with clotted cream\, lemon curd\, and preserves\, with a variety of tea sandwiches and a plate of desserts.  Your teatime will include a pot of gourmet tea with over 90 varieties to choose from. Call 732-818-7580 to make your reservation or book on RESY \nCelebrate your special occasion at the beautiful Mathis House! \n  \nBeginning June 1st – August 31st: MULTIPLE SEATING TIMES: Tues-Friday Seatings @ 11am/12pm/1pm/2pm | Saturday and Sunday Seatings @ 11am or 3pm
URL:https://downtowntomsriver.com/event/summer-afternoon-victorian-teatime-the-mathis-house/2025-06-05/
LOCATION:The Mathis House at 600 Main\, 600 Main St.\, Toms River\, NJ\, 08753\, United States
CATEGORIES:Arts & Cluture,Business Events,Dining,Entertainment,Other
ATTACH;FMTTYPE=image/jpeg:https://downtowntomsriver.com/wp-content/uploads/2025/05/Summer-Tea-2925.jpg
END:VEVENT
BEGIN:VEVENT
DTSTART;TZID=America/New_York:20250606T110000
DTEND;TZID=America/New_York:20250606T150000
DTSTAMP:20260423T202136
CREATED:20250529T194349Z
LAST-MODIFIED:20250529T195718Z
UID:10005490-1749207600-1749222000@downtowntomsriver.com
SUMMARY:Summer Afternoon Victorian Teatime @ The Mathis House
DESCRIPTION:Enjoy a five-course Summer Victorian Afternoon Teatime experience with a seasonal salad\, a cup of soup\, a warm scone with clotted cream\, lemon curd\, and preserves\, with a variety of tea sandwiches and a plate of desserts.  Your teatime will include a pot of gourmet tea with over 90 varieties to choose from. Call 732-818-7580 to make your reservation or book on RESY \nCelebrate your special occasion at the beautiful Mathis House! \n  \nBeginning June 1st – August 31st: MULTIPLE SEATING TIMES: Tues-Friday Seatings @ 11am/12pm/1pm/2pm | Saturday and Sunday Seatings @ 11am or 3pm
URL:https://downtowntomsriver.com/event/summer-afternoon-victorian-teatime-the-mathis-house/2025-06-06/
LOCATION:The Mathis House at 600 Main\, 600 Main St.\, Toms River\, NJ\, 08753\, United States
CATEGORIES:Arts & Cluture,Business Events,Dining,Entertainment,Other
ATTACH;FMTTYPE=image/jpeg:https://downtowntomsriver.com/wp-content/uploads/2025/05/Summer-Tea-2925.jpg
END:VEVENT
BEGIN:VEVENT
DTSTART;TZID=America/New_York:20250607T110000
DTEND;TZID=America/New_York:20250607T150000
DTSTAMP:20260423T202136
CREATED:20250529T194349Z
LAST-MODIFIED:20250529T195718Z
UID:10005491-1749294000-1749308400@downtowntomsriver.com
SUMMARY:Summer Afternoon Victorian Teatime @ The Mathis House
DESCRIPTION:Enjoy a five-course Summer Victorian Afternoon Teatime experience with a seasonal salad\, a cup of soup\, a warm scone with clotted cream\, lemon curd\, and preserves\, with a variety of tea sandwiches and a plate of desserts.  Your teatime will include a pot of gourmet tea with over 90 varieties to choose from. Call 732-818-7580 to make your reservation or book on RESY \nCelebrate your special occasion at the beautiful Mathis House! \n  \nBeginning June 1st – August 31st: MULTIPLE SEATING TIMES: Tues-Friday Seatings @ 11am/12pm/1pm/2pm | Saturday and Sunday Seatings @ 11am or 3pm
URL:https://downtowntomsriver.com/event/summer-afternoon-victorian-teatime-the-mathis-house/2025-06-07/
LOCATION:The Mathis House at 600 Main\, 600 Main St.\, Toms River\, NJ\, 08753\, United States
CATEGORIES:Arts & Cluture,Business Events,Dining,Entertainment,Other
ATTACH;FMTTYPE=image/jpeg:https://downtowntomsriver.com/wp-content/uploads/2025/05/Summer-Tea-2925.jpg
END:VEVENT
BEGIN:VEVENT
DTSTART;TZID=America/New_York:20250608T110000
DTEND;TZID=America/New_York:20250608T150000
DTSTAMP:20260423T202136
CREATED:20250529T194349Z
LAST-MODIFIED:20250529T195718Z
UID:10005492-1749380400-1749394800@downtowntomsriver.com
SUMMARY:Summer Afternoon Victorian Teatime @ The Mathis House
DESCRIPTION:Enjoy a five-course Summer Victorian Afternoon Teatime experience with a seasonal salad\, a cup of soup\, a warm scone with clotted cream\, lemon curd\, and preserves\, with a variety of tea sandwiches and a plate of desserts.  Your teatime will include a pot of gourmet tea with over 90 varieties to choose from. Call 732-818-7580 to make your reservation or book on RESY \nCelebrate your special occasion at the beautiful Mathis House! \n  \nBeginning June 1st – August 31st: MULTIPLE SEATING TIMES: Tues-Friday Seatings @ 11am/12pm/1pm/2pm | Saturday and Sunday Seatings @ 11am or 3pm
URL:https://downtowntomsriver.com/event/summer-afternoon-victorian-teatime-the-mathis-house/2025-06-08/
LOCATION:The Mathis House at 600 Main\, 600 Main St.\, Toms River\, NJ\, 08753\, United States
CATEGORIES:Arts & Cluture,Business Events,Dining,Entertainment,Other
ATTACH;FMTTYPE=image/jpeg:https://downtowntomsriver.com/wp-content/uploads/2025/05/Summer-Tea-2925.jpg
END:VEVENT
BEGIN:VEVENT
DTSTART;TZID=America/New_York:20250608T120000
DTEND;TZID=America/New_York:20250608T150000
DTSTAMP:20260423T202136
CREATED:20250529T182244Z
LAST-MODIFIED:20250529T182244Z
UID:10004317-1749384000-1749394800@downtowntomsriver.com
SUMMARY:Boozy Bingo
DESCRIPTION:June 8th \n12:00 PM to 3:00 PM \nGarden State Distillery\n13 Washington Street\nToms River\, NJ  08753 \nCome and support Ocean County Artists Guild and have a fun afternoon playing BINGO.  Your ticket includes entry to event\, 1 drink ticket\, bingo board and unlimited entertainment with the one and only Luanne!  Bring food and your sense of adventure because you never know who will win or what the prize will be. \n50/50’s will be sold at $10/ticket and additional Bingo Boards can be purchased onsite for $5.00/board. \nThis funds from this fundraiser will be used for the historic preservation of our Victorian Lady.
URL:https://downtowntomsriver.com/event/boozy-bingo/
LOCATION:Garden State Distillery\, 13 Washington Street\, Toms River\, 08753\, United States
CATEGORIES:Arts & Crafts,Clubs & Organizations,Downtown Toms River Events,Entertainment
ORGANIZER;CN="Ocean County Artists Guild":MAILTO:info@ocartistsguild.org
END:VEVENT
BEGIN:VEVENT
DTSTART;TZID=America/New_York:20250610T110000
DTEND;TZID=America/New_York:20250610T150000
DTSTAMP:20260423T202136
CREATED:20250529T194349Z
LAST-MODIFIED:20250529T195718Z
UID:10005493-1749553200-1749567600@downtowntomsriver.com
SUMMARY:Summer Afternoon Victorian Teatime @ The Mathis House
DESCRIPTION:Enjoy a five-course Summer Victorian Afternoon Teatime experience with a seasonal salad\, a cup of soup\, a warm scone with clotted cream\, lemon curd\, and preserves\, with a variety of tea sandwiches and a plate of desserts.  Your teatime will include a pot of gourmet tea with over 90 varieties to choose from. Call 732-818-7580 to make your reservation or book on RESY \nCelebrate your special occasion at the beautiful Mathis House! \n  \nBeginning June 1st – August 31st: MULTIPLE SEATING TIMES: Tues-Friday Seatings @ 11am/12pm/1pm/2pm | Saturday and Sunday Seatings @ 11am or 3pm
URL:https://downtowntomsriver.com/event/summer-afternoon-victorian-teatime-the-mathis-house/2025-06-10/
LOCATION:The Mathis House at 600 Main\, 600 Main St.\, Toms River\, NJ\, 08753\, United States
CATEGORIES:Arts & Cluture,Business Events,Dining,Entertainment,Other
ATTACH;FMTTYPE=image/jpeg:https://downtowntomsriver.com/wp-content/uploads/2025/05/Summer-Tea-2925.jpg
END:VEVENT
BEGIN:VEVENT
DTSTART;TZID=America/New_York:20250611T110000
DTEND;TZID=America/New_York:20250611T150000
DTSTAMP:20260423T202136
CREATED:20250529T194349Z
LAST-MODIFIED:20250529T195718Z
UID:10005494-1749639600-1749654000@downtowntomsriver.com
SUMMARY:Summer Afternoon Victorian Teatime @ The Mathis House
DESCRIPTION:Enjoy a five-course Summer Victorian Afternoon Teatime experience with a seasonal salad\, a cup of soup\, a warm scone with clotted cream\, lemon curd\, and preserves\, with a variety of tea sandwiches and a plate of desserts.  Your teatime will include a pot of gourmet tea with over 90 varieties to choose from. Call 732-818-7580 to make your reservation or book on RESY \nCelebrate your special occasion at the beautiful Mathis House! \n  \nBeginning June 1st – August 31st: MULTIPLE SEATING TIMES: Tues-Friday Seatings @ 11am/12pm/1pm/2pm | Saturday and Sunday Seatings @ 11am or 3pm
URL:https://downtowntomsriver.com/event/summer-afternoon-victorian-teatime-the-mathis-house/2025-06-11/
LOCATION:The Mathis House at 600 Main\, 600 Main St.\, Toms River\, NJ\, 08753\, United States
CATEGORIES:Arts & Cluture,Business Events,Dining,Entertainment,Other
ATTACH;FMTTYPE=image/jpeg:https://downtowntomsriver.com/wp-content/uploads/2025/05/Summer-Tea-2925.jpg
END:VEVENT
BEGIN:VEVENT
DTSTART;TZID=America/New_York:20250611T110000
DTEND;TZID=America/New_York:20250611T160000
DTSTAMP:20260423T202136
CREATED:20250416T144157Z
LAST-MODIFIED:20250416T144559Z
UID:10004208-1749639600-1749657600@downtowntomsriver.com
SUMMARY:Farmer's Market 2025
DESCRIPTION:Once again\, Toms River hosts artisans of food\, crafts and more–to our weekly Farmer’s Market! \n  \n  \nBeginning June 6th 2025\, through October 1st \nEvery Wednesday from 11AM – 4PM @ 33 Washington St. \n  \n  \nExciting smells and aromas\, gifts and charms of all sorts are just waiting to be found at this years’ Farmer’s Market. \nStay tuned: \nFollow our Facebook and Instagram for updates and info. \n 
URL:https://downtowntomsriver.com/event/farmers-market-2025/2025-06-11/
LOCATION:Farmer’s Market\, 33 Washington St.\, Toms River\, 08753\, United States
CATEGORIES:Arts & Cluture,Arts & Crafts,Downtown Toms River Events,Entertainment
ATTACH;FMTTYPE=image/png:https://downtowntomsriver.com/wp-content/uploads/2025/04/Farmers-Market-2025-.png
ORGANIZER;CN="Downtown Toms River BID":MAILTO:info@downtowntomsriver.com
END:VEVENT
BEGIN:VEVENT
DTSTART;TZID=America/New_York:20250611T180000
DTEND;TZID=America/New_York:20250611T210000
DTSTAMP:20260423T202136
CREATED:20250520T142507Z
LAST-MODIFIED:20250605T165746Z
UID:10004313-1749664800-1749675600@downtowntomsriver.com
SUMMARY:Cruisin' Downtown 2025 : Car Show
DESCRIPTION:Join us Downtown for all the classics–Cars\, food\, brews\, friends and music!  We can’t wait to see you there! \n 
URL:https://downtowntomsriver.com/event/cruisin-downtown-2025/2025-06-11/
LOCATION:NJ
CATEGORIES:Clubs & Organizations,Downtown Toms River Events,Entertainment,Other
ATTACH;FMTTYPE=image/png:https://downtowntomsriver.com/wp-content/uploads/2025/05/Car-Show-2025.png
END:VEVENT
BEGIN:VEVENT
DTSTART;TZID=America/New_York:20250612T110000
DTEND;TZID=America/New_York:20250612T150000
DTSTAMP:20260423T202136
CREATED:20250529T194349Z
LAST-MODIFIED:20250529T195718Z
UID:10005495-1749726000-1749740400@downtowntomsriver.com
SUMMARY:Summer Afternoon Victorian Teatime @ The Mathis House
DESCRIPTION:Enjoy a five-course Summer Victorian Afternoon Teatime experience with a seasonal salad\, a cup of soup\, a warm scone with clotted cream\, lemon curd\, and preserves\, with a variety of tea sandwiches and a plate of desserts.  Your teatime will include a pot of gourmet tea with over 90 varieties to choose from. Call 732-818-7580 to make your reservation or book on RESY \nCelebrate your special occasion at the beautiful Mathis House! \n  \nBeginning June 1st – August 31st: MULTIPLE SEATING TIMES: Tues-Friday Seatings @ 11am/12pm/1pm/2pm | Saturday and Sunday Seatings @ 11am or 3pm
URL:https://downtowntomsriver.com/event/summer-afternoon-victorian-teatime-the-mathis-house/2025-06-12/
LOCATION:The Mathis House at 600 Main\, 600 Main St.\, Toms River\, NJ\, 08753\, United States
CATEGORIES:Arts & Cluture,Business Events,Dining,Entertainment,Other
ATTACH;FMTTYPE=image/jpeg:https://downtowntomsriver.com/wp-content/uploads/2025/05/Summer-Tea-2925.jpg
END:VEVENT
BEGIN:VEVENT
DTSTART;TZID=America/New_York:20250613T110000
DTEND;TZID=America/New_York:20250613T150000
DTSTAMP:20260423T202136
CREATED:20250529T194349Z
LAST-MODIFIED:20250529T195718Z
UID:10005496-1749812400-1749826800@downtowntomsriver.com
SUMMARY:Summer Afternoon Victorian Teatime @ The Mathis House
DESCRIPTION:Enjoy a five-course Summer Victorian Afternoon Teatime experience with a seasonal salad\, a cup of soup\, a warm scone with clotted cream\, lemon curd\, and preserves\, with a variety of tea sandwiches and a plate of desserts.  Your teatime will include a pot of gourmet tea with over 90 varieties to choose from. Call 732-818-7580 to make your reservation or book on RESY \nCelebrate your special occasion at the beautiful Mathis House! \n  \nBeginning June 1st – August 31st: MULTIPLE SEATING TIMES: Tues-Friday Seatings @ 11am/12pm/1pm/2pm | Saturday and Sunday Seatings @ 11am or 3pm
URL:https://downtowntomsriver.com/event/summer-afternoon-victorian-teatime-the-mathis-house/2025-06-13/
LOCATION:The Mathis House at 600 Main\, 600 Main St.\, Toms River\, NJ\, 08753\, United States
CATEGORIES:Arts & Cluture,Business Events,Dining,Entertainment,Other
ATTACH;FMTTYPE=image/jpeg:https://downtowntomsriver.com/wp-content/uploads/2025/05/Summer-Tea-2925.jpg
END:VEVENT
BEGIN:VEVENT
DTSTART;TZID=America/New_York:20250614T110000
DTEND;TZID=America/New_York:20250614T150000
DTSTAMP:20260423T202136
CREATED:20250529T194349Z
LAST-MODIFIED:20250529T195718Z
UID:10005497-1749898800-1749913200@downtowntomsriver.com
SUMMARY:Summer Afternoon Victorian Teatime @ The Mathis House
DESCRIPTION:Enjoy a five-course Summer Victorian Afternoon Teatime experience with a seasonal salad\, a cup of soup\, a warm scone with clotted cream\, lemon curd\, and preserves\, with a variety of tea sandwiches and a plate of desserts.  Your teatime will include a pot of gourmet tea with over 90 varieties to choose from. Call 732-818-7580 to make your reservation or book on RESY \nCelebrate your special occasion at the beautiful Mathis House! \n  \nBeginning June 1st – August 31st: MULTIPLE SEATING TIMES: Tues-Friday Seatings @ 11am/12pm/1pm/2pm | Saturday and Sunday Seatings @ 11am or 3pm
URL:https://downtowntomsriver.com/event/summer-afternoon-victorian-teatime-the-mathis-house/2025-06-14/
LOCATION:The Mathis House at 600 Main\, 600 Main St.\, Toms River\, NJ\, 08753\, United States
CATEGORIES:Arts & Cluture,Business Events,Dining,Entertainment,Other
ATTACH;FMTTYPE=image/jpeg:https://downtowntomsriver.com/wp-content/uploads/2025/05/Summer-Tea-2925.jpg
END:VEVENT
BEGIN:VEVENT
DTSTART;TZID=America/New_York:20250615T110000
DTEND;TZID=America/New_York:20250615T150000
DTSTAMP:20260423T202136
CREATED:20250529T194349Z
LAST-MODIFIED:20250529T195718Z
UID:10005498-1749985200-1749999600@downtowntomsriver.com
SUMMARY:Summer Afternoon Victorian Teatime @ The Mathis House
DESCRIPTION:Enjoy a five-course Summer Victorian Afternoon Teatime experience with a seasonal salad\, a cup of soup\, a warm scone with clotted cream\, lemon curd\, and preserves\, with a variety of tea sandwiches and a plate of desserts.  Your teatime will include a pot of gourmet tea with over 90 varieties to choose from. Call 732-818-7580 to make your reservation or book on RESY \nCelebrate your special occasion at the beautiful Mathis House! \n  \nBeginning June 1st – August 31st: MULTIPLE SEATING TIMES: Tues-Friday Seatings @ 11am/12pm/1pm/2pm | Saturday and Sunday Seatings @ 11am or 3pm
URL:https://downtowntomsriver.com/event/summer-afternoon-victorian-teatime-the-mathis-house/2025-06-15/
LOCATION:The Mathis House at 600 Main\, 600 Main St.\, Toms River\, NJ\, 08753\, United States
CATEGORIES:Arts & Cluture,Business Events,Dining,Entertainment,Other
ATTACH;FMTTYPE=image/jpeg:https://downtowntomsriver.com/wp-content/uploads/2025/05/Summer-Tea-2925.jpg
END:VEVENT
BEGIN:VEVENT
DTSTART;TZID=America/New_York:20250617T110000
DTEND;TZID=America/New_York:20250617T150000
DTSTAMP:20260423T202136
CREATED:20250529T194349Z
LAST-MODIFIED:20250529T195718Z
UID:10005499-1750158000-1750172400@downtowntomsriver.com
SUMMARY:Summer Afternoon Victorian Teatime @ The Mathis House
DESCRIPTION:Enjoy a five-course Summer Victorian Afternoon Teatime experience with a seasonal salad\, a cup of soup\, a warm scone with clotted cream\, lemon curd\, and preserves\, with a variety of tea sandwiches and a plate of desserts.  Your teatime will include a pot of gourmet tea with over 90 varieties to choose from. Call 732-818-7580 to make your reservation or book on RESY \nCelebrate your special occasion at the beautiful Mathis House! \n  \nBeginning June 1st – August 31st: MULTIPLE SEATING TIMES: Tues-Friday Seatings @ 11am/12pm/1pm/2pm | Saturday and Sunday Seatings @ 11am or 3pm
URL:https://downtowntomsriver.com/event/summer-afternoon-victorian-teatime-the-mathis-house/2025-06-17/
LOCATION:The Mathis House at 600 Main\, 600 Main St.\, Toms River\, NJ\, 08753\, United States
CATEGORIES:Arts & Cluture,Business Events,Dining,Entertainment,Other
ATTACH;FMTTYPE=image/jpeg:https://downtowntomsriver.com/wp-content/uploads/2025/05/Summer-Tea-2925.jpg
END:VEVENT
BEGIN:VEVENT
DTSTART;TZID=America/New_York:20250618T110000
DTEND;TZID=America/New_York:20250618T160000
DTSTAMP:20260423T202136
CREATED:20250416T144157Z
LAST-MODIFIED:20250416T144559Z
UID:10004209-1750244400-1750262400@downtowntomsriver.com
SUMMARY:Farmer's Market 2025
DESCRIPTION:Once again\, Toms River hosts artisans of food\, crafts and more–to our weekly Farmer’s Market! \n  \n  \nBeginning June 6th 2025\, through October 1st \nEvery Wednesday from 11AM – 4PM @ 33 Washington St. \n  \n  \nExciting smells and aromas\, gifts and charms of all sorts are just waiting to be found at this years’ Farmer’s Market. \nStay tuned: \nFollow our Facebook and Instagram for updates and info. \n 
URL:https://downtowntomsriver.com/event/farmers-market-2025/2025-06-18/
LOCATION:Farmer’s Market\, 33 Washington St.\, Toms River\, 08753\, United States
CATEGORIES:Arts & Cluture,Arts & Crafts,Downtown Toms River Events,Entertainment
ATTACH;FMTTYPE=image/png:https://downtowntomsriver.com/wp-content/uploads/2025/04/Farmers-Market-2025-.png
ORGANIZER;CN="Downtown Toms River BID":MAILTO:info@downtowntomsriver.com
END:VEVENT
BEGIN:VEVENT
DTSTART;TZID=America/New_York:20250625T110000
DTEND;TZID=America/New_York:20250625T160000
DTSTAMP:20260423T202136
CREATED:20250416T144157Z
LAST-MODIFIED:20250416T144559Z
UID:10004210-1750849200-1750867200@downtowntomsriver.com
SUMMARY:Farmer's Market 2025
DESCRIPTION:Once again\, Toms River hosts artisans of food\, crafts and more–to our weekly Farmer’s Market! \n  \n  \nBeginning June 6th 2025\, through October 1st \nEvery Wednesday from 11AM – 4PM @ 33 Washington St. \n  \n  \nExciting smells and aromas\, gifts and charms of all sorts are just waiting to be found at this years’ Farmer’s Market. \nStay tuned: \nFollow our Facebook and Instagram for updates and info. \n 
URL:https://downtowntomsriver.com/event/farmers-market-2025/2025-06-25/
LOCATION:Farmer’s Market\, 33 Washington St.\, Toms River\, 08753\, United States
CATEGORIES:Arts & Cluture,Arts & Crafts,Downtown Toms River Events,Entertainment
ATTACH;FMTTYPE=image/png:https://downtowntomsriver.com/wp-content/uploads/2025/04/Farmers-Market-2025-.png
ORGANIZER;CN="Downtown Toms River BID":MAILTO:info@downtowntomsriver.com
END:VEVENT
BEGIN:VEVENT
DTSTART;TZID=America/New_York:20250625T183000
DTEND;TZID=America/New_York:20250625T200000
DTSTAMP:20260423T202136
CREATED:20250519T141412Z
LAST-MODIFIED:20250519T141412Z
UID:10004288-1750876200-1750881600@downtowntomsriver.com
SUMMARY:Concert with RB Express
DESCRIPTION:Come hear the tight harmonies and rhythms of the RB Express. \n\n\n\n\n\n\nThe RB Express is a four-person vocal group that showcases tight harmonies and rhythms of street corner groups from yesterday. They play a blend of musical favorites and deliver a dynamic performance that includes audience interaction.
URL:https://downtowntomsriver.com/event/concert-with-rb-express/
LOCATION:The Ocean County Library\, 101 Washington St\, Toms River\, NJ\, 08753\, United States
CATEGORIES:Entertainment
ORGANIZER;CN="The Ocean County Library":MAILTO:programs@theoceancountylibrary.org
END:VEVENT
BEGIN:VEVENT
DTSTART;TZID=America/New_York:20250626T080000
DTEND;TZID=America/New_York:20250626T170000
DTSTAMP:20260423T202136
CREATED:20250606T132821Z
LAST-MODIFIED:20250606T132821Z
UID:10005508-1750924800-1750957200@downtowntomsriver.com
SUMMARY:Spritzes & Sweets: Cake Decorating Workshop
DESCRIPTION:Get ready for the sweetest Summer soirée in downtown Toms River! Two of your favorite small businesses are teaming up to bring you an Aperol Spritz themed cake decorating class! \nHere’s what’s included:\n– A pre-iced 6-inch cake (your blank canvas!)\n– Buttercream piping tips & tricks taught by @coastalconfectionsnj (no experience needed)\n– Aperol Spritz-inspired colors & decor (think real florals\, sprinkles\, ribbon & more!)\n– A savory focaccia grazing table (yes\, please)\n– A cake to-go box because your cake serves up to 8-10 people (or just you\, we definitely don’t judge)\n– Complimentary spritzes to sip on while you decorate \nTickets must be purchased in advance to attend. Spots are limited – so grab yours today!\nLet’s make it a sweet Summer night to remember.
URL:https://downtowntomsriver.com/event/spritzes-sweets-cake-decorating-workshop/
LOCATION:Gifted on Washington\, 16 Washington St\, Toms River\, NJ\, 08753-8709\, United States
CATEGORIES:Arts & Crafts,Classes,Entertainment,Other,Sweets and Treats
ATTACH;FMTTYPE=image/png:https://downtowntomsriver.com/wp-content/uploads/2025/06/Gifted-on-Washington-626-Event-scaled.png
END:VEVENT
BEGIN:VEVENT
DTSTART;TZID=America/New_York:20250626T180000
DTEND;TZID=America/New_York:20250626T210000
DTSTAMP:20260423T202136
CREATED:20250529T182604Z
LAST-MODIFIED:20250604T173301Z
UID:10004316-1750960800-1750971600@downtowntomsriver.com
SUMMARY:A Need We Feed - Boozy Bingo
DESCRIPTION:🎉 You’re Invited: Bingo\, Booze & Big Prizes for a Great Cause! 🎉 \nGet ready for a night of fun\, laughter\, and giving back: With drinks\, Bingo\, prizes\, and so much more — all in support of our local community. | \n🎟️ Tickets: $40Your ticket includes: \n\n\nYour first drink 🍹 \n\n\nOne Bingo board to get in on the action \n\n\nThe warm feeling of giving back 💛 \n\n\n| All proceeds directly benefit local seniors\, Veterans\, children\, families\, and individuals experiencing homelessness. This is your chance to make a real difference while having a blast! \n| Don’t miss out — spots are limited and this event sells out fast! Get Tickets from website Link | \n\nGrab your tickets today and bring your friends — it’s Bingo for a cause!
URL:https://downtowntomsriver.com/event/a-need-we-feed-boozy-bingo/
LOCATION:Garden State Distillery\, 13 Washington Street\, Toms River\, 08753\, United States
CATEGORIES:Entertainment
ATTACH;FMTTYPE=image/jpeg:https://downtowntomsriver.com/wp-content/uploads/2025/05/Boozy-Bingo-Feed-the-Need.jpg
ORGANIZER;CN="A Need We Feed Inc.":MAILTO:info@aneedwefeed.org
END:VEVENT
BEGIN:VEVENT
DTSTART;TZID=America/New_York:20250628T140000
DTEND;TZID=America/New_York:20250628T153000
DTSTAMP:20260423T202136
CREATED:20250519T141145Z
LAST-MODIFIED:20250519T141145Z
UID:10004290-1751119200-1751124600@downtowntomsriver.com
SUMMARY:Concert with the New Jersey Gay Men's Chorus
DESCRIPTION:In honor of Pride Month\, the New Jersey Gay Men’s Chorus will perform a selection of well-known tunes and new songs.\nSponsored by the Friends of the Ocean County Library – Toms River.
URL:https://downtowntomsriver.com/event/concert-with-the-new-jersey-gay-mens-chorus-2/
LOCATION:The Ocean County Library\, 101 Washington St\, Toms River\, NJ\, 08753\, United States
CATEGORIES:Entertainment
ORGANIZER;CN="The Ocean County Library":MAILTO:programs@theoceancountylibrary.org
END:VEVENT
END:VCALENDAR