BEGIN:VCALENDAR
VERSION:2.0
PRODID:-// - ECPv6.15.15//NONSGML v1.0//EN
CALSCALE:GREGORIAN
METHOD:PUBLISH
X-ORIGINAL-URL:https://downtowntomsriver.com
X-WR-CALDESC:Events for 
REFRESH-INTERVAL;VALUE=DURATION:PT1H
X-Robots-Tag:noindex
X-PUBLISHED-TTL:PT1H
BEGIN:VTIMEZONE
TZID:America/New_York
BEGIN:DAYLIGHT
TZOFFSETFROM:-0500
TZOFFSETTO:-0400
TZNAME:EDT
DTSTART:20240310T070000
END:DAYLIGHT
BEGIN:STANDARD
TZOFFSETFROM:-0400
TZOFFSETTO:-0500
TZNAME:EST
DTSTART:20241103T060000
END:STANDARD
BEGIN:DAYLIGHT
TZOFFSETFROM:-0500
TZOFFSETTO:-0400
TZNAME:EDT
DTSTART:20250309T070000
END:DAYLIGHT
BEGIN:STANDARD
TZOFFSETFROM:-0400
TZOFFSETTO:-0500
TZNAME:EST
DTSTART:20251102T060000
END:STANDARD
BEGIN:DAYLIGHT
TZOFFSETFROM:-0500
TZOFFSETTO:-0400
TZNAME:EDT
DTSTART:20260308T070000
END:DAYLIGHT
BEGIN:STANDARD
TZOFFSETFROM:-0400
TZOFFSETTO:-0500
TZNAME:EST
DTSTART:20261101T060000
END:STANDARD
END:VTIMEZONE
BEGIN:VEVENT
DTSTART;TZID=America/New_York:20250503T180000
DTEND;TZID=America/New_York:20250503T200000
DTSTAMP:20260423T214621
CREATED:20250428T125606Z
LAST-MODIFIED:20250428T125606Z
UID:10004281-1746295200-1746302400@downtowntomsriver.com
SUMMARY:TRAC - Beacon Of Light: Tote Bag Painting Party
DESCRIPTION:Paint your own tote-bag at TRAC Art Gallery in Downtown Toms River – May 3\, 2025 6PM – 8PM – Saturday – \nSee flyer for more info
URL:https://downtowntomsriver.com/event/trac-beacon-of-light-tote-bag-painting-party/
LOCATION:TRAC GALLERY\, 40 Main St\, Right Side\, TOMS RIVER\, NJ\, 08753\, United States
CATEGORIES:Arts & Cluture,Arts & Crafts,Clubs & Organizations,Entertainment
ATTACH;FMTTYPE=image/jpeg:https://downtowntomsriver.com/wp-content/uploads/2025/04/TRAC-Jessica-Panza-May-3rd-Painting-Party.jpg
END:VEVENT
BEGIN:VEVENT
DTSTART;TZID=America/New_York:20250507T183000
DTEND;TZID=America/New_York:20250507T213000
DTSTAMP:20260423T214621
CREATED:20250428T130536Z
LAST-MODIFIED:20250428T132801Z
UID:10004282-1746642600-1746653400@downtowntomsriver.com
SUMMARY:Garden State Distillery - Paint N' Sip Party: Hosted by Jessica Panza
DESCRIPTION:Paint N’ Sip at Garden State Distillery: May 7th 2025 – 6:30PM  – \nMake your very own work of art. Food and drinks (Free drink included in the ticket price!) \nSee flyer for more details.
URL:https://downtowntomsriver.com/event/garden-state-distillery-paint-n-sip-party-hosted-by-jessica-panza/
LOCATION:Garden State Distillery\, 13 Washington Street\, Toms River\, 08753\, United States
CATEGORIES:Arts & Cluture,Arts & Crafts,Dining,Entertainment
ATTACH;FMTTYPE=image/jpeg:https://downtowntomsriver.com/wp-content/uploads/2025/04/Garden-State-Distillery-Jessica-Panza-May-7th-Paint-Party.jpg
END:VEVENT
BEGIN:VEVENT
DTSTART;TZID=America/New_York:20250530T190000
DTEND;TZID=America/New_York:20250530T220000
DTSTAMP:20260423T214621
CREATED:20250529T184401Z
LAST-MODIFIED:20250529T184401Z
UID:10004328-1748631600-1748642400@downtowntomsriver.com
SUMMARY:80's Night Murder Mystery Dinner Show
DESCRIPTION:Make sure you are dressed in the times for this 80’s Murder Mystery Dinner Party or someone may ask you to bag your head! Grab your most righteous ‘80s concert gear to rock out in style while you sing the night away with your friends. Jean jackets and spandex leggings\, big hair\, bangles\, leg warmers\, and ripped jeans will be all the rage at this rocking night of Murder Mystery fun. See you there!\nThe Dinner Service includes: Mini Charcuterie Cups as the appetizer\, main dish is Chicken Picatta\, a side of Penne Vodka\, sauteed vegetables\, a mixed green salad\, and warm bread with herb butter. Dessert for the evening is a variety of teatime desserts.\nTickets are $75 per person and $55 for Seniors 65 and up plus tax and gratuity.\nDinner includes tea or coffee and your own. This is a limited ticketed event. For more information or to make your reservation\, call 732-818-7580 or visit our website at www.mathishouse600main.com\nBuy your tickets on Eventbrite\, RESY or call 732-818-7580 for your pre-paid reservation.
URL:https://downtowntomsriver.com/event/80s-night-murder-mystery-dinner-show/
LOCATION:The Mathis House at 600 Main\, 600 Main St.\, Toms River\, NJ\, 08753\, United States
CATEGORIES:Dining,Entertainment
END:VEVENT
END:VCALENDAR