BEGIN:VCALENDAR
VERSION:2.0
PRODID:-// - ECPv6.15.15//NONSGML v1.0//EN
CALSCALE:GREGORIAN
METHOD:PUBLISH
X-ORIGINAL-URL:https://downtowntomsriver.com
X-WR-CALDESC:Events for 
REFRESH-INTERVAL;VALUE=DURATION:PT1H
X-Robots-Tag:noindex
X-PUBLISHED-TTL:PT1H
BEGIN:VTIMEZONE
TZID:America/New_York
BEGIN:DAYLIGHT
TZOFFSETFROM:-0500
TZOFFSETTO:-0400
TZNAME:EDT
DTSTART:20230312T070000
END:DAYLIGHT
BEGIN:STANDARD
TZOFFSETFROM:-0400
TZOFFSETTO:-0500
TZNAME:EST
DTSTART:20231105T060000
END:STANDARD
BEGIN:DAYLIGHT
TZOFFSETFROM:-0500
TZOFFSETTO:-0400
TZNAME:EDT
DTSTART:20240310T070000
END:DAYLIGHT
BEGIN:STANDARD
TZOFFSETFROM:-0400
TZOFFSETTO:-0500
TZNAME:EST
DTSTART:20241103T060000
END:STANDARD
BEGIN:DAYLIGHT
TZOFFSETFROM:-0500
TZOFFSETTO:-0400
TZNAME:EDT
DTSTART:20250309T070000
END:DAYLIGHT
BEGIN:STANDARD
TZOFFSETFROM:-0400
TZOFFSETTO:-0500
TZNAME:EST
DTSTART:20251102T060000
END:STANDARD
END:VTIMEZONE
BEGIN:VEVENT
DTSTART;TZID=America/New_York:20241016T183000
DTEND;TZID=America/New_York:20241016T200000
DTSTAMP:20260424T083156
CREATED:20240927T165340Z
LAST-MODIFIED:20240927T165340Z
UID:10003929-1729103400-1729108800@downtowntomsriver.com
SUMMARY:Performance by The Guild Theatreworks A Halloween Evening of Tricks and Treats
DESCRIPTION:This performance featuring horror\, humor and hauntings will make a ghoulish start to the Halloween season. \n\n\n\n\n\n\nFrom classic ghost stories\, Shakespeare’s witches\, contemporary poems\, and the wisdom of children on their own special holiday\, the show’s cast features many of the same actors who have shared delightful evenings with you in the past. \nThis event is sponsored by the Friends of the Ocean County Library – Toms River.
URL:https://downtowntomsriver.com/event/performance-by-the-guild-theatreworks-a-halloween-evening-of-tricks-and-treats/
LOCATION:The Ocean County Library\, 101 Washington St\, Toms River\, NJ\, 08753\, United States
CATEGORIES:Entertainment
ATTACH;FMTTYPE=image/jpeg:https://downtowntomsriver.com/wp-content/uploads/2024/09/The-Guild-Theatreworks-A-Halloween-Evening-scaled.jpg
ORGANIZER;CN="The Ocean County Library":MAILTO:programs@theoceancountylibrary.org
END:VEVENT
BEGIN:VEVENT
DTSTART;TZID=America/New_York:20241019T110000
DTEND;TZID=America/New_York:20241019T170000
DTSTAMP:20260424T083156
CREATED:20240426T190937Z
LAST-MODIFIED:20241001T165628Z
UID:10002102-1729335600-1729357200@downtowntomsriver.com
SUMMARY:Harvest Arts Festival
DESCRIPTION:Harvest Arts Festival – October 19th 11:00am – 5:00pm\n\nPerformances by:\n – The Music Academy\n – OC Jukebox\n – The DaSilva’s\n – The Dance Centre\n\nJuried art show featuring local artists!\n\nGood Eats from our local restaurants and TR Fire Co. # 1.\n– A Thyme for All Seasons– Battle River Brewing– Capones– Garden State Distillery– Mandoli’s\n– Mathis House– Mullers Creamery\n– Netty’s Sweets– Oi Sushi– Smokies BBQ– Tacotastic\n– Tommy Boy’s Cafe\n\nEnjoy yummy beer & drinks\n\nHandcraft vendors\, Food Trucks\, Family fun!\n\n\n 
URL:https://downtowntomsriver.com/event/harvest-arts-festival-4/
LOCATION:Washington Street\, Toms River NJ\, 33 Washington St.\, Toms River\, 08753\, United States
CATEGORIES:Arts & Cluture,Arts & Crafts,Downtown Toms River Events,Entertainment
ATTACH;FMTTYPE=image/png:https://downtowntomsriver.com/wp-content/uploads/2024/04/HARVEST-ARTS-2.png
ORGANIZER;CN="Downtown Toms River BID":MAILTO:info@downtowntomsriver.com
END:VEVENT
BEGIN:VEVENT
DTSTART;TZID=America/New_York:20241026T130000
DTEND;TZID=America/New_York:20241026T150000
DTSTAMP:20260424T083156
CREATED:20241008T154119Z
LAST-MODIFIED:20241008T154119Z
UID:10003937-1729947600-1729954800@downtowntomsriver.com
SUMMARY:Trunk or Treat at Aqua-Tots Swim School
DESCRIPTION:🎃 Join us for a spooktacular Trunk or Treat event at Aqua-Tots Swim School! 🎃 \n  \n🗓 Date: Saturday\, October 26 \n⏰ Time: 1:00 PM – 3:00 PM \n📍 Location: Aqua-Tots Swim School\, Toms River \n  \nBring the whole family for a fun afternoon of trick-or-treating from creatively decorated trunks and vehicles! Wear your costumes\, collect candy\, and enjoy some Halloween fun in a safe and festive environment. \n  \nIf you’d like to participate by decorating your trunk or vehicle\, please email us at tomsriverinfo@aqua-tots.com to reserve your spot! \n  \nWe can’t wait to celebrate with you!
URL:https://downtowntomsriver.com/event/trunk-or-treat-at-aqua-tots-swim-school/
LOCATION:Aqua-Tots Swim School\, 1358 Hooper Avenue\, Toms River\, NJ\, 08753\, United States
CATEGORIES:Entertainment,Kids
ORGANIZER;CN="Aqua-Tots Swim School Toms River":MAILTO:tomsriverinfo@aqua-tots.com
END:VEVENT
BEGIN:VEVENT
DTSTART;TZID=America/New_York:20241026T130000
DTEND;TZID=America/New_York:20241026T160000
DTSTAMP:20260424T083156
CREATED:20240927T200601Z
LAST-MODIFIED:20240927T200601Z
UID:10003930-1729947600-1729958400@downtowntomsriver.com
SUMMARY:Forty Five Years of Amityville: Cult Classic\, Local Connections
DESCRIPTION:Did you know that The Amityville Horror was filmed in part right in the library’s Bishop Building? Come for a special film screening and a display of Amityville items from the archives.
URL:https://downtowntomsriver.com/event/forty-five-years-of-amityville-cult-classic-local-connections/
LOCATION:The Ocean County Library\, 101 Washington St\, Toms River\, NJ\, 08753\, United States
CATEGORIES:Entertainment
ATTACH;FMTTYPE=image/jpeg:https://downtowntomsriver.com/wp-content/uploads/2024/09/Forty-Five-Years-of-Amityville-scaled.jpg
ORGANIZER;CN="The Ocean County Library":MAILTO:programs@theoceancountylibrary.org
END:VEVENT
END:VCALENDAR