BEGIN:VCALENDAR
VERSION:2.0
PRODID:-// - ECPv6.15.15//NONSGML v1.0//EN
CALSCALE:GREGORIAN
METHOD:PUBLISH
X-ORIGINAL-URL:https://downtowntomsriver.com
X-WR-CALDESC:Events for 
REFRESH-INTERVAL;VALUE=DURATION:PT1H
X-Robots-Tag:noindex
X-PUBLISHED-TTL:PT1H
BEGIN:VTIMEZONE
TZID:America/New_York
BEGIN:DAYLIGHT
TZOFFSETFROM:-0500
TZOFFSETTO:-0400
TZNAME:EDT
DTSTART:20230312T070000
END:DAYLIGHT
BEGIN:STANDARD
TZOFFSETFROM:-0400
TZOFFSETTO:-0500
TZNAME:EST
DTSTART:20231105T060000
END:STANDARD
BEGIN:DAYLIGHT
TZOFFSETFROM:-0500
TZOFFSETTO:-0400
TZNAME:EDT
DTSTART:20240310T070000
END:DAYLIGHT
BEGIN:STANDARD
TZOFFSETFROM:-0400
TZOFFSETTO:-0500
TZNAME:EST
DTSTART:20241103T060000
END:STANDARD
BEGIN:DAYLIGHT
TZOFFSETFROM:-0500
TZOFFSETTO:-0400
TZNAME:EDT
DTSTART:20250309T070000
END:DAYLIGHT
BEGIN:STANDARD
TZOFFSETFROM:-0400
TZOFFSETTO:-0500
TZNAME:EST
DTSTART:20251102T060000
END:STANDARD
END:VTIMEZONE
BEGIN:VEVENT
DTSTART;TZID=America/New_York:20240410T190000
DTEND;TZID=America/New_York:20240410T203000
DTSTAMP:20260424T182558
CREATED:20240305T195535Z
LAST-MODIFIED:20240305T195535Z
UID:10002044-1712775600-1712781000@downtowntomsriver.com
SUMMARY:WREP: When Radio Entertained People
DESCRIPTION:Veteran actors from WREP will perform skits from radio’s “Golden Age” of the 1940s and 1950s. This “broadcast” will feature episodes Sorry\, Wrong Number and The Day the Earth Stood Still. \nThis program is sponsored by the Friends of the Ocean County Library – Toms River.
URL:https://downtowntomsriver.com/event/wrep-when-radio-entertained-people-4/
LOCATION:The Ocean County Library\, 101 Washington St\, Toms River\, NJ\, 08753\, United States
CATEGORIES:Entertainment
ATTACH;FMTTYPE=image/jpeg:https://downtowntomsriver.com/wp-content/uploads/2024/03/WREP-When-Radio-Entertained-People-TR-scaled.jpg
ORGANIZER;CN="The Ocean County Library":MAILTO:programs@theoceancountylibrary.org
END:VEVENT
BEGIN:VEVENT
DTSTART;TZID=America/New_York:20240418T183000
DTEND;TZID=America/New_York:20240418T200000
DTSTAMP:20260424T182558
CREATED:20240402T130004Z
LAST-MODIFIED:20240402T130004Z
UID:10002047-1713465000-1713470400@downtowntomsriver.com
SUMMARY:Ultimate Johnny Cash: Late & Alone
DESCRIPTION:Join performer Scott Moreau with his one-man tribute to Johnny Cash. Late & Alone features all of his hits and some deeper dives into the Man’s music\, as well as more in depth stories about Johnny’s life. It spans nearly 50 years of his musical life\, featuring songs from his American Recordings including his iconic epitaph\, Hurt. \nScott Moreau is from Litchfield\, ME and holds a BFA in Music Theatre from Illinois Wesleyan University. After a lifelong dream of being a professional baseball player\, Scott turned to the stage after seeing a life-changing performance of Les Misérables in London his freshman year of high school. Through his years in high school and college\, he found a love for not only musical theatre but choral singing\, directing\, sound design and stage combat. Since graduating from IWU he has been traveling the country\, performing everywhere from his home state of Maine to Osaka\, Japan. \nHis experience not limited to performing\, Scott made his professional directorial debut with Ring of Fire at the Round Barn Theatre in 2011.  He has since directed MDQ at Farmers Alley Theatre in Kalamazoo\, MI and assistant directed at the Springer Opera House\, both while doing double duty as Johnny Cash. He made his television debut on the series finale of HBO’s Emmy Award winning Boardwalk Empire as Young Jim Neary. In 2013 he released a Johnny Cash tribute\, Home Of The Blues:  A Tribute to Johnny Cash at Sun Studio now available for digital download and on CD.
URL:https://downtowntomsriver.com/event/ultimate-johnny-cash-late-alone/
LOCATION:The Ocean County Library\, 101 Washington St\, Toms River\, NJ\, 08753\, United States
CATEGORIES:Entertainment
ATTACH;FMTTYPE=image/jpeg:https://downtowntomsriver.com/wp-content/uploads/2024/04/lateandalone.jpg
ORGANIZER;CN="The Ocean County Library":MAILTO:programs@theoceancountylibrary.org
END:VEVENT
END:VCALENDAR