BEGIN:VCALENDAR
VERSION:2.0
PRODID:-// - ECPv6.15.15//NONSGML v1.0//EN
CALSCALE:GREGORIAN
METHOD:PUBLISH
X-ORIGINAL-URL:https://downtowntomsriver.com
X-WR-CALDESC:Events for 
REFRESH-INTERVAL;VALUE=DURATION:PT1H
X-Robots-Tag:noindex
X-PUBLISHED-TTL:PT1H
BEGIN:VTIMEZONE
TZID:America/New_York
BEGIN:DAYLIGHT
TZOFFSETFROM:-0500
TZOFFSETTO:-0400
TZNAME:EDT
DTSTART:20220313T070000
END:DAYLIGHT
BEGIN:STANDARD
TZOFFSETFROM:-0400
TZOFFSETTO:-0500
TZNAME:EST
DTSTART:20221106T060000
END:STANDARD
BEGIN:DAYLIGHT
TZOFFSETFROM:-0500
TZOFFSETTO:-0400
TZNAME:EDT
DTSTART:20230312T070000
END:DAYLIGHT
BEGIN:STANDARD
TZOFFSETFROM:-0400
TZOFFSETTO:-0500
TZNAME:EST
DTSTART:20231105T060000
END:STANDARD
BEGIN:DAYLIGHT
TZOFFSETFROM:-0500
TZOFFSETTO:-0400
TZNAME:EDT
DTSTART:20240310T070000
END:DAYLIGHT
BEGIN:STANDARD
TZOFFSETFROM:-0400
TZOFFSETTO:-0500
TZNAME:EST
DTSTART:20241103T060000
END:STANDARD
END:VTIMEZONE
BEGIN:VEVENT
DTSTART;TZID=America/New_York:20230109T183000
DTEND;TZID=America/New_York:20230109T193000
DTSTAMP:20260425T195404
CREATED:20221214T134629Z
LAST-MODIFIED:20221214T134659Z
UID:10000641-1673289000-1673292600@downtowntomsriver.com
SUMMARY:Best of Broadway with Dakota & Elle
DESCRIPTION:Join beloved local tenor and soprano\, Dakota & Elle\, for an evening of Broadway’s greatest hits. Featuring songs from Phantom of the Opera\, West Side Story\, Les Miserables\, and more! Often compared to Andrea Bocelli and Sarah Brightman\, Dakota & Elle both studied with Juilliard Master Teacher\, Steven Schnurman. Their ethereal voices bring Broadway classics right to the Ocean County Library. Registration is required. Please call or visit the events page linked below.
URL:https://downtowntomsriver.com/event/best-of-broadway-with-dakota-elle/
LOCATION:The Ocean County Library\, 101 Washington St\, Toms River\, NJ\, 08753\, United States
CATEGORIES:Entertainment
ATTACH;FMTTYPE=image/jpeg:https://downtowntomsriver.com/wp-content/uploads/2022/12/DakotaElle-Promo-Photo-5.jpeg
ORGANIZER;CN="The Ocean County Library":MAILTO:programs@theoceancountylibrary.org
END:VEVENT
END:VCALENDAR