BEGIN:VCALENDAR
VERSION:2.0
PRODID:-// - ECPv6.15.15//NONSGML v1.0//EN
CALSCALE:GREGORIAN
METHOD:PUBLISH
X-ORIGINAL-URL:https://downtowntomsriver.com
X-WR-CALDESC:Events for 
REFRESH-INTERVAL;VALUE=DURATION:PT1H
X-Robots-Tag:noindex
X-PUBLISHED-TTL:PT1H
BEGIN:VTIMEZONE
TZID:America/New_York
BEGIN:DAYLIGHT
TZOFFSETFROM:-0500
TZOFFSETTO:-0400
TZNAME:EDT
DTSTART:20210314T070000
END:DAYLIGHT
BEGIN:STANDARD
TZOFFSETFROM:-0400
TZOFFSETTO:-0500
TZNAME:EST
DTSTART:20211107T060000
END:STANDARD
BEGIN:DAYLIGHT
TZOFFSETFROM:-0500
TZOFFSETTO:-0400
TZNAME:EDT
DTSTART:20220313T070000
END:DAYLIGHT
BEGIN:STANDARD
TZOFFSETFROM:-0400
TZOFFSETTO:-0500
TZNAME:EST
DTSTART:20221106T060000
END:STANDARD
BEGIN:DAYLIGHT
TZOFFSETFROM:-0500
TZOFFSETTO:-0400
TZNAME:EDT
DTSTART:20230312T070000
END:DAYLIGHT
BEGIN:STANDARD
TZOFFSETFROM:-0400
TZOFFSETTO:-0500
TZNAME:EST
DTSTART:20231105T060000
END:STANDARD
END:VTIMEZONE
BEGIN:VEVENT
DTSTART;TZID=America/New_York:20221206T110000
DTEND;TZID=America/New_York:20221206T130000
DTSTAMP:20260425T214516
CREATED:20220926T183136Z
LAST-MODIFIED:20220926T183136Z
UID:10000284-1670324400-1670331600@downtowntomsriver.com
SUMMARY:Celebrate the Holidays with our Holiday Tea at the Mathis House
DESCRIPTION:Celebrate the Holidays with our Holiday Tea at the Mathis House! \nBack by popular demand\, our Holiday Tea will be offered to those wishing to visit the beautifully decorated Mathis House Tearoom at 600 Main Street in Toms River on December 6\, 2022.  Guests may look forward to the ever-delicious scones\, yummy tea sandwiches\, and scrumptious mini-desserts that accompany generous pots of fine tea as they chat with friends in the historical elegance of this stately home.  As usual\, a few lucky guests will win door prizes. Seating is at 11:00 AM. Cost: $40 members; $45 non-members. \nBe sure to make your reservation starting 10:00 am on October 1st by calling Deb Levinson at 732-286-3693. Checks should be made out and mailed to Ocean County Historical Society\, 26 Hadley Avenue\, Toms River\, NJ 08753 within one week of phone reservation\, with Attention: Deb in the bottom left-hand corner of the envelope. \n 
URL:https://downtowntomsriver.com/event/celebrate-the-holidays-with-our-holiday-tea-at-the-mathis-house-2/
LOCATION:The Mathis House at 600 Main\, 600 Main St.\, Toms River\, NJ\, 08753\, United States
CATEGORIES:Entertainment
END:VEVENT
END:VCALENDAR