BEGIN:VCALENDAR
VERSION:2.0
PRODID:-// - ECPv6.15.15//NONSGML v1.0//EN
CALSCALE:GREGORIAN
METHOD:PUBLISH
X-ORIGINAL-URL:https://downtowntomsriver.com
X-WR-CALDESC:Events for 
REFRESH-INTERVAL;VALUE=DURATION:PT1H
X-Robots-Tag:noindex
X-PUBLISHED-TTL:PT1H
BEGIN:VTIMEZONE
TZID:America/New_York
BEGIN:DAYLIGHT
TZOFFSETFROM:-0500
TZOFFSETTO:-0400
TZNAME:EDT
DTSTART:20190310T070000
END:DAYLIGHT
BEGIN:STANDARD
TZOFFSETFROM:-0400
TZOFFSETTO:-0500
TZNAME:EST
DTSTART:20191103T060000
END:STANDARD
BEGIN:DAYLIGHT
TZOFFSETFROM:-0500
TZOFFSETTO:-0400
TZNAME:EDT
DTSTART:20200308T070000
END:DAYLIGHT
BEGIN:STANDARD
TZOFFSETFROM:-0400
TZOFFSETTO:-0500
TZNAME:EST
DTSTART:20201101T060000
END:STANDARD
BEGIN:DAYLIGHT
TZOFFSETFROM:-0500
TZOFFSETTO:-0400
TZNAME:EDT
DTSTART:20210314T070000
END:DAYLIGHT
BEGIN:STANDARD
TZOFFSETFROM:-0400
TZOFFSETTO:-0500
TZNAME:EST
DTSTART:20211107T060000
END:STANDARD
BEGIN:DAYLIGHT
TZOFFSETFROM:-0500
TZOFFSETTO:-0400
TZNAME:EDT
DTSTART:20220313T070000
END:DAYLIGHT
BEGIN:STANDARD
TZOFFSETFROM:-0400
TZOFFSETTO:-0500
TZNAME:EST
DTSTART:20221106T060000
END:STANDARD
END:VTIMEZONE
BEGIN:VEVENT
DTSTART;TZID=America/New_York:20210514T170000
DTEND;TZID=America/New_York:20210514T230000
DTSTAMP:20260424T205726
CREATED:20210121T163110Z
LAST-MODIFIED:20210122T134027Z
UID:10000459-1621011600-1621033200@downtowntomsriver.com
SUMMARY:Downtown Night Out
DESCRIPTION:Downtown Night Out is returning in 2021!  We had such a blast last year we are bringing it back.  Every Friday and Saturday downtown restaurants and businesses will be open for dining\, drinking\, shopping and entertaining.  A section of Washington Street (between Robbins St. and Main St.) will be closed for outdoor dining. \n 
URL:https://downtowntomsriver.com/event/downtown-night-out-2/2021-05-14/
CATEGORIES:Downtown Toms River Events
ORGANIZER;CN="Downtown Toms River BID":MAILTO:info@downtowntomsriver.com
END:VEVENT
BEGIN:VEVENT
DTSTART;TZID=America/New_York:20210508T170000
DTEND;TZID=America/New_York:20210508T230000
DTSTAMP:20260424T205726
CREATED:20210121T163110Z
LAST-MODIFIED:20210122T134027Z
UID:10000458-1620493200-1620514800@downtowntomsriver.com
SUMMARY:Downtown Night Out
DESCRIPTION:Downtown Night Out is returning in 2021!  We had such a blast last year we are bringing it back.  Every Friday and Saturday downtown restaurants and businesses will be open for dining\, drinking\, shopping and entertaining.  A section of Washington Street (between Robbins St. and Main St.) will be closed for outdoor dining. \n 
URL:https://downtowntomsriver.com/event/downtown-night-out-2/2021-05-08/
CATEGORIES:Downtown Toms River Events
ORGANIZER;CN="Downtown Toms River BID":MAILTO:info@downtowntomsriver.com
END:VEVENT
BEGIN:VEVENT
DTSTART;TZID=America/New_York:20210507T170000
DTEND;TZID=America/New_York:20210507T230000
DTSTAMP:20260424T205726
CREATED:20210121T163110Z
LAST-MODIFIED:20210122T134027Z
UID:10000457-1620406800-1620428400@downtowntomsriver.com
SUMMARY:Downtown Night Out
DESCRIPTION:Downtown Night Out is returning in 2021!  We had such a blast last year we are bringing it back.  Every Friday and Saturday downtown restaurants and businesses will be open for dining\, drinking\, shopping and entertaining.  A section of Washington Street (between Robbins St. and Main St.) will be closed for outdoor dining. \n 
URL:https://downtowntomsriver.com/event/downtown-night-out-2/2021-05-07/
CATEGORIES:Downtown Toms River Events
ORGANIZER;CN="Downtown Toms River BID":MAILTO:info@downtowntomsriver.com
END:VEVENT
BEGIN:VEVENT
DTSTART;TZID=America/New_York:20210501T170000
DTEND;TZID=America/New_York:20210501T230000
DTSTAMP:20260424T205726
CREATED:20210121T163110Z
LAST-MODIFIED:20210122T134027Z
UID:10000456-1619888400-1619910000@downtowntomsriver.com
SUMMARY:Downtown Night Out
DESCRIPTION:Downtown Night Out is returning in 2021!  We had such a blast last year we are bringing it back.  Every Friday and Saturday downtown restaurants and businesses will be open for dining\, drinking\, shopping and entertaining.  A section of Washington Street (between Robbins St. and Main St.) will be closed for outdoor dining. \n 
URL:https://downtowntomsriver.com/event/downtown-night-out-2/2021-05-01/
CATEGORIES:Downtown Toms River Events
ORGANIZER;CN="Downtown Toms River BID":MAILTO:info@downtowntomsriver.com
END:VEVENT
BEGIN:VEVENT
DTSTART;TZID=America/New_York:20201030T180000
DTEND;TZID=America/New_York:20201030T210000
DTSTAMP:20260424T205726
CREATED:20201008T160141Z
LAST-MODIFIED:20201008T160141Z
UID:10000063-1604080800-1604091600@downtowntomsriver.com
SUMMARY:Halloween Masquerade Fundraiser for CMC Foundation
DESCRIPTION:Join the Mathis House for a fundraiser for Community Medical Center Foundation’s Cancer Center on Friday\, October 30\, 2020\, from 6 to 10 pm.  This is a formal ball with a butler served Italian Style buffet with salad\, bread\, Chicken Francaise\, Baked Ziti\, Penne Vodka\, Egg Plant Rollatini\, Sausage and Peppers with an assortment of desserts.  Tea\, Coffee and Soda Included.  We are a BYOB.  The ticket price is $40  per person. To purchase your tickets on event brite\, click this link https://www.eventbrite.com/o/mathis-house-30955094405 or call 732-818-7580.  A portion of the proceeds will benefit the Cancer Center of our local hospital at CMC.  There will be a costume contest\, live music\, prizes and a tour of the Historic Mathis Mansion circa 1898.
URL:https://downtowntomsriver.com/event/halloween-masquerade-fundraiser-for-cmc-foundation/
LOCATION:The Mathis House at 600 Main\, 600 Main St.\, Toms River\, NJ\, 08753\, United States
CATEGORIES:Downtown Toms River Events
ATTACH;FMTTYPE=image/jpeg:https://downtowntomsriver.com/wp-content/uploads/2020/10/Halooween-scaled.jpg
END:VEVENT
BEGIN:VEVENT
DTSTART;TZID=America/New_York:20200828T193000
DTEND;TZID=America/New_York:20200828T213000
DTSTAMP:20260424T205726
CREATED:20200706T181423Z
LAST-MODIFIED:20200706T181423Z
UID:10000400-1598643000-1598650200@downtowntomsriver.com
SUMMARY:Line Dance with Maureen from DanceMaur @Broadway On Main
DESCRIPTION:Outside class held in our parking lot\, all levels welcomed. No experience or partner needed. Text 908.910.6752 to sign up \n$10 cash at the door \nEvery Tuesday & Friday in the Summer.
URL:https://downtowntomsriver.com/event/line-dance-with-maureen-from-dancemaur-broadway-on-main/2020-08-28/
LOCATION:Broadway On Main\, 806 N. Main Street\, Toms River\, 08753\, United States
CATEGORIES:Downtown Toms River Events
ORGANIZER;CN="Broadway On Main":MAILTO:broadwayonmaintrnj@gmail.com
END:VEVENT
BEGIN:VEVENT
DTSTART;TZID=America/New_York:20200825T193000
DTEND;TZID=America/New_York:20200825T213000
DTSTAMP:20260424T205726
CREATED:20200706T181423Z
LAST-MODIFIED:20200706T181423Z
UID:10000399-1598383800-1598391000@downtowntomsriver.com
SUMMARY:Line Dance with Maureen from DanceMaur @Broadway On Main
DESCRIPTION:Outside class held in our parking lot\, all levels welcomed. No experience or partner needed. Text 908.910.6752 to sign up \n$10 cash at the door \nEvery Tuesday & Friday in the Summer.
URL:https://downtowntomsriver.com/event/line-dance-with-maureen-from-dancemaur-broadway-on-main/2020-08-25/
LOCATION:Broadway On Main\, 806 N. Main Street\, Toms River\, 08753\, United States
CATEGORIES:Downtown Toms River Events
ORGANIZER;CN="Broadway On Main":MAILTO:broadwayonmaintrnj@gmail.com
END:VEVENT
BEGIN:VEVENT
DTSTART;TZID=America/New_York:20200821T193000
DTEND;TZID=America/New_York:20200821T213000
DTSTAMP:20260424T205726
CREATED:20200706T181423Z
LAST-MODIFIED:20200706T181423Z
UID:10000398-1598038200-1598045400@downtowntomsriver.com
SUMMARY:Line Dance with Maureen from DanceMaur @Broadway On Main
DESCRIPTION:Outside class held in our parking lot\, all levels welcomed. No experience or partner needed. Text 908.910.6752 to sign up \n$10 cash at the door \nEvery Tuesday & Friday in the Summer.
URL:https://downtowntomsriver.com/event/line-dance-with-maureen-from-dancemaur-broadway-on-main/2020-08-21/
LOCATION:Broadway On Main\, 806 N. Main Street\, Toms River\, 08753\, United States
CATEGORIES:Downtown Toms River Events
ORGANIZER;CN="Broadway On Main":MAILTO:broadwayonmaintrnj@gmail.com
END:VEVENT
BEGIN:VEVENT
DTSTART;TZID=America/New_York:20200818T193000
DTEND;TZID=America/New_York:20200818T213000
DTSTAMP:20260424T205726
CREATED:20200706T181423Z
LAST-MODIFIED:20200706T181423Z
UID:10000397-1597779000-1597786200@downtowntomsriver.com
SUMMARY:Line Dance with Maureen from DanceMaur @Broadway On Main
DESCRIPTION:Outside class held in our parking lot\, all levels welcomed. No experience or partner needed. Text 908.910.6752 to sign up \n$10 cash at the door \nEvery Tuesday & Friday in the Summer.
URL:https://downtowntomsriver.com/event/line-dance-with-maureen-from-dancemaur-broadway-on-main/2020-08-18/
LOCATION:Broadway On Main\, 806 N. Main Street\, Toms River\, 08753\, United States
CATEGORIES:Downtown Toms River Events
ORGANIZER;CN="Broadway On Main":MAILTO:broadwayonmaintrnj@gmail.com
END:VEVENT
BEGIN:VEVENT
DTSTART;TZID=America/New_York:20200814T193000
DTEND;TZID=America/New_York:20200814T213000
DTSTAMP:20260424T205726
CREATED:20200706T181423Z
LAST-MODIFIED:20200706T181423Z
UID:10000396-1597433400-1597440600@downtowntomsriver.com
SUMMARY:Line Dance with Maureen from DanceMaur @Broadway On Main
DESCRIPTION:Outside class held in our parking lot\, all levels welcomed. No experience or partner needed. Text 908.910.6752 to sign up \n$10 cash at the door \nEvery Tuesday & Friday in the Summer.
URL:https://downtowntomsriver.com/event/line-dance-with-maureen-from-dancemaur-broadway-on-main/2020-08-14/
LOCATION:Broadway On Main\, 806 N. Main Street\, Toms River\, 08753\, United States
CATEGORIES:Downtown Toms River Events
ORGANIZER;CN="Broadway On Main":MAILTO:broadwayonmaintrnj@gmail.com
END:VEVENT
BEGIN:VEVENT
DTSTART;TZID=America/New_York:20200811T193000
DTEND;TZID=America/New_York:20200811T213000
DTSTAMP:20260424T205726
CREATED:20200706T181423Z
LAST-MODIFIED:20200706T181423Z
UID:10000395-1597174200-1597181400@downtowntomsriver.com
SUMMARY:Line Dance with Maureen from DanceMaur @Broadway On Main
DESCRIPTION:Outside class held in our parking lot\, all levels welcomed. No experience or partner needed. Text 908.910.6752 to sign up \n$10 cash at the door \nEvery Tuesday & Friday in the Summer.
URL:https://downtowntomsriver.com/event/line-dance-with-maureen-from-dancemaur-broadway-on-main/2020-08-11/
LOCATION:Broadway On Main\, 806 N. Main Street\, Toms River\, 08753\, United States
CATEGORIES:Downtown Toms River Events
ORGANIZER;CN="Broadway On Main":MAILTO:broadwayonmaintrnj@gmail.com
END:VEVENT
BEGIN:VEVENT
DTSTART;TZID=America/New_York:20200807T193000
DTEND;TZID=America/New_York:20200807T213000
DTSTAMP:20260424T205726
CREATED:20200706T181423Z
LAST-MODIFIED:20200706T181423Z
UID:10000394-1596828600-1596835800@downtowntomsriver.com
SUMMARY:Line Dance with Maureen from DanceMaur @Broadway On Main
DESCRIPTION:Outside class held in our parking lot\, all levels welcomed. No experience or partner needed. Text 908.910.6752 to sign up \n$10 cash at the door \nEvery Tuesday & Friday in the Summer.
URL:https://downtowntomsriver.com/event/line-dance-with-maureen-from-dancemaur-broadway-on-main/2020-08-07/
LOCATION:Broadway On Main\, 806 N. Main Street\, Toms River\, 08753\, United States
CATEGORIES:Downtown Toms River Events
ORGANIZER;CN="Broadway On Main":MAILTO:broadwayonmaintrnj@gmail.com
END:VEVENT
BEGIN:VEVENT
DTSTART;TZID=America/New_York:20200804T193000
DTEND;TZID=America/New_York:20200804T213000
DTSTAMP:20260424T205726
CREATED:20200706T181423Z
LAST-MODIFIED:20200706T181423Z
UID:10000393-1596569400-1596576600@downtowntomsriver.com
SUMMARY:Line Dance with Maureen from DanceMaur @Broadway On Main
DESCRIPTION:Outside class held in our parking lot\, all levels welcomed. No experience or partner needed. Text 908.910.6752 to sign up \n$10 cash at the door \nEvery Tuesday & Friday in the Summer.
URL:https://downtowntomsriver.com/event/line-dance-with-maureen-from-dancemaur-broadway-on-main/2020-08-04/
LOCATION:Broadway On Main\, 806 N. Main Street\, Toms River\, 08753\, United States
CATEGORIES:Downtown Toms River Events
ORGANIZER;CN="Broadway On Main":MAILTO:broadwayonmaintrnj@gmail.com
END:VEVENT
BEGIN:VEVENT
DTSTART;TZID=America/New_York:20200731T193000
DTEND;TZID=America/New_York:20200731T213000
DTSTAMP:20260424T205726
CREATED:20200706T181423Z
LAST-MODIFIED:20200706T181423Z
UID:10000392-1596223800-1596231000@downtowntomsriver.com
SUMMARY:Line Dance with Maureen from DanceMaur @Broadway On Main
DESCRIPTION:Outside class held in our parking lot\, all levels welcomed. No experience or partner needed. Text 908.910.6752 to sign up \n$10 cash at the door \nEvery Tuesday & Friday in the Summer.
URL:https://downtowntomsriver.com/event/line-dance-with-maureen-from-dancemaur-broadway-on-main/2020-07-31/
LOCATION:Broadway On Main\, 806 N. Main Street\, Toms River\, 08753\, United States
CATEGORIES:Downtown Toms River Events
ORGANIZER;CN="Broadway On Main":MAILTO:broadwayonmaintrnj@gmail.com
END:VEVENT
BEGIN:VEVENT
DTSTART;TZID=America/New_York:20200728T193000
DTEND;TZID=America/New_York:20200728T213000
DTSTAMP:20260424T205726
CREATED:20200706T181423Z
LAST-MODIFIED:20200706T181423Z
UID:10000391-1595964600-1595971800@downtowntomsriver.com
SUMMARY:Line Dance with Maureen from DanceMaur @Broadway On Main
DESCRIPTION:Outside class held in our parking lot\, all levels welcomed. No experience or partner needed. Text 908.910.6752 to sign up \n$10 cash at the door \nEvery Tuesday & Friday in the Summer.
URL:https://downtowntomsriver.com/event/line-dance-with-maureen-from-dancemaur-broadway-on-main/2020-07-28/
LOCATION:Broadway On Main\, 806 N. Main Street\, Toms River\, 08753\, United States
CATEGORIES:Downtown Toms River Events
ORGANIZER;CN="Broadway On Main":MAILTO:broadwayonmaintrnj@gmail.com
END:VEVENT
BEGIN:VEVENT
DTSTART;TZID=America/New_York:20200724T193000
DTEND;TZID=America/New_York:20200724T213000
DTSTAMP:20260424T205726
CREATED:20200706T181423Z
LAST-MODIFIED:20200706T181423Z
UID:10000390-1595619000-1595626200@downtowntomsriver.com
SUMMARY:Line Dance with Maureen from DanceMaur @Broadway On Main
DESCRIPTION:Outside class held in our parking lot\, all levels welcomed. No experience or partner needed. Text 908.910.6752 to sign up \n$10 cash at the door \nEvery Tuesday & Friday in the Summer.
URL:https://downtowntomsriver.com/event/line-dance-with-maureen-from-dancemaur-broadway-on-main/2020-07-24/
LOCATION:Broadway On Main\, 806 N. Main Street\, Toms River\, 08753\, United States
CATEGORIES:Downtown Toms River Events
ORGANIZER;CN="Broadway On Main":MAILTO:broadwayonmaintrnj@gmail.com
END:VEVENT
BEGIN:VEVENT
DTSTART;TZID=America/New_York:20200721T193000
DTEND;TZID=America/New_York:20200721T213000
DTSTAMP:20260424T205726
CREATED:20200706T181423Z
LAST-MODIFIED:20200706T181423Z
UID:10000389-1595359800-1595367000@downtowntomsriver.com
SUMMARY:Line Dance with Maureen from DanceMaur @Broadway On Main
DESCRIPTION:Outside class held in our parking lot\, all levels welcomed. No experience or partner needed. Text 908.910.6752 to sign up \n$10 cash at the door \nEvery Tuesday & Friday in the Summer.
URL:https://downtowntomsriver.com/event/line-dance-with-maureen-from-dancemaur-broadway-on-main/2020-07-21/
LOCATION:Broadway On Main\, 806 N. Main Street\, Toms River\, 08753\, United States
CATEGORIES:Downtown Toms River Events
ORGANIZER;CN="Broadway On Main":MAILTO:broadwayonmaintrnj@gmail.com
END:VEVENT
BEGIN:VEVENT
DTSTART;TZID=America/New_York:20200717T193000
DTEND;TZID=America/New_York:20200717T213000
DTSTAMP:20260424T205726
CREATED:20200706T181423Z
LAST-MODIFIED:20200706T181423Z
UID:10000388-1595014200-1595021400@downtowntomsriver.com
SUMMARY:Line Dance with Maureen from DanceMaur @Broadway On Main
DESCRIPTION:Outside class held in our parking lot\, all levels welcomed. No experience or partner needed. Text 908.910.6752 to sign up \n$10 cash at the door \nEvery Tuesday & Friday in the Summer.
URL:https://downtowntomsriver.com/event/line-dance-with-maureen-from-dancemaur-broadway-on-main/2020-07-17/
LOCATION:Broadway On Main\, 806 N. Main Street\, Toms River\, 08753\, United States
CATEGORIES:Downtown Toms River Events
ORGANIZER;CN="Broadway On Main":MAILTO:broadwayonmaintrnj@gmail.com
END:VEVENT
BEGIN:VEVENT
DTSTART;TZID=America/New_York:20200714T193000
DTEND;TZID=America/New_York:20200714T213000
DTSTAMP:20260424T205726
CREATED:20200706T181423Z
LAST-MODIFIED:20200706T181423Z
UID:10000387-1594755000-1594762200@downtowntomsriver.com
SUMMARY:Line Dance with Maureen from DanceMaur @Broadway On Main
DESCRIPTION:Outside class held in our parking lot\, all levels welcomed. No experience or partner needed. Text 908.910.6752 to sign up \n$10 cash at the door \nEvery Tuesday & Friday in the Summer.
URL:https://downtowntomsriver.com/event/line-dance-with-maureen-from-dancemaur-broadway-on-main/2020-07-14/
LOCATION:Broadway On Main\, 806 N. Main Street\, Toms River\, 08753\, United States
CATEGORIES:Downtown Toms River Events
ORGANIZER;CN="Broadway On Main":MAILTO:broadwayonmaintrnj@gmail.com
END:VEVENT
BEGIN:VEVENT
DTSTART;TZID=America/New_York:20200710T193000
DTEND;TZID=America/New_York:20200710T213000
DTSTAMP:20260424T205726
CREATED:20200706T181423Z
LAST-MODIFIED:20200706T181423Z
UID:10000386-1594409400-1594416600@downtowntomsriver.com
SUMMARY:Line Dance with Maureen from DanceMaur @Broadway On Main
DESCRIPTION:Outside class held in our parking lot\, all levels welcomed. No experience or partner needed. Text 908.910.6752 to sign up \n$10 cash at the door \nEvery Tuesday & Friday in the Summer.
URL:https://downtowntomsriver.com/event/line-dance-with-maureen-from-dancemaur-broadway-on-main/2020-07-10/
LOCATION:Broadway On Main\, 806 N. Main Street\, Toms River\, 08753\, United States
CATEGORIES:Downtown Toms River Events
ORGANIZER;CN="Broadway On Main":MAILTO:broadwayonmaintrnj@gmail.com
END:VEVENT
BEGIN:VEVENT
DTSTART;TZID=America/New_York:20200707T193000
DTEND;TZID=America/New_York:20200707T213000
DTSTAMP:20260424T205726
CREATED:20200706T181423Z
LAST-MODIFIED:20200706T181423Z
UID:10000385-1594150200-1594157400@downtowntomsriver.com
SUMMARY:Line Dance with Maureen from DanceMaur @Broadway On Main
DESCRIPTION:Outside class held in our parking lot\, all levels welcomed. No experience or partner needed. Text 908.910.6752 to sign up \n$10 cash at the door \nEvery Tuesday & Friday in the Summer.
URL:https://downtowntomsriver.com/event/line-dance-with-maureen-from-dancemaur-broadway-on-main/2020-07-07/
LOCATION:Broadway On Main\, 806 N. Main Street\, Toms River\, 08753\, United States
CATEGORIES:Downtown Toms River Events
ORGANIZER;CN="Broadway On Main":MAILTO:broadwayonmaintrnj@gmail.com
END:VEVENT
BEGIN:VEVENT
DTSTART;TZID=America/New_York:20200303T180000
DTEND;TZID=America/New_York:20200303T200000
DTSTAMP:20260424T205726
CREATED:20200220T205832Z
LAST-MODIFIED:20200220T205832Z
UID:10000267-1583258400-1583265600@downtowntomsriver.com
SUMMARY:Downtown Think Tank
DESCRIPTION:Join the Downtown Toms River Business Improvement District at their monthly meet & greet.  Meet with fellow business owners\, residents\, and stakeholders of the downtown to discuss the 2020 event season and how you can get involved.
URL:https://downtowntomsriver.com/event/downtown-think-tank/
LOCATION:Downtown Shops Activity Room\, 53 Main Street\, Toms River\, NJ\, 08753\, United States
CATEGORIES:Downtown Toms River Events
ATTACH;FMTTYPE=image/jpeg:https://downtowntomsriver.com/wp-content/uploads/2020/02/streetview-of-shops.jpg
END:VEVENT
END:VCALENDAR