BEGIN:VCALENDAR
VERSION:2.0
PRODID:-// - ECPv6.15.15//NONSGML v1.0//EN
CALSCALE:GREGORIAN
METHOD:PUBLISH
X-ORIGINAL-URL:https://downtowntomsriver.com
X-WR-CALDESC:Events for 
REFRESH-INTERVAL;VALUE=DURATION:PT1H
X-Robots-Tag:noindex
X-PUBLISHED-TTL:PT1H
BEGIN:VTIMEZONE
TZID:America/New_York
BEGIN:DAYLIGHT
TZOFFSETFROM:-0500
TZOFFSETTO:-0400
TZNAME:EDT
DTSTART:20200308T070000
END:DAYLIGHT
BEGIN:STANDARD
TZOFFSETFROM:-0400
TZOFFSETTO:-0500
TZNAME:EST
DTSTART:20201101T060000
END:STANDARD
BEGIN:DAYLIGHT
TZOFFSETFROM:-0500
TZOFFSETTO:-0400
TZNAME:EDT
DTSTART:20210314T070000
END:DAYLIGHT
BEGIN:STANDARD
TZOFFSETFROM:-0400
TZOFFSETTO:-0500
TZNAME:EST
DTSTART:20211107T060000
END:STANDARD
BEGIN:DAYLIGHT
TZOFFSETFROM:-0500
TZOFFSETTO:-0400
TZNAME:EDT
DTSTART:20220313T070000
END:DAYLIGHT
BEGIN:STANDARD
TZOFFSETFROM:-0400
TZOFFSETTO:-0500
TZNAME:EST
DTSTART:20221106T060000
END:STANDARD
END:VTIMEZONE
BEGIN:VEVENT
DTSTART;TZID=America/New_York:20210813T170000
DTEND;TZID=America/New_York:20210813T230000
DTSTAMP:20260424T173910
CREATED:20210121T163110Z
LAST-MODIFIED:20210122T134027Z
UID:10000485-1628874000-1628895600@downtowntomsriver.com
SUMMARY:Downtown Night Out
DESCRIPTION:Downtown Night Out is returning in 2021!  We had such a blast last year we are bringing it back.  Every Friday and Saturday downtown restaurants and businesses will be open for dining\, drinking\, shopping and entertaining.  A section of Washington Street (between Robbins St. and Main St.) will be closed for outdoor dining. \n 
URL:https://downtowntomsriver.com/event/downtown-night-out-2/2021-08-13/
CATEGORIES:Downtown Toms River Events
ORGANIZER;CN="Downtown Toms River BID":MAILTO:info@downtowntomsriver.com
END:VEVENT
BEGIN:VEVENT
DTSTART;TZID=America/New_York:20210811T100000
DTEND;TZID=America/New_York:20210811T160000
DTSTAMP:20260424T173910
CREATED:20210120T190611Z
LAST-MODIFIED:20210121T121030Z
UID:10000435-1628676000-1628697600@downtowntomsriver.com
SUMMARY:Downtown Toms River Farmers' Market
DESCRIPTION:Every Wednesday from 10am-4pm join the Downtown Toms River Business Improvement District at the weekly Farmers’ Market located at 700 Main St. (behind New Life Church).  4 Local NJ farms\, Organic farm\,  NJ Winery\, gourmet Italian Specialties\, baked goods\, honey\, pickles\, olives\, and much more!  Food truck and smoothie truck on premises every week. \n  \n 
URL:https://downtowntomsriver.com/event/downtown-toms-river-farmers-market-2/2021-08-11/
CATEGORIES:Downtown Toms River Events
ORGANIZER;CN="Downtown Toms River BID":MAILTO:info@downtowntomsriver.com
END:VEVENT
BEGIN:VEVENT
DTSTART;TZID=America/New_York:20210807T170000
DTEND;TZID=America/New_York:20210807T230000
DTSTAMP:20260424T173910
CREATED:20210121T163110Z
LAST-MODIFIED:20210122T134027Z
UID:10000484-1628355600-1628377200@downtowntomsriver.com
SUMMARY:Downtown Night Out
DESCRIPTION:Downtown Night Out is returning in 2021!  We had such a blast last year we are bringing it back.  Every Friday and Saturday downtown restaurants and businesses will be open for dining\, drinking\, shopping and entertaining.  A section of Washington Street (between Robbins St. and Main St.) will be closed for outdoor dining. \n 
URL:https://downtowntomsriver.com/event/downtown-night-out-2/2021-08-07/
CATEGORIES:Downtown Toms River Events
ORGANIZER;CN="Downtown Toms River BID":MAILTO:info@downtowntomsriver.com
END:VEVENT
BEGIN:VEVENT
DTSTART;TZID=America/New_York:20210806T170000
DTEND;TZID=America/New_York:20210806T230000
DTSTAMP:20260424T173910
CREATED:20210121T163110Z
LAST-MODIFIED:20210122T134027Z
UID:10000483-1628269200-1628290800@downtowntomsriver.com
SUMMARY:Downtown Night Out
DESCRIPTION:Downtown Night Out is returning in 2021!  We had such a blast last year we are bringing it back.  Every Friday and Saturday downtown restaurants and businesses will be open for dining\, drinking\, shopping and entertaining.  A section of Washington Street (between Robbins St. and Main St.) will be closed for outdoor dining. \n 
URL:https://downtowntomsriver.com/event/downtown-night-out-2/2021-08-06/
CATEGORIES:Downtown Toms River Events
ORGANIZER;CN="Downtown Toms River BID":MAILTO:info@downtowntomsriver.com
END:VEVENT
BEGIN:VEVENT
DTSTART;TZID=America/New_York:20210804T100000
DTEND;TZID=America/New_York:20210804T160000
DTSTAMP:20260424T173910
CREATED:20210120T190611Z
LAST-MODIFIED:20210121T121030Z
UID:10000434-1628071200-1628092800@downtowntomsriver.com
SUMMARY:Downtown Toms River Farmers' Market
DESCRIPTION:Every Wednesday from 10am-4pm join the Downtown Toms River Business Improvement District at the weekly Farmers’ Market located at 700 Main St. (behind New Life Church).  4 Local NJ farms\, Organic farm\,  NJ Winery\, gourmet Italian Specialties\, baked goods\, honey\, pickles\, olives\, and much more!  Food truck and smoothie truck on premises every week. \n  \n 
URL:https://downtowntomsriver.com/event/downtown-toms-river-farmers-market-2/2021-08-04/
CATEGORIES:Downtown Toms River Events
ORGANIZER;CN="Downtown Toms River BID":MAILTO:info@downtowntomsriver.com
END:VEVENT
BEGIN:VEVENT
DTSTART;TZID=America/New_York:20210731T170000
DTEND;TZID=America/New_York:20210731T230000
DTSTAMP:20260424T173910
CREATED:20210121T163110Z
LAST-MODIFIED:20210122T134027Z
UID:10000482-1627750800-1627772400@downtowntomsriver.com
SUMMARY:Downtown Night Out
DESCRIPTION:Downtown Night Out is returning in 2021!  We had such a blast last year we are bringing it back.  Every Friday and Saturday downtown restaurants and businesses will be open for dining\, drinking\, shopping and entertaining.  A section of Washington Street (between Robbins St. and Main St.) will be closed for outdoor dining. \n 
URL:https://downtowntomsriver.com/event/downtown-night-out-2/2021-07-31/
CATEGORIES:Downtown Toms River Events
ORGANIZER;CN="Downtown Toms River BID":MAILTO:info@downtowntomsriver.com
END:VEVENT
BEGIN:VEVENT
DTSTART;TZID=America/New_York:20210730T170000
DTEND;TZID=America/New_York:20210730T230000
DTSTAMP:20260424T173910
CREATED:20210121T163110Z
LAST-MODIFIED:20210122T134027Z
UID:10000481-1627664400-1627686000@downtowntomsriver.com
SUMMARY:Downtown Night Out
DESCRIPTION:Downtown Night Out is returning in 2021!  We had such a blast last year we are bringing it back.  Every Friday and Saturday downtown restaurants and businesses will be open for dining\, drinking\, shopping and entertaining.  A section of Washington Street (between Robbins St. and Main St.) will be closed for outdoor dining. \n 
URL:https://downtowntomsriver.com/event/downtown-night-out-2/2021-07-30/
CATEGORIES:Downtown Toms River Events
ORGANIZER;CN="Downtown Toms River BID":MAILTO:info@downtowntomsriver.com
END:VEVENT
BEGIN:VEVENT
DTSTART;TZID=America/New_York:20210728T100000
DTEND;TZID=America/New_York:20210728T160000
DTSTAMP:20260424T173910
CREATED:20210120T190611Z
LAST-MODIFIED:20210121T121030Z
UID:10000433-1627466400-1627488000@downtowntomsriver.com
SUMMARY:Downtown Toms River Farmers' Market
DESCRIPTION:Every Wednesday from 10am-4pm join the Downtown Toms River Business Improvement District at the weekly Farmers’ Market located at 700 Main St. (behind New Life Church).  4 Local NJ farms\, Organic farm\,  NJ Winery\, gourmet Italian Specialties\, baked goods\, honey\, pickles\, olives\, and much more!  Food truck and smoothie truck on premises every week. \n  \n 
URL:https://downtowntomsriver.com/event/downtown-toms-river-farmers-market-2/2021-07-28/
CATEGORIES:Downtown Toms River Events
ORGANIZER;CN="Downtown Toms River BID":MAILTO:info@downtowntomsriver.com
END:VEVENT
BEGIN:VEVENT
DTSTART;TZID=America/New_York:20210727T160000
DTEND;TZID=America/New_York:20210727T200000
DTSTAMP:20260424T173910
CREATED:20210720T151236Z
LAST-MODIFIED:20210720T151236Z
UID:10000526-1627401600-1627416000@downtowntomsriver.com
SUMMARY:Garden State Distillery - Summer Art Exhibition - Featuring TRAC Artists
DESCRIPTION:OPENING RECEPTION\nCome out and support two local small businesses. Garden State Distillery will be hosting Toms River Artist Community artist’s. TRAC has 29 amazing works of art\, made especially for this themed show “Grown here. Made here.”\nThis show runs from July 26th – Oct 20th\, 2021. All works available for purchase.\nGarden State Distillery is delighted to implement an Art Initiative to include art exhibitions\, arts and culture related private events\, and pop up markets featuring local artists.\nThe purpose of which is to enhance the enjoyment of guests and increase the engagement with patrons while they are visiting Garden State Distillery\, as well as to advocate for local artists and their artwork\, increase the visibility of the Toms River Arts and Culture District and connect with the larger creative community in surrounding Toms River\, and Ocean County areas.\nAdditionally\, the Art Initiative will bolster existing collaborations among locals artists\, businesses\, and the public and continue to expand the arts\, culture and creative community as a whole
URL:https://downtowntomsriver.com/event/garden-state-distillery-summer-art-exhibition-featuring-trac-artists/
LOCATION:Garden State Distillery\, 13 Washington Street\, Toms River\, 08753\, United States
CATEGORIES:Downtown Toms River Events
ATTACH;FMTTYPE=image/jpeg:https://downtowntomsriver.com/wp-content/uploads/2021/07/dist-trac-page-001.jpg
ORGANIZER;CN="Toms River Artist Community":MAILTO:tomsriverartistcommunity732@gmail.com
END:VEVENT
BEGIN:VEVENT
DTSTART;TZID=America/New_York:20210724T170000
DTEND;TZID=America/New_York:20210724T230000
DTSTAMP:20260424T173910
CREATED:20210121T163110Z
LAST-MODIFIED:20210122T134027Z
UID:10000480-1627146000-1627167600@downtowntomsriver.com
SUMMARY:Downtown Night Out
DESCRIPTION:Downtown Night Out is returning in 2021!  We had such a blast last year we are bringing it back.  Every Friday and Saturday downtown restaurants and businesses will be open for dining\, drinking\, shopping and entertaining.  A section of Washington Street (between Robbins St. and Main St.) will be closed for outdoor dining. \n 
URL:https://downtowntomsriver.com/event/downtown-night-out-2/2021-07-24/
CATEGORIES:Downtown Toms River Events
ORGANIZER;CN="Downtown Toms River BID":MAILTO:info@downtowntomsriver.com
END:VEVENT
BEGIN:VEVENT
DTSTART;TZID=America/New_York:20210723T170000
DTEND;TZID=America/New_York:20210723T230000
DTSTAMP:20260424T173911
CREATED:20210121T163110Z
LAST-MODIFIED:20210122T134027Z
UID:10000479-1627059600-1627081200@downtowntomsriver.com
SUMMARY:Downtown Night Out
DESCRIPTION:Downtown Night Out is returning in 2021!  We had such a blast last year we are bringing it back.  Every Friday and Saturday downtown restaurants and businesses will be open for dining\, drinking\, shopping and entertaining.  A section of Washington Street (between Robbins St. and Main St.) will be closed for outdoor dining. \n 
URL:https://downtowntomsriver.com/event/downtown-night-out-2/2021-07-23/
CATEGORIES:Downtown Toms River Events
ORGANIZER;CN="Downtown Toms River BID":MAILTO:info@downtowntomsriver.com
END:VEVENT
BEGIN:VEVENT
DTSTART;TZID=America/New_York:20210721T100000
DTEND;TZID=America/New_York:20210721T160000
DTSTAMP:20260424T173911
CREATED:20210120T190611Z
LAST-MODIFIED:20210121T121030Z
UID:10000432-1626861600-1626883200@downtowntomsriver.com
SUMMARY:Downtown Toms River Farmers' Market
DESCRIPTION:Every Wednesday from 10am-4pm join the Downtown Toms River Business Improvement District at the weekly Farmers’ Market located at 700 Main St. (behind New Life Church).  4 Local NJ farms\, Organic farm\,  NJ Winery\, gourmet Italian Specialties\, baked goods\, honey\, pickles\, olives\, and much more!  Food truck and smoothie truck on premises every week. \n  \n 
URL:https://downtowntomsriver.com/event/downtown-toms-river-farmers-market-2/2021-07-21/
CATEGORIES:Downtown Toms River Events
ORGANIZER;CN="Downtown Toms River BID":MAILTO:info@downtowntomsriver.com
END:VEVENT
BEGIN:VEVENT
DTSTART;TZID=America/New_York:20210717T170000
DTEND;TZID=America/New_York:20210717T230000
DTSTAMP:20260424T173911
CREATED:20210121T163110Z
LAST-MODIFIED:20210122T134027Z
UID:10000478-1626541200-1626562800@downtowntomsriver.com
SUMMARY:Downtown Night Out
DESCRIPTION:Downtown Night Out is returning in 2021!  We had such a blast last year we are bringing it back.  Every Friday and Saturday downtown restaurants and businesses will be open for dining\, drinking\, shopping and entertaining.  A section of Washington Street (between Robbins St. and Main St.) will be closed for outdoor dining. \n 
URL:https://downtowntomsriver.com/event/downtown-night-out-2/2021-07-17/
CATEGORIES:Downtown Toms River Events
ORGANIZER;CN="Downtown Toms River BID":MAILTO:info@downtowntomsriver.com
END:VEVENT
BEGIN:VEVENT
DTSTART;TZID=America/New_York:20210716T170000
DTEND;TZID=America/New_York:20210716T230000
DTSTAMP:20260424T173911
CREATED:20210121T163110Z
LAST-MODIFIED:20210122T134027Z
UID:10000477-1626454800-1626476400@downtowntomsriver.com
SUMMARY:Downtown Night Out
DESCRIPTION:Downtown Night Out is returning in 2021!  We had such a blast last year we are bringing it back.  Every Friday and Saturday downtown restaurants and businesses will be open for dining\, drinking\, shopping and entertaining.  A section of Washington Street (between Robbins St. and Main St.) will be closed for outdoor dining. \n 
URL:https://downtowntomsriver.com/event/downtown-night-out-2/2021-07-16/
CATEGORIES:Downtown Toms River Events
ORGANIZER;CN="Downtown Toms River BID":MAILTO:info@downtowntomsriver.com
END:VEVENT
BEGIN:VEVENT
DTSTART;TZID=America/New_York:20210714T100000
DTEND;TZID=America/New_York:20210714T160000
DTSTAMP:20260424T173911
CREATED:20210120T190611Z
LAST-MODIFIED:20210121T121030Z
UID:10000431-1626256800-1626278400@downtowntomsriver.com
SUMMARY:Downtown Toms River Farmers' Market
DESCRIPTION:Every Wednesday from 10am-4pm join the Downtown Toms River Business Improvement District at the weekly Farmers’ Market located at 700 Main St. (behind New Life Church).  4 Local NJ farms\, Organic farm\,  NJ Winery\, gourmet Italian Specialties\, baked goods\, honey\, pickles\, olives\, and much more!  Food truck and smoothie truck on premises every week. \n  \n 
URL:https://downtowntomsriver.com/event/downtown-toms-river-farmers-market-2/2021-07-14/
CATEGORIES:Downtown Toms River Events
ORGANIZER;CN="Downtown Toms River BID":MAILTO:info@downtowntomsriver.com
END:VEVENT
BEGIN:VEVENT
DTSTART;TZID=America/New_York:20210710T170000
DTEND;TZID=America/New_York:20210710T230000
DTSTAMP:20260424T173911
CREATED:20210121T163110Z
LAST-MODIFIED:20210122T134027Z
UID:10000476-1625936400-1625958000@downtowntomsriver.com
SUMMARY:Downtown Night Out
DESCRIPTION:Downtown Night Out is returning in 2021!  We had such a blast last year we are bringing it back.  Every Friday and Saturday downtown restaurants and businesses will be open for dining\, drinking\, shopping and entertaining.  A section of Washington Street (between Robbins St. and Main St.) will be closed for outdoor dining. \n 
URL:https://downtowntomsriver.com/event/downtown-night-out-2/2021-07-10/
CATEGORIES:Downtown Toms River Events
ORGANIZER;CN="Downtown Toms River BID":MAILTO:info@downtowntomsriver.com
END:VEVENT
BEGIN:VEVENT
DTSTART;TZID=America/New_York:20210709T170000
DTEND;TZID=America/New_York:20210709T230000
DTSTAMP:20260424T173911
CREATED:20210121T163110Z
LAST-MODIFIED:20210122T134027Z
UID:10000475-1625850000-1625871600@downtowntomsriver.com
SUMMARY:Downtown Night Out
DESCRIPTION:Downtown Night Out is returning in 2021!  We had such a blast last year we are bringing it back.  Every Friday and Saturday downtown restaurants and businesses will be open for dining\, drinking\, shopping and entertaining.  A section of Washington Street (between Robbins St. and Main St.) will be closed for outdoor dining. \n 
URL:https://downtowntomsriver.com/event/downtown-night-out-2/2021-07-09/
CATEGORIES:Downtown Toms River Events
ORGANIZER;CN="Downtown Toms River BID":MAILTO:info@downtowntomsriver.com
END:VEVENT
BEGIN:VEVENT
DTSTART;TZID=America/New_York:20210707T100000
DTEND;TZID=America/New_York:20210707T160000
DTSTAMP:20260424T173911
CREATED:20210120T190611Z
LAST-MODIFIED:20210121T121030Z
UID:10000430-1625652000-1625673600@downtowntomsriver.com
SUMMARY:Downtown Toms River Farmers' Market
DESCRIPTION:Every Wednesday from 10am-4pm join the Downtown Toms River Business Improvement District at the weekly Farmers’ Market located at 700 Main St. (behind New Life Church).  4 Local NJ farms\, Organic farm\,  NJ Winery\, gourmet Italian Specialties\, baked goods\, honey\, pickles\, olives\, and much more!  Food truck and smoothie truck on premises every week. \n  \n 
URL:https://downtowntomsriver.com/event/downtown-toms-river-farmers-market-2/2021-07-07/
CATEGORIES:Downtown Toms River Events
ORGANIZER;CN="Downtown Toms River BID":MAILTO:info@downtowntomsriver.com
END:VEVENT
BEGIN:VEVENT
DTSTART;TZID=America/New_York:20210703T170000
DTEND;TZID=America/New_York:20210703T230000
DTSTAMP:20260424T173911
CREATED:20210121T163110Z
LAST-MODIFIED:20210122T134027Z
UID:10000474-1625331600-1625353200@downtowntomsriver.com
SUMMARY:Downtown Night Out
DESCRIPTION:Downtown Night Out is returning in 2021!  We had such a blast last year we are bringing it back.  Every Friday and Saturday downtown restaurants and businesses will be open for dining\, drinking\, shopping and entertaining.  A section of Washington Street (between Robbins St. and Main St.) will be closed for outdoor dining. \n 
URL:https://downtowntomsriver.com/event/downtown-night-out-2/2021-07-03/
CATEGORIES:Downtown Toms River Events
ORGANIZER;CN="Downtown Toms River BID":MAILTO:info@downtowntomsriver.com
END:VEVENT
BEGIN:VEVENT
DTSTART;TZID=America/New_York:20210702T170000
DTEND;TZID=America/New_York:20210702T230000
DTSTAMP:20260424T173911
CREATED:20210121T163110Z
LAST-MODIFIED:20210122T134027Z
UID:10000473-1625245200-1625266800@downtowntomsriver.com
SUMMARY:Downtown Night Out
DESCRIPTION:Downtown Night Out is returning in 2021!  We had such a blast last year we are bringing it back.  Every Friday and Saturday downtown restaurants and businesses will be open for dining\, drinking\, shopping and entertaining.  A section of Washington Street (between Robbins St. and Main St.) will be closed for outdoor dining. \n 
URL:https://downtowntomsriver.com/event/downtown-night-out-2/2021-07-02/
CATEGORIES:Downtown Toms River Events
ORGANIZER;CN="Downtown Toms River BID":MAILTO:info@downtowntomsriver.com
END:VEVENT
BEGIN:VEVENT
DTSTART;TZID=America/New_York:20210630T100000
DTEND;TZID=America/New_York:20210630T160000
DTSTAMP:20260424T173911
CREATED:20210120T190611Z
LAST-MODIFIED:20210121T121030Z
UID:10000429-1625047200-1625068800@downtowntomsriver.com
SUMMARY:Downtown Toms River Farmers' Market
DESCRIPTION:Every Wednesday from 10am-4pm join the Downtown Toms River Business Improvement District at the weekly Farmers’ Market located at 700 Main St. (behind New Life Church).  4 Local NJ farms\, Organic farm\,  NJ Winery\, gourmet Italian Specialties\, baked goods\, honey\, pickles\, olives\, and much more!  Food truck and smoothie truck on premises every week. \n  \n 
URL:https://downtowntomsriver.com/event/downtown-toms-river-farmers-market-2/2021-06-30/
CATEGORIES:Downtown Toms River Events
ORGANIZER;CN="Downtown Toms River BID":MAILTO:info@downtowntomsriver.com
END:VEVENT
BEGIN:VEVENT
DTSTART;TZID=America/New_York:20210626T170000
DTEND;TZID=America/New_York:20210626T230000
DTSTAMP:20260424T173911
CREATED:20210121T163110Z
LAST-MODIFIED:20210122T134027Z
UID:10000472-1624726800-1624748400@downtowntomsriver.com
SUMMARY:Downtown Night Out
DESCRIPTION:Downtown Night Out is returning in 2021!  We had such a blast last year we are bringing it back.  Every Friday and Saturday downtown restaurants and businesses will be open for dining\, drinking\, shopping and entertaining.  A section of Washington Street (between Robbins St. and Main St.) will be closed for outdoor dining. \n 
URL:https://downtowntomsriver.com/event/downtown-night-out-2/2021-06-26/
CATEGORIES:Downtown Toms River Events
ORGANIZER;CN="Downtown Toms River BID":MAILTO:info@downtowntomsriver.com
END:VEVENT
BEGIN:VEVENT
DTSTART;TZID=America/New_York:20210625T170000
DTEND;TZID=America/New_York:20210625T230000
DTSTAMP:20260424T173911
CREATED:20210121T163110Z
LAST-MODIFIED:20210122T134027Z
UID:10000471-1624640400-1624662000@downtowntomsriver.com
SUMMARY:Downtown Night Out
DESCRIPTION:Downtown Night Out is returning in 2021!  We had such a blast last year we are bringing it back.  Every Friday and Saturday downtown restaurants and businesses will be open for dining\, drinking\, shopping and entertaining.  A section of Washington Street (between Robbins St. and Main St.) will be closed for outdoor dining. \n 
URL:https://downtowntomsriver.com/event/downtown-night-out-2/2021-06-25/
CATEGORIES:Downtown Toms River Events
ORGANIZER;CN="Downtown Toms River BID":MAILTO:info@downtowntomsriver.com
END:VEVENT
BEGIN:VEVENT
DTSTART;TZID=America/New_York:20210623T100000
DTEND;TZID=America/New_York:20210623T160000
DTSTAMP:20260424T173911
CREATED:20210120T190611Z
LAST-MODIFIED:20210121T121030Z
UID:10000428-1624442400-1624464000@downtowntomsriver.com
SUMMARY:Downtown Toms River Farmers' Market
DESCRIPTION:Every Wednesday from 10am-4pm join the Downtown Toms River Business Improvement District at the weekly Farmers’ Market located at 700 Main St. (behind New Life Church).  4 Local NJ farms\, Organic farm\,  NJ Winery\, gourmet Italian Specialties\, baked goods\, honey\, pickles\, olives\, and much more!  Food truck and smoothie truck on premises every week. \n  \n 
URL:https://downtowntomsriver.com/event/downtown-toms-river-farmers-market-2/2021-06-23/
CATEGORIES:Downtown Toms River Events
ORGANIZER;CN="Downtown Toms River BID":MAILTO:info@downtowntomsriver.com
END:VEVENT
BEGIN:VEVENT
DTSTART;TZID=America/New_York:20210619T170000
DTEND;TZID=America/New_York:20210619T230000
DTSTAMP:20260424T173911
CREATED:20210121T163110Z
LAST-MODIFIED:20210122T134027Z
UID:10000470-1624122000-1624143600@downtowntomsriver.com
SUMMARY:Downtown Night Out
DESCRIPTION:Downtown Night Out is returning in 2021!  We had such a blast last year we are bringing it back.  Every Friday and Saturday downtown restaurants and businesses will be open for dining\, drinking\, shopping and entertaining.  A section of Washington Street (between Robbins St. and Main St.) will be closed for outdoor dining. \n 
URL:https://downtowntomsriver.com/event/downtown-night-out-2/2021-06-19/
CATEGORIES:Downtown Toms River Events
ORGANIZER;CN="Downtown Toms River BID":MAILTO:info@downtowntomsriver.com
END:VEVENT
BEGIN:VEVENT
DTSTART;TZID=America/New_York:20210618T170000
DTEND;TZID=America/New_York:20210618T230000
DTSTAMP:20260424T173911
CREATED:20210121T163110Z
LAST-MODIFIED:20210122T134027Z
UID:10000469-1624035600-1624057200@downtowntomsriver.com
SUMMARY:Downtown Night Out
DESCRIPTION:Downtown Night Out is returning in 2021!  We had such a blast last year we are bringing it back.  Every Friday and Saturday downtown restaurants and businesses will be open for dining\, drinking\, shopping and entertaining.  A section of Washington Street (between Robbins St. and Main St.) will be closed for outdoor dining. \n 
URL:https://downtowntomsriver.com/event/downtown-night-out-2/2021-06-18/
CATEGORIES:Downtown Toms River Events
ORGANIZER;CN="Downtown Toms River BID":MAILTO:info@downtowntomsriver.com
END:VEVENT
BEGIN:VEVENT
DTSTART;TZID=America/New_York:20210616T100000
DTEND;TZID=America/New_York:20210616T160000
DTSTAMP:20260424T173911
CREATED:20210120T190611Z
LAST-MODIFIED:20210121T121030Z
UID:10000427-1623837600-1623859200@downtowntomsriver.com
SUMMARY:Downtown Toms River Farmers' Market
DESCRIPTION:Every Wednesday from 10am-4pm join the Downtown Toms River Business Improvement District at the weekly Farmers’ Market located at 700 Main St. (behind New Life Church).  4 Local NJ farms\, Organic farm\,  NJ Winery\, gourmet Italian Specialties\, baked goods\, honey\, pickles\, olives\, and much more!  Food truck and smoothie truck on premises every week. \n  \n 
URL:https://downtowntomsriver.com/event/downtown-toms-river-farmers-market-2/2021-06-16/
CATEGORIES:Downtown Toms River Events
ORGANIZER;CN="Downtown Toms River BID":MAILTO:info@downtowntomsriver.com
END:VEVENT
BEGIN:VEVENT
DTSTART;TZID=America/New_York:20210612T170000
DTEND;TZID=America/New_York:20210612T230000
DTSTAMP:20260424T173911
CREATED:20210121T163110Z
LAST-MODIFIED:20210122T134027Z
UID:10000468-1623517200-1623538800@downtowntomsriver.com
SUMMARY:Downtown Night Out
DESCRIPTION:Downtown Night Out is returning in 2021!  We had such a blast last year we are bringing it back.  Every Friday and Saturday downtown restaurants and businesses will be open for dining\, drinking\, shopping and entertaining.  A section of Washington Street (between Robbins St. and Main St.) will be closed for outdoor dining. \n 
URL:https://downtowntomsriver.com/event/downtown-night-out-2/2021-06-12/
CATEGORIES:Downtown Toms River Events
ORGANIZER;CN="Downtown Toms River BID":MAILTO:info@downtowntomsriver.com
END:VEVENT
BEGIN:VEVENT
DTSTART;TZID=America/New_York:20210611T170000
DTEND;TZID=America/New_York:20210611T230000
DTSTAMP:20260424T173911
CREATED:20210121T163110Z
LAST-MODIFIED:20210122T134027Z
UID:10000467-1623430800-1623452400@downtowntomsriver.com
SUMMARY:Downtown Night Out
DESCRIPTION:Downtown Night Out is returning in 2021!  We had such a blast last year we are bringing it back.  Every Friday and Saturday downtown restaurants and businesses will be open for dining\, drinking\, shopping and entertaining.  A section of Washington Street (between Robbins St. and Main St.) will be closed for outdoor dining. \n 
URL:https://downtowntomsriver.com/event/downtown-night-out-2/2021-06-11/
CATEGORIES:Downtown Toms River Events
ORGANIZER;CN="Downtown Toms River BID":MAILTO:info@downtowntomsriver.com
END:VEVENT
BEGIN:VEVENT
DTSTART;TZID=America/New_York:20210609T100000
DTEND;TZID=America/New_York:20210609T160000
DTSTAMP:20260424T173911
CREATED:20210120T190611Z
LAST-MODIFIED:20210121T121030Z
UID:10000426-1623232800-1623254400@downtowntomsriver.com
SUMMARY:Downtown Toms River Farmers' Market
DESCRIPTION:Every Wednesday from 10am-4pm join the Downtown Toms River Business Improvement District at the weekly Farmers’ Market located at 700 Main St. (behind New Life Church).  4 Local NJ farms\, Organic farm\,  NJ Winery\, gourmet Italian Specialties\, baked goods\, honey\, pickles\, olives\, and much more!  Food truck and smoothie truck on premises every week. \n  \n 
URL:https://downtowntomsriver.com/event/downtown-toms-river-farmers-market-2/2021-06-09/
CATEGORIES:Downtown Toms River Events
ORGANIZER;CN="Downtown Toms River BID":MAILTO:info@downtowntomsriver.com
END:VEVENT
END:VCALENDAR