BEGIN:VCALENDAR
VERSION:2.0
PRODID:-// - ECPv6.15.15//NONSGML v1.0//EN
CALSCALE:GREGORIAN
METHOD:PUBLISH
X-ORIGINAL-URL:https://downtowntomsriver.com
X-WR-CALDESC:Events for 
REFRESH-INTERVAL;VALUE=DURATION:PT1H
X-Robots-Tag:noindex
X-PUBLISHED-TTL:PT1H
BEGIN:VTIMEZONE
TZID:America/New_York
BEGIN:DAYLIGHT
TZOFFSETFROM:-0500
TZOFFSETTO:-0400
TZNAME:EDT
DTSTART:20200308T070000
END:DAYLIGHT
BEGIN:STANDARD
TZOFFSETFROM:-0400
TZOFFSETTO:-0500
TZNAME:EST
DTSTART:20201101T060000
END:STANDARD
BEGIN:DAYLIGHT
TZOFFSETFROM:-0500
TZOFFSETTO:-0400
TZNAME:EDT
DTSTART:20210314T070000
END:DAYLIGHT
BEGIN:STANDARD
TZOFFSETFROM:-0400
TZOFFSETTO:-0500
TZNAME:EST
DTSTART:20211107T060000
END:STANDARD
BEGIN:DAYLIGHT
TZOFFSETFROM:-0500
TZOFFSETTO:-0400
TZNAME:EDT
DTSTART:20220313T070000
END:DAYLIGHT
BEGIN:STANDARD
TZOFFSETFROM:-0400
TZOFFSETTO:-0500
TZNAME:EST
DTSTART:20221106T060000
END:STANDARD
END:VTIMEZONE
BEGIN:VEVENT
DTSTART;TZID=America/New_York:20210928T173000
DTEND;TZID=America/New_York:20210928T203000
DTSTAMP:20260424T155931
CREATED:20210826T153825Z
LAST-MODIFIED:20210826T153825Z
UID:10000530-1632850200-1632861000@downtowntomsriver.com
SUMMARY:TRAC Gallery Open Studio
DESCRIPTION:Join us for an Open Studio night! The last Tuesday of every month 5:30-8:30pm.  Bring your own supplies\, bring your own snacks/drinks.  Come out and paint\, draw\, sketch or whatever you want.  Hang out with your fellow artists\, ask for help if you’re stuck on something\, get new ideas from others and help spark your creativity!  A fun relaxing night to just chill and do some artin’ \nIn the Community at 53 Main St. \nMembers are free\, non members are welcome to join for $5.00 a session
URL:https://downtowntomsriver.com/event/trac-gallery-open-studio/2021-09-28/
LOCATION:Downtown Shops Activity Room\, 53 Main Street\, Toms River\, NJ\, 08753\, United States
CATEGORIES:Downtown Toms River Events
ATTACH;FMTTYPE=image/jpeg:https://downtowntomsriver.com/wp-content/uploads/2021/08/paint-night.jpg
ORGANIZER;CN="Toms River Artist Community":MAILTO:tomsriverartistcommunity732@gmail.com
END:VEVENT
BEGIN:VEVENT
DTSTART;TZID=America/New_York:20210925T170000
DTEND;TZID=America/New_York:20210925T230000
DTSTAMP:20260424T155931
CREATED:20210121T163110Z
LAST-MODIFIED:20210122T134027Z
UID:10000498-1632589200-1632610800@downtowntomsriver.com
SUMMARY:Downtown Night Out
DESCRIPTION:Downtown Night Out is returning in 2021!  We had such a blast last year we are bringing it back.  Every Friday and Saturday downtown restaurants and businesses will be open for dining\, drinking\, shopping and entertaining.  A section of Washington Street (between Robbins St. and Main St.) will be closed for outdoor dining. \n 
URL:https://downtowntomsriver.com/event/downtown-night-out-2/2021-09-25/
CATEGORIES:Downtown Toms River Events
ORGANIZER;CN="Downtown Toms River BID":MAILTO:info@downtowntomsriver.com
END:VEVENT
BEGIN:VEVENT
DTSTART;TZID=America/New_York:20210924T170000
DTEND;TZID=America/New_York:20210924T230000
DTSTAMP:20260424T155931
CREATED:20210121T163110Z
LAST-MODIFIED:20210122T134027Z
UID:10000497-1632502800-1632524400@downtowntomsriver.com
SUMMARY:Downtown Night Out
DESCRIPTION:Downtown Night Out is returning in 2021!  We had such a blast last year we are bringing it back.  Every Friday and Saturday downtown restaurants and businesses will be open for dining\, drinking\, shopping and entertaining.  A section of Washington Street (between Robbins St. and Main St.) will be closed for outdoor dining. \n 
URL:https://downtowntomsriver.com/event/downtown-night-out-2/2021-09-24/
CATEGORIES:Downtown Toms River Events
ORGANIZER;CN="Downtown Toms River BID":MAILTO:info@downtowntomsriver.com
END:VEVENT
BEGIN:VEVENT
DTSTART;TZID=America/New_York:20210922T100000
DTEND;TZID=America/New_York:20210922T160000
DTSTAMP:20260424T155931
CREATED:20210120T190611Z
LAST-MODIFIED:20210121T121030Z
UID:10000441-1632304800-1632326400@downtowntomsriver.com
SUMMARY:Downtown Toms River Farmers' Market
DESCRIPTION:Every Wednesday from 10am-4pm join the Downtown Toms River Business Improvement District at the weekly Farmers’ Market located at 700 Main St. (behind New Life Church).  4 Local NJ farms\, Organic farm\,  NJ Winery\, gourmet Italian Specialties\, baked goods\, honey\, pickles\, olives\, and much more!  Food truck and smoothie truck on premises every week. \n  \n 
URL:https://downtowntomsriver.com/event/downtown-toms-river-farmers-market-2/2021-09-22/
CATEGORIES:Downtown Toms River Events
ORGANIZER;CN="Downtown Toms River BID":MAILTO:info@downtowntomsriver.com
END:VEVENT
BEGIN:VEVENT
DTSTART;TZID=America/New_York:20210918T170000
DTEND;TZID=America/New_York:20210918T230000
DTSTAMP:20260424T155931
CREATED:20210121T163110Z
LAST-MODIFIED:20210122T134027Z
UID:10000496-1631984400-1632006000@downtowntomsriver.com
SUMMARY:Downtown Night Out
DESCRIPTION:Downtown Night Out is returning in 2021!  We had such a blast last year we are bringing it back.  Every Friday and Saturday downtown restaurants and businesses will be open for dining\, drinking\, shopping and entertaining.  A section of Washington Street (between Robbins St. and Main St.) will be closed for outdoor dining. \n 
URL:https://downtowntomsriver.com/event/downtown-night-out-2/2021-09-18/
CATEGORIES:Downtown Toms River Events
ORGANIZER;CN="Downtown Toms River BID":MAILTO:info@downtowntomsriver.com
END:VEVENT
BEGIN:VEVENT
DTSTART;TZID=America/New_York:20210917T170000
DTEND;TZID=America/New_York:20210917T230000
DTSTAMP:20260424T155931
CREATED:20210121T163110Z
LAST-MODIFIED:20210122T134027Z
UID:10000495-1631898000-1631919600@downtowntomsriver.com
SUMMARY:Downtown Night Out
DESCRIPTION:Downtown Night Out is returning in 2021!  We had such a blast last year we are bringing it back.  Every Friday and Saturday downtown restaurants and businesses will be open for dining\, drinking\, shopping and entertaining.  A section of Washington Street (between Robbins St. and Main St.) will be closed for outdoor dining. \n 
URL:https://downtowntomsriver.com/event/downtown-night-out-2/2021-09-17/
CATEGORIES:Downtown Toms River Events
ORGANIZER;CN="Downtown Toms River BID":MAILTO:info@downtowntomsriver.com
END:VEVENT
BEGIN:VEVENT
DTSTART;TZID=America/New_York:20210915T100000
DTEND;TZID=America/New_York:20210915T160000
DTSTAMP:20260424T155931
CREATED:20210120T190611Z
LAST-MODIFIED:20210121T121030Z
UID:10000440-1631700000-1631721600@downtowntomsriver.com
SUMMARY:Downtown Toms River Farmers' Market
DESCRIPTION:Every Wednesday from 10am-4pm join the Downtown Toms River Business Improvement District at the weekly Farmers’ Market located at 700 Main St. (behind New Life Church).  4 Local NJ farms\, Organic farm\,  NJ Winery\, gourmet Italian Specialties\, baked goods\, honey\, pickles\, olives\, and much more!  Food truck and smoothie truck on premises every week. \n  \n 
URL:https://downtowntomsriver.com/event/downtown-toms-river-farmers-market-2/2021-09-15/
CATEGORIES:Downtown Toms River Events
ORGANIZER;CN="Downtown Toms River BID":MAILTO:info@downtowntomsriver.com
END:VEVENT
BEGIN:VEVENT
DTSTART;TZID=America/New_York:20210911T170000
DTEND;TZID=America/New_York:20210911T230000
DTSTAMP:20260424T155931
CREATED:20210121T163110Z
LAST-MODIFIED:20210122T134027Z
UID:10000494-1631379600-1631401200@downtowntomsriver.com
SUMMARY:Downtown Night Out
DESCRIPTION:Downtown Night Out is returning in 2021!  We had such a blast last year we are bringing it back.  Every Friday and Saturday downtown restaurants and businesses will be open for dining\, drinking\, shopping and entertaining.  A section of Washington Street (between Robbins St. and Main St.) will be closed for outdoor dining. \n 
URL:https://downtowntomsriver.com/event/downtown-night-out-2/2021-09-11/
CATEGORIES:Downtown Toms River Events
ORGANIZER;CN="Downtown Toms River BID":MAILTO:info@downtowntomsriver.com
END:VEVENT
BEGIN:VEVENT
DTSTART;TZID=America/New_York:20210910T170000
DTEND;TZID=America/New_York:20210910T230000
DTSTAMP:20260424T155931
CREATED:20210121T163110Z
LAST-MODIFIED:20210122T134027Z
UID:10000493-1631293200-1631314800@downtowntomsriver.com
SUMMARY:Downtown Night Out
DESCRIPTION:Downtown Night Out is returning in 2021!  We had such a blast last year we are bringing it back.  Every Friday and Saturday downtown restaurants and businesses will be open for dining\, drinking\, shopping and entertaining.  A section of Washington Street (between Robbins St. and Main St.) will be closed for outdoor dining. \n 
URL:https://downtowntomsriver.com/event/downtown-night-out-2/2021-09-10/
CATEGORIES:Downtown Toms River Events
ORGANIZER;CN="Downtown Toms River BID":MAILTO:info@downtowntomsriver.com
END:VEVENT
BEGIN:VEVENT
DTSTART;TZID=America/New_York:20210908T100000
DTEND;TZID=America/New_York:20210908T160000
DTSTAMP:20260424T155931
CREATED:20210120T190611Z
LAST-MODIFIED:20210121T121030Z
UID:10000439-1631095200-1631116800@downtowntomsriver.com
SUMMARY:Downtown Toms River Farmers' Market
DESCRIPTION:Every Wednesday from 10am-4pm join the Downtown Toms River Business Improvement District at the weekly Farmers’ Market located at 700 Main St. (behind New Life Church).  4 Local NJ farms\, Organic farm\,  NJ Winery\, gourmet Italian Specialties\, baked goods\, honey\, pickles\, olives\, and much more!  Food truck and smoothie truck on premises every week. \n  \n 
URL:https://downtowntomsriver.com/event/downtown-toms-river-farmers-market-2/2021-09-08/
CATEGORIES:Downtown Toms River Events
ORGANIZER;CN="Downtown Toms River BID":MAILTO:info@downtowntomsriver.com
END:VEVENT
BEGIN:VEVENT
DTSTART;TZID=America/New_York:20210904T170000
DTEND;TZID=America/New_York:20210904T230000
DTSTAMP:20260424T155931
CREATED:20210121T163110Z
LAST-MODIFIED:20210122T134027Z
UID:10000492-1630774800-1630796400@downtowntomsriver.com
SUMMARY:Downtown Night Out
DESCRIPTION:Downtown Night Out is returning in 2021!  We had such a blast last year we are bringing it back.  Every Friday and Saturday downtown restaurants and businesses will be open for dining\, drinking\, shopping and entertaining.  A section of Washington Street (between Robbins St. and Main St.) will be closed for outdoor dining. \n 
URL:https://downtowntomsriver.com/event/downtown-night-out-2/2021-09-04/
CATEGORIES:Downtown Toms River Events
ORGANIZER;CN="Downtown Toms River BID":MAILTO:info@downtowntomsriver.com
END:VEVENT
BEGIN:VEVENT
DTSTART;TZID=America/New_York:20210903T170000
DTEND;TZID=America/New_York:20210903T230000
DTSTAMP:20260424T155931
CREATED:20210121T163110Z
LAST-MODIFIED:20210122T134027Z
UID:10000491-1630688400-1630710000@downtowntomsriver.com
SUMMARY:Downtown Night Out
DESCRIPTION:Downtown Night Out is returning in 2021!  We had such a blast last year we are bringing it back.  Every Friday and Saturday downtown restaurants and businesses will be open for dining\, drinking\, shopping and entertaining.  A section of Washington Street (between Robbins St. and Main St.) will be closed for outdoor dining. \n 
URL:https://downtowntomsriver.com/event/downtown-night-out-2/2021-09-03/
CATEGORIES:Downtown Toms River Events
ORGANIZER;CN="Downtown Toms River BID":MAILTO:info@downtowntomsriver.com
END:VEVENT
BEGIN:VEVENT
DTSTART;TZID=America/New_York:20210901T100000
DTEND;TZID=America/New_York:20210901T160000
DTSTAMP:20260424T155931
CREATED:20210120T190611Z
LAST-MODIFIED:20210121T121030Z
UID:10000438-1630490400-1630512000@downtowntomsriver.com
SUMMARY:Downtown Toms River Farmers' Market
DESCRIPTION:Every Wednesday from 10am-4pm join the Downtown Toms River Business Improvement District at the weekly Farmers’ Market located at 700 Main St. (behind New Life Church).  4 Local NJ farms\, Organic farm\,  NJ Winery\, gourmet Italian Specialties\, baked goods\, honey\, pickles\, olives\, and much more!  Food truck and smoothie truck on premises every week. \n  \n 
URL:https://downtowntomsriver.com/event/downtown-toms-river-farmers-market-2/2021-09-01/
CATEGORIES:Downtown Toms River Events
ORGANIZER;CN="Downtown Toms River BID":MAILTO:info@downtowntomsriver.com
END:VEVENT
BEGIN:VEVENT
DTSTART;TZID=America/New_York:20210828T170000
DTEND;TZID=America/New_York:20210828T230000
DTSTAMP:20260424T155931
CREATED:20210121T163110Z
LAST-MODIFIED:20210122T134027Z
UID:10000490-1630170000-1630191600@downtowntomsriver.com
SUMMARY:Downtown Night Out
DESCRIPTION:Downtown Night Out is returning in 2021!  We had such a blast last year we are bringing it back.  Every Friday and Saturday downtown restaurants and businesses will be open for dining\, drinking\, shopping and entertaining.  A section of Washington Street (between Robbins St. and Main St.) will be closed for outdoor dining. \n 
URL:https://downtowntomsriver.com/event/downtown-night-out-2/2021-08-28/
CATEGORIES:Downtown Toms River Events
ORGANIZER;CN="Downtown Toms River BID":MAILTO:info@downtowntomsriver.com
END:VEVENT
BEGIN:VEVENT
DTSTART;TZID=America/New_York:20210827T170000
DTEND;TZID=America/New_York:20210827T230000
DTSTAMP:20260424T155931
CREATED:20210121T163110Z
LAST-MODIFIED:20210122T134027Z
UID:10000489-1630083600-1630105200@downtowntomsriver.com
SUMMARY:Downtown Night Out
DESCRIPTION:Downtown Night Out is returning in 2021!  We had such a blast last year we are bringing it back.  Every Friday and Saturday downtown restaurants and businesses will be open for dining\, drinking\, shopping and entertaining.  A section of Washington Street (between Robbins St. and Main St.) will be closed for outdoor dining. \n 
URL:https://downtowntomsriver.com/event/downtown-night-out-2/2021-08-27/
CATEGORIES:Downtown Toms River Events
ORGANIZER;CN="Downtown Toms River BID":MAILTO:info@downtowntomsriver.com
END:VEVENT
BEGIN:VEVENT
DTSTART;TZID=America/New_York:20210825T100000
DTEND;TZID=America/New_York:20210825T160000
DTSTAMP:20260424T155931
CREATED:20210120T190611Z
LAST-MODIFIED:20210121T121030Z
UID:10000437-1629885600-1629907200@downtowntomsriver.com
SUMMARY:Downtown Toms River Farmers' Market
DESCRIPTION:Every Wednesday from 10am-4pm join the Downtown Toms River Business Improvement District at the weekly Farmers’ Market located at 700 Main St. (behind New Life Church).  4 Local NJ farms\, Organic farm\,  NJ Winery\, gourmet Italian Specialties\, baked goods\, honey\, pickles\, olives\, and much more!  Food truck and smoothie truck on premises every week. \n  \n 
URL:https://downtowntomsriver.com/event/downtown-toms-river-farmers-market-2/2021-08-25/
CATEGORIES:Downtown Toms River Events
ORGANIZER;CN="Downtown Toms River BID":MAILTO:info@downtowntomsriver.com
END:VEVENT
BEGIN:VEVENT
DTSTART;TZID=America/New_York:20210821T170000
DTEND;TZID=America/New_York:20210821T230000
DTSTAMP:20260424T155931
CREATED:20210121T163110Z
LAST-MODIFIED:20210122T134027Z
UID:10000488-1629565200-1629586800@downtowntomsriver.com
SUMMARY:Downtown Night Out
DESCRIPTION:Downtown Night Out is returning in 2021!  We had such a blast last year we are bringing it back.  Every Friday and Saturday downtown restaurants and businesses will be open for dining\, drinking\, shopping and entertaining.  A section of Washington Street (between Robbins St. and Main St.) will be closed for outdoor dining. \n 
URL:https://downtowntomsriver.com/event/downtown-night-out-2/2021-08-21/
CATEGORIES:Downtown Toms River Events
ORGANIZER;CN="Downtown Toms River BID":MAILTO:info@downtowntomsriver.com
END:VEVENT
BEGIN:VEVENT
DTSTART;TZID=America/New_York:20210820T170000
DTEND;TZID=America/New_York:20210820T230000
DTSTAMP:20260424T155931
CREATED:20210121T163110Z
LAST-MODIFIED:20210122T134027Z
UID:10000487-1629478800-1629500400@downtowntomsriver.com
SUMMARY:Downtown Night Out
DESCRIPTION:Downtown Night Out is returning in 2021!  We had such a blast last year we are bringing it back.  Every Friday and Saturday downtown restaurants and businesses will be open for dining\, drinking\, shopping and entertaining.  A section of Washington Street (between Robbins St. and Main St.) will be closed for outdoor dining. \n 
URL:https://downtowntomsriver.com/event/downtown-night-out-2/2021-08-20/
CATEGORIES:Downtown Toms River Events
ORGANIZER;CN="Downtown Toms River BID":MAILTO:info@downtowntomsriver.com
END:VEVENT
BEGIN:VEVENT
DTSTART;TZID=America/New_York:20210818T100000
DTEND;TZID=America/New_York:20210818T160000
DTSTAMP:20260424T155931
CREATED:20210120T190611Z
LAST-MODIFIED:20210121T121030Z
UID:10000436-1629280800-1629302400@downtowntomsriver.com
SUMMARY:Downtown Toms River Farmers' Market
DESCRIPTION:Every Wednesday from 10am-4pm join the Downtown Toms River Business Improvement District at the weekly Farmers’ Market located at 700 Main St. (behind New Life Church).  4 Local NJ farms\, Organic farm\,  NJ Winery\, gourmet Italian Specialties\, baked goods\, honey\, pickles\, olives\, and much more!  Food truck and smoothie truck on premises every week. \n  \n 
URL:https://downtowntomsriver.com/event/downtown-toms-river-farmers-market-2/2021-08-18/
CATEGORIES:Downtown Toms River Events
ORGANIZER;CN="Downtown Toms River BID":MAILTO:info@downtowntomsriver.com
END:VEVENT
BEGIN:VEVENT
DTSTART;TZID=America/New_York:20210814T170000
DTEND;TZID=America/New_York:20210814T230000
DTSTAMP:20260424T155931
CREATED:20210121T163110Z
LAST-MODIFIED:20210122T134027Z
UID:10000486-1628960400-1628982000@downtowntomsriver.com
SUMMARY:Downtown Night Out
DESCRIPTION:Downtown Night Out is returning in 2021!  We had such a blast last year we are bringing it back.  Every Friday and Saturday downtown restaurants and businesses will be open for dining\, drinking\, shopping and entertaining.  A section of Washington Street (between Robbins St. and Main St.) will be closed for outdoor dining. \n 
URL:https://downtowntomsriver.com/event/downtown-night-out-2/2021-08-14/
CATEGORIES:Downtown Toms River Events
ORGANIZER;CN="Downtown Toms River BID":MAILTO:info@downtowntomsriver.com
END:VEVENT
BEGIN:VEVENT
DTSTART;TZID=America/New_York:20210813T170000
DTEND;TZID=America/New_York:20210813T230000
DTSTAMP:20260424T155931
CREATED:20210121T163110Z
LAST-MODIFIED:20210122T134027Z
UID:10000485-1628874000-1628895600@downtowntomsriver.com
SUMMARY:Downtown Night Out
DESCRIPTION:Downtown Night Out is returning in 2021!  We had such a blast last year we are bringing it back.  Every Friday and Saturday downtown restaurants and businesses will be open for dining\, drinking\, shopping and entertaining.  A section of Washington Street (between Robbins St. and Main St.) will be closed for outdoor dining. \n 
URL:https://downtowntomsriver.com/event/downtown-night-out-2/2021-08-13/
CATEGORIES:Downtown Toms River Events
ORGANIZER;CN="Downtown Toms River BID":MAILTO:info@downtowntomsriver.com
END:VEVENT
BEGIN:VEVENT
DTSTART;TZID=America/New_York:20210811T100000
DTEND;TZID=America/New_York:20210811T160000
DTSTAMP:20260424T155931
CREATED:20210120T190611Z
LAST-MODIFIED:20210121T121030Z
UID:10000435-1628676000-1628697600@downtowntomsriver.com
SUMMARY:Downtown Toms River Farmers' Market
DESCRIPTION:Every Wednesday from 10am-4pm join the Downtown Toms River Business Improvement District at the weekly Farmers’ Market located at 700 Main St. (behind New Life Church).  4 Local NJ farms\, Organic farm\,  NJ Winery\, gourmet Italian Specialties\, baked goods\, honey\, pickles\, olives\, and much more!  Food truck and smoothie truck on premises every week. \n  \n 
URL:https://downtowntomsriver.com/event/downtown-toms-river-farmers-market-2/2021-08-11/
CATEGORIES:Downtown Toms River Events
ORGANIZER;CN="Downtown Toms River BID":MAILTO:info@downtowntomsriver.com
END:VEVENT
BEGIN:VEVENT
DTSTART;TZID=America/New_York:20210807T170000
DTEND;TZID=America/New_York:20210807T230000
DTSTAMP:20260424T155931
CREATED:20210121T163110Z
LAST-MODIFIED:20210122T134027Z
UID:10000484-1628355600-1628377200@downtowntomsriver.com
SUMMARY:Downtown Night Out
DESCRIPTION:Downtown Night Out is returning in 2021!  We had such a blast last year we are bringing it back.  Every Friday and Saturday downtown restaurants and businesses will be open for dining\, drinking\, shopping and entertaining.  A section of Washington Street (between Robbins St. and Main St.) will be closed for outdoor dining. \n 
URL:https://downtowntomsriver.com/event/downtown-night-out-2/2021-08-07/
CATEGORIES:Downtown Toms River Events
ORGANIZER;CN="Downtown Toms River BID":MAILTO:info@downtowntomsriver.com
END:VEVENT
BEGIN:VEVENT
DTSTART;TZID=America/New_York:20210806T170000
DTEND;TZID=America/New_York:20210806T230000
DTSTAMP:20260424T155931
CREATED:20210121T163110Z
LAST-MODIFIED:20210122T134027Z
UID:10000483-1628269200-1628290800@downtowntomsriver.com
SUMMARY:Downtown Night Out
DESCRIPTION:Downtown Night Out is returning in 2021!  We had such a blast last year we are bringing it back.  Every Friday and Saturday downtown restaurants and businesses will be open for dining\, drinking\, shopping and entertaining.  A section of Washington Street (between Robbins St. and Main St.) will be closed for outdoor dining. \n 
URL:https://downtowntomsriver.com/event/downtown-night-out-2/2021-08-06/
CATEGORIES:Downtown Toms River Events
ORGANIZER;CN="Downtown Toms River BID":MAILTO:info@downtowntomsriver.com
END:VEVENT
BEGIN:VEVENT
DTSTART;TZID=America/New_York:20210804T100000
DTEND;TZID=America/New_York:20210804T160000
DTSTAMP:20260424T155931
CREATED:20210120T190611Z
LAST-MODIFIED:20210121T121030Z
UID:10000434-1628071200-1628092800@downtowntomsriver.com
SUMMARY:Downtown Toms River Farmers' Market
DESCRIPTION:Every Wednesday from 10am-4pm join the Downtown Toms River Business Improvement District at the weekly Farmers’ Market located at 700 Main St. (behind New Life Church).  4 Local NJ farms\, Organic farm\,  NJ Winery\, gourmet Italian Specialties\, baked goods\, honey\, pickles\, olives\, and much more!  Food truck and smoothie truck on premises every week. \n  \n 
URL:https://downtowntomsriver.com/event/downtown-toms-river-farmers-market-2/2021-08-04/
CATEGORIES:Downtown Toms River Events
ORGANIZER;CN="Downtown Toms River BID":MAILTO:info@downtowntomsriver.com
END:VEVENT
BEGIN:VEVENT
DTSTART;TZID=America/New_York:20210731T170000
DTEND;TZID=America/New_York:20210731T230000
DTSTAMP:20260424T155931
CREATED:20210121T163110Z
LAST-MODIFIED:20210122T134027Z
UID:10000482-1627750800-1627772400@downtowntomsriver.com
SUMMARY:Downtown Night Out
DESCRIPTION:Downtown Night Out is returning in 2021!  We had such a blast last year we are bringing it back.  Every Friday and Saturday downtown restaurants and businesses will be open for dining\, drinking\, shopping and entertaining.  A section of Washington Street (between Robbins St. and Main St.) will be closed for outdoor dining. \n 
URL:https://downtowntomsriver.com/event/downtown-night-out-2/2021-07-31/
CATEGORIES:Downtown Toms River Events
ORGANIZER;CN="Downtown Toms River BID":MAILTO:info@downtowntomsriver.com
END:VEVENT
BEGIN:VEVENT
DTSTART;TZID=America/New_York:20210730T170000
DTEND;TZID=America/New_York:20210730T230000
DTSTAMP:20260424T155931
CREATED:20210121T163110Z
LAST-MODIFIED:20210122T134027Z
UID:10000481-1627664400-1627686000@downtowntomsriver.com
SUMMARY:Downtown Night Out
DESCRIPTION:Downtown Night Out is returning in 2021!  We had such a blast last year we are bringing it back.  Every Friday and Saturday downtown restaurants and businesses will be open for dining\, drinking\, shopping and entertaining.  A section of Washington Street (between Robbins St. and Main St.) will be closed for outdoor dining. \n 
URL:https://downtowntomsriver.com/event/downtown-night-out-2/2021-07-30/
CATEGORIES:Downtown Toms River Events
ORGANIZER;CN="Downtown Toms River BID":MAILTO:info@downtowntomsriver.com
END:VEVENT
BEGIN:VEVENT
DTSTART;TZID=America/New_York:20210728T100000
DTEND;TZID=America/New_York:20210728T160000
DTSTAMP:20260424T155931
CREATED:20210120T190611Z
LAST-MODIFIED:20210121T121030Z
UID:10000433-1627466400-1627488000@downtowntomsriver.com
SUMMARY:Downtown Toms River Farmers' Market
DESCRIPTION:Every Wednesday from 10am-4pm join the Downtown Toms River Business Improvement District at the weekly Farmers’ Market located at 700 Main St. (behind New Life Church).  4 Local NJ farms\, Organic farm\,  NJ Winery\, gourmet Italian Specialties\, baked goods\, honey\, pickles\, olives\, and much more!  Food truck and smoothie truck on premises every week. \n  \n 
URL:https://downtowntomsriver.com/event/downtown-toms-river-farmers-market-2/2021-07-28/
CATEGORIES:Downtown Toms River Events
ORGANIZER;CN="Downtown Toms River BID":MAILTO:info@downtowntomsriver.com
END:VEVENT
BEGIN:VEVENT
DTSTART;TZID=America/New_York:20210727T160000
DTEND;TZID=America/New_York:20210727T200000
DTSTAMP:20260424T155931
CREATED:20210720T151236Z
LAST-MODIFIED:20210720T151236Z
UID:10000526-1627401600-1627416000@downtowntomsriver.com
SUMMARY:Garden State Distillery - Summer Art Exhibition - Featuring TRAC Artists
DESCRIPTION:OPENING RECEPTION\nCome out and support two local small businesses. Garden State Distillery will be hosting Toms River Artist Community artist’s. TRAC has 29 amazing works of art\, made especially for this themed show “Grown here. Made here.”\nThis show runs from July 26th – Oct 20th\, 2021. All works available for purchase.\nGarden State Distillery is delighted to implement an Art Initiative to include art exhibitions\, arts and culture related private events\, and pop up markets featuring local artists.\nThe purpose of which is to enhance the enjoyment of guests and increase the engagement with patrons while they are visiting Garden State Distillery\, as well as to advocate for local artists and their artwork\, increase the visibility of the Toms River Arts and Culture District and connect with the larger creative community in surrounding Toms River\, and Ocean County areas.\nAdditionally\, the Art Initiative will bolster existing collaborations among locals artists\, businesses\, and the public and continue to expand the arts\, culture and creative community as a whole
URL:https://downtowntomsriver.com/event/garden-state-distillery-summer-art-exhibition-featuring-trac-artists/
LOCATION:Garden State Distillery\, 13 Washington Street\, Toms River\, 08753\, United States
CATEGORIES:Downtown Toms River Events
ATTACH;FMTTYPE=image/jpeg:https://downtowntomsriver.com/wp-content/uploads/2021/07/dist-trac-page-001.jpg
ORGANIZER;CN="Toms River Artist Community":MAILTO:tomsriverartistcommunity732@gmail.com
END:VEVENT
BEGIN:VEVENT
DTSTART;TZID=America/New_York:20210724T170000
DTEND;TZID=America/New_York:20210724T230000
DTSTAMP:20260424T155931
CREATED:20210121T163110Z
LAST-MODIFIED:20210122T134027Z
UID:10000480-1627146000-1627167600@downtowntomsriver.com
SUMMARY:Downtown Night Out
DESCRIPTION:Downtown Night Out is returning in 2021!  We had such a blast last year we are bringing it back.  Every Friday and Saturday downtown restaurants and businesses will be open for dining\, drinking\, shopping and entertaining.  A section of Washington Street (between Robbins St. and Main St.) will be closed for outdoor dining. \n 
URL:https://downtowntomsriver.com/event/downtown-night-out-2/2021-07-24/
CATEGORIES:Downtown Toms River Events
ORGANIZER;CN="Downtown Toms River BID":MAILTO:info@downtowntomsriver.com
END:VEVENT
END:VCALENDAR