BEGIN:VCALENDAR
VERSION:2.0
PRODID:-// - ECPv6.15.15//NONSGML v1.0//EN
CALSCALE:GREGORIAN
METHOD:PUBLISH
X-ORIGINAL-URL:https://downtowntomsriver.com
X-WR-CALDESC:Events for 
REFRESH-INTERVAL;VALUE=DURATION:PT1H
X-Robots-Tag:noindex
X-PUBLISHED-TTL:PT1H
BEGIN:VTIMEZONE
TZID:America/New_York
BEGIN:DAYLIGHT
TZOFFSETFROM:-0500
TZOFFSETTO:-0400
TZNAME:EDT
DTSTART:20250309T070000
END:DAYLIGHT
BEGIN:STANDARD
TZOFFSETFROM:-0400
TZOFFSETTO:-0500
TZNAME:EST
DTSTART:20251102T060000
END:STANDARD
BEGIN:DAYLIGHT
TZOFFSETFROM:-0500
TZOFFSETTO:-0400
TZNAME:EDT
DTSTART:20260308T070000
END:DAYLIGHT
BEGIN:STANDARD
TZOFFSETFROM:-0400
TZOFFSETTO:-0500
TZNAME:EST
DTSTART:20261101T060000
END:STANDARD
BEGIN:DAYLIGHT
TZOFFSETFROM:-0500
TZOFFSETTO:-0400
TZNAME:EDT
DTSTART:20270314T070000
END:DAYLIGHT
BEGIN:STANDARD
TZOFFSETFROM:-0400
TZOFFSETTO:-0500
TZNAME:EST
DTSTART:20271107T060000
END:STANDARD
END:VTIMEZONE
BEGIN:VEVENT
DTSTART;TZID=America/New_York:20260207T140000
DTEND;TZID=America/New_York:20260207T170000
DTSTAMP:20260423T064725
CREATED:20260121T162607Z
LAST-MODIFIED:20260121T163259Z
UID:10005642-1770472800-1770483600@downtowntomsriver.com
SUMMARY:Puppy Love Pop-Up
DESCRIPTION:A Valentine’s Day pop-up event hosted by Canine Aesthetic. Professional Pet photo op by Chelsea Rose Photography. Vendors include Spire Coffee\, Gifted on Washington and Craft and Carry Custom.
URL:https://downtowntomsriver.com/event/puppy-love-pop-up/
LOCATION:NJ
CATEGORIES:Downtown Toms River Events
ATTACH;FMTTYPE=image/png:https://downtowntomsriver.com/wp-content/uploads/2026/01/01B3B0F2-487F-4BEE-8686-96AEF598B59B.png
END:VEVENT
END:VCALENDAR