BEGIN:VCALENDAR
VERSION:2.0
PRODID:-// - ECPv6.15.15//NONSGML v1.0//EN
CALSCALE:GREGORIAN
METHOD:PUBLISH
X-ORIGINAL-URL:https://downtowntomsriver.com
X-WR-CALDESC:Events for 
REFRESH-INTERVAL;VALUE=DURATION:PT1H
X-Robots-Tag:noindex
X-PUBLISHED-TTL:PT1H
BEGIN:VTIMEZONE
TZID:America/New_York
BEGIN:DAYLIGHT
TZOFFSETFROM:-0500
TZOFFSETTO:-0400
TZNAME:EDT
DTSTART:20240310T070000
END:DAYLIGHT
BEGIN:STANDARD
TZOFFSETFROM:-0400
TZOFFSETTO:-0500
TZNAME:EST
DTSTART:20241103T060000
END:STANDARD
BEGIN:DAYLIGHT
TZOFFSETFROM:-0500
TZOFFSETTO:-0400
TZNAME:EDT
DTSTART:20250309T070000
END:DAYLIGHT
BEGIN:STANDARD
TZOFFSETFROM:-0400
TZOFFSETTO:-0500
TZNAME:EST
DTSTART:20251102T060000
END:STANDARD
BEGIN:DAYLIGHT
TZOFFSETFROM:-0500
TZOFFSETTO:-0400
TZNAME:EDT
DTSTART:20260308T070000
END:DAYLIGHT
BEGIN:STANDARD
TZOFFSETFROM:-0400
TZOFFSETTO:-0500
TZNAME:EST
DTSTART:20261101T060000
END:STANDARD
END:VTIMEZONE
BEGIN:VEVENT
DTSTART;TZID=America/New_York:20251128T110000
DTEND;TZID=America/New_York:20251128T190000
DTSTAMP:20260423T053338
CREATED:20251118T145116Z
LAST-MODIFIED:20251118T145116Z
UID:10005626-1764327600-1764356400@downtowntomsriver.com
SUMMARY:Black Friday Shopping Event at Gifted on Washington!
DESCRIPTION:Our favorite weekend of the whole year is right around the corner\, and we can’t wait to share it with you! 🎁✨ \n11/28 Black Friday (11AM–7PM):\nSpend $75 and get a complimentary cocktail infusion kit (a $25 value!)\, the perfect little treat for yourself or an easy gift to tuck under the tree🍸 \nWhen you shop small\, it makes a REAL difference. We’re so excited to kick off the holidays with you!! ♥️ \n16 Washington St. Toms River NJ
URL:https://downtowntomsriver.com/event/black-friday-shopping-event-at-gifted-on-washington/
LOCATION:Gifted on Washington\, 16 Washington St\, Toms River\, NJ\, 08753-8709\, United States
CATEGORIES:Downtown Business Events
ATTACH;FMTTYPE=image/jpeg:https://downtowntomsriver.com/wp-content/uploads/2025/11/1-scaled.jpg
END:VEVENT
BEGIN:VEVENT
DTSTART;TZID=America/New_York:20251115T120000
DTEND;TZID=America/New_York:20251115T130000
DTSTAMP:20260423T053338
CREATED:20251029T140751Z
LAST-MODIFIED:20251029T140751Z
UID:10005620-1763208000-1763211600@downtowntomsriver.com
SUMMARY:Make Your Own Perfume Workshop
DESCRIPTION:Join us for a Make Your Own Perfume Workshop on Saturday 11/15 at 12PM — led by @thescentsocial_ ✨ \n$50 per person ticket includes:\n💖 A 30ml bottle for your own custom fragrance\n🎀 Access to a decoration station — change the color\, add charms\, and design your own label\n🎨 All supplies included \nCome create a dupe of your favorite scent or design something totally new that’s 100% you!
URL:https://downtowntomsriver.com/event/make-your-own-perfume-workshop/
LOCATION:Gifted on Washington\, 16 Washington St\, Toms River\, NJ\, 08753-8709\, United States
CATEGORIES:Arts & Crafts,Classes,Downtown Business Events,Downtown Toms River Events,Other
ATTACH;FMTTYPE=image/jpeg:https://downtowntomsriver.com/wp-content/uploads/2025/10/Scent-Social-Flyer-scaled.jpg
END:VEVENT
BEGIN:VEVENT
DTSTART;TZID=America/New_York:20251113T183000
DTEND;TZID=America/New_York:20251113T203000
DTSTAMP:20260423T053338
CREATED:20251114T153807Z
LAST-MODIFIED:20251114T153807Z
UID:10005624-1763058600-1763065800@downtowntomsriver.com
SUMMARY:Garden State Distillery Paint n Sip night
DESCRIPTION:Another fun event Coming to Garden State Distillery! \nWednesday November 12th at 6:30pm \nIn downtown Toms River! \nWe will be making these beautiful 12-in wooden pumpkins that come with a bow and a hanging mechanism. 👻🎃🎨🖌️ \n  \nOr!!! \nIf you were getting into the holiday spirit already and would like to paint a Snowman. \nWe have a rustic snowman option for canvas. Just let the artist know when you book \nYou must book in advance due two limited seating though. ☃️ \n  \nYou’ll be taught step by step on how to paint the pumpkin with shading etc. \n🍹🍂🎃 \nAnd your first alcoholic drink is on us for FREE!! \n$40 per person painting. \n  \nYou must sign up for this event in advance due to limited seating. \nTo sign up contact Jessica at \n“JesSea’s Crafty Beaches” Mobile Paint Parties. \n732-581-7115 \n  \nDowntown Toms River Garden State Distillery Company Toms Riverlocal \n  \nGarden State Distillery Company \n“JesSea’s Crafty Beaches” Mobile Paint Parties.
URL:https://downtowntomsriver.com/event/garden-state-distillery-paint-n-sip-night-2/
LOCATION:Garden State Distillery\, 13 Washington Street\, Toms River\, 08753\, United States
CATEGORIES:Arts & Crafts,Classes,Downtown Business Events,Downtown Toms River Events,Toms River Artist Community
ATTACH;FMTTYPE=image/png:https://downtowntomsriver.com/wp-content/uploads/2025/11/1000022112-1.png
END:VEVENT
BEGIN:VEVENT
DTSTART;TZID=America/New_York:20251004T170000
DTEND;TZID=America/New_York:20251004T200000
DTSTAMP:20260423T053338
CREATED:20250916T195357Z
LAST-MODIFIED:20250916T195357Z
UID:10005613-1759597200-1759608000@downtowntomsriver.com
SUMMARY:Host a Little Ghost and the Story of the Mystical Mums: Author Meet and Greet
DESCRIPTION:Join us during Downtown Night Out & meet Lillian Stulich\, co-author of ‘Host a Little host and the Story of the Mystical Mums!’\n \nAn autumn whirlwind came to Tommy and Suzie’s town bringing with it a new friend\, who would teach them the true spirit of caring\, sharing\, and the joy of the Halloween season! Inspired by the students of Toms River Intermediate East in October 2012\, when Halloween in Toms River\, NJ was canceled during Super Storm Sandy\n\n \n\nBooks will be available for purchase! Includes: a tote bag to carry your book & a glow in the dark ghost plush.
URL:https://downtowntomsriver.com/event/host-a-little-ghost-and-the-story-of-the-mystical-mums-author-meet-and-greet/
LOCATION:Gifted on Washington\, 16 Washington St\, Toms River\, NJ\, 08753-8709\, United States
CATEGORIES:Arts & Cluture,Books and Authors,Downtown Business Events,Kids,Other
ATTACH;FMTTYPE=image/jpeg:https://downtowntomsriver.com/wp-content/uploads/2025/09/Host-A-Little-Ghost-and-the-Story-of-the-Mystical-Mums-scaled.jpg
END:VEVENT
BEGIN:VEVENT
DTSTART;TZID=America/New_York:20250918T180000
DTEND;TZID=America/New_York:20250918T193000
DTSTAMP:20260423T053338
CREATED:20250825T164144Z
LAST-MODIFIED:20250825T164144Z
UID:10005592-1758218400-1758223800@downtowntomsriver.com
SUMMARY:Jewelry Metal Stamping Workshop @ Gifted On Washington
DESCRIPTION:Save your spot at our next metal hand stamping workshop!\n\nYou will have guided instruction throughout and learn how to create custom\, hand-stamped pieces that are uniquely YOU. No experience needed\, just bring your imagination! \n1.5 hours metal stamping workshop to create 2 finished pieces of your choice. Choose from cuff bracelets\, keychains\, charm necklaces\, tags for your pets & more!
URL:https://downtowntomsriver.com/event/jewelry-metal-stamping-workshop-gifted-on-washington/
LOCATION:Gifted on Washington\, 16 Washington St\, Toms River\, NJ\, 08753-8709\, United States
CATEGORIES:Arts & Crafts,Downtown Business Events,Other
ATTACH;FMTTYPE=image/jpeg:https://downtowntomsriver.com/wp-content/uploads/2025/08/Jewelry-Stamping-Workshop.jpg
END:VEVENT
BEGIN:VEVENT
DTSTART;VALUE=DATE:20250827
DTEND;VALUE=DATE:20251004
DTSTAMP:20260423T053338
CREATED:20250827T181423Z
LAST-MODIFIED:20250827T181757Z
UID:10005603-1756252800-1759535999@downtowntomsriver.com
SUMMARY:Scarecrow Walk Registration 2025
DESCRIPTION:It’s starting to feel like fall! Help us decorate the Downtown with your very own Scarecrow. You could even win up to $400! \n\nCreate lasting memories and build your scarecrow as a family or team-building opportunity!\nAdvertise your Business for Free! All scarecrows will be clearly labeled and waterproofed\, and your business or organization can be featured!\nScarecrows on display from October 10th – 31st\nYour scarecrow can be seen by thousands of people during the Halloween Parade where we can have over 38\,000 visitors.\n\nScarecrow Walk Registration Link
URL:https://downtowntomsriver.com/event/scarecrow-walk-registration-2025/
LOCATION:Downtown Toms River\, Washington St\,.\, Toms River\, NJ\, 08753\, United States
CATEGORIES:Arts & Cluture,Arts & Crafts,Contests,Downtown Business Events,Downtown Toms River Events,Entertainment,Kids,Other
ATTACH;FMTTYPE=image/png:https://downtowntomsriver.com/wp-content/uploads/2025/08/Scarecrows-Wanted-2025.png
ORGANIZER;CN="Downtown Toms River BID":MAILTO:info@downtowntomsriver.com
END:VEVENT
BEGIN:VEVENT
DTSTART;TZID=America/New_York:20250822T190000
DTEND;TZID=America/New_York:20250822T213000
DTSTAMP:20260423T053338
CREATED:20250819T144202Z
LAST-MODIFIED:20250819T144205Z
UID:10005585-1755889200-1755898200@downtowntomsriver.com
SUMMARY:Pop Up Tote Bag Bar - With Gifted on Washington @ Battle River Brewing
DESCRIPTION:<p>We’re bringing our tote bag press bar to Battle River Brewing!</p>\n<p>\n<p>Join us Friday 8/22 from 7-9:30PM during Downtown Night Out.</p>\n<p>Design a custom tote bag with patches\, pins and bag charms!</p>\n<p>Everyday Tote</p>\n<p>Weekender Tote</p>\n<p>Beach Tote</p>\n<p>Wine Tote (any bottle will do)</p>\n<p>\n<p>Sip while you style\, enjoy Battle River beers & seltzers – including our limited edition collab Hot Pink Summer Seltzer!</p>\n<p>\n<p>Drink in one hand\, tote in the other. See you there!</p>
URL:https://downtowntomsriver.com/event/pop-up-tote-bag-bar-with-gifted-on-washington-battle-river-brewing/
LOCATION:Battle River Brewing\, 69 Main St\, Toms River\, NJ\, 08753
CATEGORIES:Arts & Crafts,Downtown Business Events,Other
ATTACH;FMTTYPE=image/jpeg:https://downtowntomsriver.com/wp-content/uploads/2025/08/8-22-Gifted-on-Washington-scaled.jpg
END:VEVENT
BEGIN:VEVENT
DTSTART;TZID=America/New_York:20250821T180000
DTEND;TZID=America/New_York:20250821T200000
DTSTAMP:20260423T053338
CREATED:20250812T151809Z
LAST-MODIFIED:20250812T151902Z
UID:10005582-1755799200-1755806400@downtowntomsriver.com
SUMMARY:Teacher's Night Out: Make a Tote Bag\, Sip and Save!
DESCRIPTION:CALLING ALL TEACHERS! Join us for a private\, after-hours event to celebrate YOU before the school year kicks off. Design a custom tote bag at our in-store Press Bar to get ready for the year ahead! \n \nThursday 8/21\, 6-8:00PM (stop by whenever works for you!) \n– Create a custom tote bag (patches & pins & bag charms\, oh my!) \n– Enjoy light bites & sips \n– Take 10% off your purchase \n– A polaroid photo op\, think: ‘Ready for my best year yet!’ \nPlease note: RSVP is needed. A $25 per person deposit is required in advance. The $25 will be applied toward your final purchase!
URL:https://downtowntomsriver.com/event/teachers-night-out-make-a-tote-bag-sip-and-save/
LOCATION:Gifted on Washington\, 16 Washington St\, Toms River\, NJ\, 08753-8709\, United States
CATEGORIES:Arts & Crafts,Downtown Business Events,Downtown Toms River Events,Entertainment,Other
ATTACH;FMTTYPE=image/jpeg:https://downtowntomsriver.com/wp-content/uploads/2025/08/Teacher-Night-2-scaled.jpg
END:VEVENT
END:VCALENDAR