BEGIN:VCALENDAR
VERSION:2.0
PRODID:-// - ECPv6.15.15//NONSGML v1.0//EN
CALSCALE:GREGORIAN
METHOD:PUBLISH
X-ORIGINAL-URL:https://downtowntomsriver.com
X-WR-CALDESC:Events for 
REFRESH-INTERVAL;VALUE=DURATION:PT1H
X-Robots-Tag:noindex
X-PUBLISHED-TTL:PT1H
BEGIN:VTIMEZONE
TZID:America/New_York
BEGIN:DAYLIGHT
TZOFFSETFROM:-0500
TZOFFSETTO:-0400
TZNAME:EDT
DTSTART:20240310T070000
END:DAYLIGHT
BEGIN:STANDARD
TZOFFSETFROM:-0400
TZOFFSETTO:-0500
TZNAME:EST
DTSTART:20241103T060000
END:STANDARD
BEGIN:DAYLIGHT
TZOFFSETFROM:-0500
TZOFFSETTO:-0400
TZNAME:EDT
DTSTART:20250309T070000
END:DAYLIGHT
BEGIN:STANDARD
TZOFFSETFROM:-0400
TZOFFSETTO:-0500
TZNAME:EST
DTSTART:20251102T060000
END:STANDARD
BEGIN:DAYLIGHT
TZOFFSETFROM:-0500
TZOFFSETTO:-0400
TZNAME:EDT
DTSTART:20260308T070000
END:DAYLIGHT
BEGIN:STANDARD
TZOFFSETFROM:-0400
TZOFFSETTO:-0500
TZNAME:EST
DTSTART:20261101T060000
END:STANDARD
END:VTIMEZONE
BEGIN:VEVENT
DTSTART;TZID=America/New_York:20250910T163000
DTEND;TZID=America/New_York:20250910T173000
DTSTAMP:20260423T184220
CREATED:20250826T152643Z
LAST-MODIFIED:20250826T152643Z
UID:10005593-1757521800-1757525400@downtowntomsriver.com
SUMMARY:Disney Wednesdays @ Broadway on Main
DESCRIPTION:Come join us as we explore different genres of dance with your favorite Disney characters all season long!\nWhich magical character will make it to our Summer Showcase?\n\n8 Week Course – $125 Per Student
URL:https://downtowntomsriver.com/event/disney-wednesdays-broadway-on-main/2025-09-10/
LOCATION:Broadway On Main\, 806 N. Main Street\, Toms River\, 08753\, United States
CATEGORIES:Arts & Cluture,Classes,Dance,Kids
ATTACH;FMTTYPE=image/jpeg:https://downtowntomsriver.com/wp-content/uploads/2025/08/BOM-Flyer-10.29.jpg
ORGANIZER;CN="Broadway On Main":MAILTO:broadwayonmaintrnj@gmail.com
END:VEVENT
BEGIN:VEVENT
DTSTART;TZID=America/New_York:20250917T163000
DTEND;TZID=America/New_York:20250917T173000
DTSTAMP:20260423T184220
CREATED:20250826T152643Z
LAST-MODIFIED:20250826T152643Z
UID:10005594-1758126600-1758130200@downtowntomsriver.com
SUMMARY:Disney Wednesdays @ Broadway on Main
DESCRIPTION:Come join us as we explore different genres of dance with your favorite Disney characters all season long!\nWhich magical character will make it to our Summer Showcase?\n\n8 Week Course – $125 Per Student
URL:https://downtowntomsriver.com/event/disney-wednesdays-broadway-on-main/2025-09-17/
LOCATION:Broadway On Main\, 806 N. Main Street\, Toms River\, 08753\, United States
CATEGORIES:Arts & Cluture,Classes,Dance,Kids
ATTACH;FMTTYPE=image/jpeg:https://downtowntomsriver.com/wp-content/uploads/2025/08/BOM-Flyer-10.29.jpg
ORGANIZER;CN="Broadway On Main":MAILTO:broadwayonmaintrnj@gmail.com
END:VEVENT
BEGIN:VEVENT
DTSTART;TZID=America/New_York:20250924T163000
DTEND;TZID=America/New_York:20250924T173000
DTSTAMP:20260423T184220
CREATED:20250826T152643Z
LAST-MODIFIED:20250826T152643Z
UID:10005595-1758731400-1758735000@downtowntomsriver.com
SUMMARY:Disney Wednesdays @ Broadway on Main
DESCRIPTION:Come join us as we explore different genres of dance with your favorite Disney characters all season long!\nWhich magical character will make it to our Summer Showcase?\n\n8 Week Course – $125 Per Student
URL:https://downtowntomsriver.com/event/disney-wednesdays-broadway-on-main/2025-09-24/
LOCATION:Broadway On Main\, 806 N. Main Street\, Toms River\, 08753\, United States
CATEGORIES:Arts & Cluture,Classes,Dance,Kids
ATTACH;FMTTYPE=image/jpeg:https://downtowntomsriver.com/wp-content/uploads/2025/08/BOM-Flyer-10.29.jpg
ORGANIZER;CN="Broadway On Main":MAILTO:broadwayonmaintrnj@gmail.com
END:VEVENT
END:VCALENDAR