BEGIN:VCALENDAR
VERSION:2.0
PRODID:-// - ECPv6.15.15//NONSGML v1.0//EN
CALSCALE:GREGORIAN
METHOD:PUBLISH
X-ORIGINAL-URL:https://downtowntomsriver.com
X-WR-CALDESC:Events for 
REFRESH-INTERVAL;VALUE=DURATION:PT1H
X-Robots-Tag:noindex
X-PUBLISHED-TTL:PT1H
BEGIN:VTIMEZONE
TZID:America/New_York
BEGIN:DAYLIGHT
TZOFFSETFROM:-0500
TZOFFSETTO:-0400
TZNAME:EDT
DTSTART:20200308T070000
END:DAYLIGHT
BEGIN:STANDARD
TZOFFSETFROM:-0400
TZOFFSETTO:-0500
TZNAME:EST
DTSTART:20201101T060000
END:STANDARD
BEGIN:DAYLIGHT
TZOFFSETFROM:-0500
TZOFFSETTO:-0400
TZNAME:EDT
DTSTART:20210314T070000
END:DAYLIGHT
BEGIN:STANDARD
TZOFFSETFROM:-0400
TZOFFSETTO:-0500
TZNAME:EST
DTSTART:20211107T060000
END:STANDARD
BEGIN:DAYLIGHT
TZOFFSETFROM:-0500
TZOFFSETTO:-0400
TZNAME:EDT
DTSTART:20220313T070000
END:DAYLIGHT
BEGIN:STANDARD
TZOFFSETFROM:-0400
TZOFFSETTO:-0500
TZNAME:EST
DTSTART:20221106T060000
END:STANDARD
BEGIN:DAYLIGHT
TZOFFSETFROM:-0500
TZOFFSETTO:-0400
TZNAME:EDT
DTSTART:20230312T070000
END:DAYLIGHT
BEGIN:STANDARD
TZOFFSETFROM:-0400
TZOFFSETTO:-0500
TZNAME:EST
DTSTART:20231105T060000
END:STANDARD
END:VTIMEZONE
BEGIN:VEVENT
DTSTART;TZID=America/New_York:20220308T190000
DTEND;TZID=America/New_York:20220308T200000
DTSTAMP:20260423T111556
CREATED:20210917T170947Z
LAST-MODIFIED:20210917T170947Z
UID:10000086-1646766000-1646769600@downtowntomsriver.com
SUMMARY:Toms River Artist Community - TRAC Monthly Members Meeting
DESCRIPTION:TRAC’s monthly members meeting (the 2nd Tues of every month) All are welcome\, if you are not a member come and check us out\, see what we do\, meet our artists and tour our gallery.  If you are a local artist looking to meet other artists\, hang your works in  galleries around town\, or brush up on your skills\, we are your group! \nWe now offer a discounted JR membership for High School Students ! \n 
URL:https://downtowntomsriver.com/event/toms-river-artist-community-trac-monthly-members-meeting-3/2022-03-08/
LOCATION:TRAC- Toms River Artist Community\, 40 Main Street\, Toms River\, NJ\, 08753\, United States
CATEGORIES:Clubs & Organizations
ATTACH;FMTTYPE=image/png:https://downtowntomsriver.com/wp-content/uploads/2021/07/white-logo.png
ORGANIZER;CN="Toms River Artist Community":MAILTO:tomsriverartistcommunity732@gmail.com
END:VEVENT
BEGIN:VEVENT
DTSTART;TZID=America/New_York:20220208T190000
DTEND;TZID=America/New_York:20220208T200000
DTSTAMP:20260423T111556
CREATED:20210917T170947Z
LAST-MODIFIED:20210917T170947Z
UID:10000085-1644346800-1644350400@downtowntomsriver.com
SUMMARY:Toms River Artist Community - TRAC Monthly Members Meeting
DESCRIPTION:TRAC’s monthly members meeting (the 2nd Tues of every month) All are welcome\, if you are not a member come and check us out\, see what we do\, meet our artists and tour our gallery.  If you are a local artist looking to meet other artists\, hang your works in  galleries around town\, or brush up on your skills\, we are your group! \nWe now offer a discounted JR membership for High School Students ! \n 
URL:https://downtowntomsriver.com/event/toms-river-artist-community-trac-monthly-members-meeting-3/2022-02-08/
LOCATION:TRAC- Toms River Artist Community\, 40 Main Street\, Toms River\, NJ\, 08753\, United States
CATEGORIES:Clubs & Organizations
ATTACH;FMTTYPE=image/png:https://downtowntomsriver.com/wp-content/uploads/2021/07/white-logo.png
ORGANIZER;CN="Toms River Artist Community":MAILTO:tomsriverartistcommunity732@gmail.com
END:VEVENT
BEGIN:VEVENT
DTSTART;TZID=America/New_York:20220111T190000
DTEND;TZID=America/New_York:20220111T200000
DTSTAMP:20260423T111556
CREATED:20210917T170947Z
LAST-MODIFIED:20210917T170947Z
UID:10000084-1641927600-1641931200@downtowntomsriver.com
SUMMARY:Toms River Artist Community - TRAC Monthly Members Meeting
DESCRIPTION:TRAC’s monthly members meeting (the 2nd Tues of every month) All are welcome\, if you are not a member come and check us out\, see what we do\, meet our artists and tour our gallery.  If you are a local artist looking to meet other artists\, hang your works in  galleries around town\, or brush up on your skills\, we are your group! \nWe now offer a discounted JR membership for High School Students ! \n 
URL:https://downtowntomsriver.com/event/toms-river-artist-community-trac-monthly-members-meeting-3/2022-01-11/
LOCATION:TRAC- Toms River Artist Community\, 40 Main Street\, Toms River\, NJ\, 08753\, United States
CATEGORIES:Clubs & Organizations
ATTACH;FMTTYPE=image/png:https://downtowntomsriver.com/wp-content/uploads/2021/07/white-logo.png
ORGANIZER;CN="Toms River Artist Community":MAILTO:tomsriverartistcommunity732@gmail.com
END:VEVENT
BEGIN:VEVENT
DTSTART;TZID=America/New_York:20211214T190000
DTEND;TZID=America/New_York:20211214T200000
DTSTAMP:20260423T111556
CREATED:20210917T170947Z
LAST-MODIFIED:20210917T170947Z
UID:10000083-1639508400-1639512000@downtowntomsriver.com
SUMMARY:Toms River Artist Community - TRAC Monthly Members Meeting
DESCRIPTION:TRAC’s monthly members meeting (the 2nd Tues of every month) All are welcome\, if you are not a member come and check us out\, see what we do\, meet our artists and tour our gallery.  If you are a local artist looking to meet other artists\, hang your works in  galleries around town\, or brush up on your skills\, we are your group! \nWe now offer a discounted JR membership for High School Students ! \n 
URL:https://downtowntomsriver.com/event/toms-river-artist-community-trac-monthly-members-meeting-3/2021-12-14/
LOCATION:TRAC- Toms River Artist Community\, 40 Main Street\, Toms River\, NJ\, 08753\, United States
CATEGORIES:Clubs & Organizations
ATTACH;FMTTYPE=image/png:https://downtowntomsriver.com/wp-content/uploads/2021/07/white-logo.png
ORGANIZER;CN="Toms River Artist Community":MAILTO:tomsriverartistcommunity732@gmail.com
END:VEVENT
BEGIN:VEVENT
DTSTART;TZID=America/New_York:20211109T190000
DTEND;TZID=America/New_York:20211109T200000
DTSTAMP:20260423T111556
CREATED:20210917T170947Z
LAST-MODIFIED:20210917T170947Z
UID:10000082-1636484400-1636488000@downtowntomsriver.com
SUMMARY:Toms River Artist Community - TRAC Monthly Members Meeting
DESCRIPTION:TRAC’s monthly members meeting (the 2nd Tues of every month) All are welcome\, if you are not a member come and check us out\, see what we do\, meet our artists and tour our gallery.  If you are a local artist looking to meet other artists\, hang your works in  galleries around town\, or brush up on your skills\, we are your group! \nWe now offer a discounted JR membership for High School Students ! \n 
URL:https://downtowntomsriver.com/event/toms-river-artist-community-trac-monthly-members-meeting-3/2021-11-09/
LOCATION:TRAC- Toms River Artist Community\, 40 Main Street\, Toms River\, NJ\, 08753\, United States
CATEGORIES:Clubs & Organizations
ATTACH;FMTTYPE=image/png:https://downtowntomsriver.com/wp-content/uploads/2021/07/white-logo.png
ORGANIZER;CN="Toms River Artist Community":MAILTO:tomsriverartistcommunity732@gmail.com
END:VEVENT
BEGIN:VEVENT
DTSTART;TZID=America/New_York:20211012T190000
DTEND;TZID=America/New_York:20211012T200000
DTSTAMP:20260423T111556
CREATED:20210917T170947Z
LAST-MODIFIED:20210917T170947Z
UID:10000081-1634065200-1634068800@downtowntomsriver.com
SUMMARY:Toms River Artist Community - TRAC Monthly Members Meeting
DESCRIPTION:TRAC’s monthly members meeting (the 2nd Tues of every month) All are welcome\, if you are not a member come and check us out\, see what we do\, meet our artists and tour our gallery.  If you are a local artist looking to meet other artists\, hang your works in  galleries around town\, or brush up on your skills\, we are your group! \nWe now offer a discounted JR membership for High School Students ! \n 
URL:https://downtowntomsriver.com/event/toms-river-artist-community-trac-monthly-members-meeting-3/2021-10-12/
LOCATION:TRAC- Toms River Artist Community\, 40 Main Street\, Toms River\, NJ\, 08753\, United States
CATEGORIES:Clubs & Organizations
ATTACH;FMTTYPE=image/png:https://downtowntomsriver.com/wp-content/uploads/2021/07/white-logo.png
ORGANIZER;CN="Toms River Artist Community":MAILTO:tomsriverartistcommunity732@gmail.com
END:VEVENT
BEGIN:VEVENT
DTSTART;TZID=America/New_York:20210914T190000
DTEND;TZID=America/New_York:20210914T200000
DTSTAMP:20260423T111556
CREATED:20210917T170947Z
LAST-MODIFIED:20210917T170947Z
UID:10000080-1631646000-1631649600@downtowntomsriver.com
SUMMARY:Toms River Artist Community - TRAC Monthly Members Meeting
DESCRIPTION:TRAC’s monthly members meeting (the 2nd Tues of every month) All are welcome\, if you are not a member come and check us out\, see what we do\, meet our artists and tour our gallery.  If you are a local artist looking to meet other artists\, hang your works in  galleries around town\, or brush up on your skills\, we are your group! \nWe now offer a discounted JR membership for High School Students ! \n 
URL:https://downtowntomsriver.com/event/toms-river-artist-community-trac-monthly-members-meeting-3/2021-09-14/
LOCATION:TRAC- Toms River Artist Community\, 40 Main Street\, Toms River\, NJ\, 08753\, United States
CATEGORIES:Clubs & Organizations
ATTACH;FMTTYPE=image/png:https://downtowntomsriver.com/wp-content/uploads/2021/07/white-logo.png
ORGANIZER;CN="Toms River Artist Community":MAILTO:tomsriverartistcommunity732@gmail.com
END:VEVENT
BEGIN:VEVENT
DTSTART;TZID=America/New_York:20210910T160000
DTEND;TZID=America/New_York:20210910T180000
DTSTAMP:20260423T111556
CREATED:20210805T192023Z
LAST-MODIFIED:20210805T192023Z
UID:10000528-1631289600-1631296800@downtowntomsriver.com
SUMMARY:TRAC - Appreciation Mural Dedication
DESCRIPTION:Come one\, come all! We are so excited to dedicate this mural! TRAC Toms River Artist Community artists along with 258 people from our town came out to help paint this mural. Come show your support to all these amazing first responders and essential workers.
URL:https://downtowntomsriver.com/event/trac-appreciation-mural-dedication/
LOCATION:Free Parking lot accross from Wells Fargo\, 27 Iron St\, Toms River\, NJ\, 08753
CATEGORIES:Clubs & Organizations
ATTACH;FMTTYPE=image/jpeg:https://downtowntomsriver.com/wp-content/uploads/2021/08/IMG_7552-1-scaled.jpg
ORGANIZER;CN="Toms River Artist Community":MAILTO:tomsriverartistcommunity732@gmail.com
END:VEVENT
BEGIN:VEVENT
DTSTART;TZID=America/New_York:20210821T150000
DTEND;TZID=America/New_York:20210821T200000
DTSTAMP:20260423T111556
CREATED:20210625T135814Z
LAST-MODIFIED:20210625T135814Z
UID:10000409-1629558000-1629576000@downtowntomsriver.com
SUMMARY:2021 SUMMER ARTS FEST
DESCRIPTION:It’s that time of year again!  Toms River Artist Community (TRAC) Summer Arts Fest. \nThis year we are excited to be on The Green at 33 Washington St\, Toms River. \nA family friendly\, free event in the heart of Downtown Toms River \nThis is a Juried art show\, come out and see some of the best local artist’s in our town!
URL:https://downtowntomsriver.com/event/2021-summer-arts-fest/
LOCATION:The Green On Washington St\, 33 Washington St\, Toms River\, New Jersey\, 08753
CATEGORIES:Clubs & Organizations
ATTACH;FMTTYPE=image/jpeg:https://downtowntomsriver.com/wp-content/uploads/2021/06/saf-pic.jpg
ORGANIZER;CN="Toms River Artist Community":MAILTO:tomsriverartistcommunity732@gmail.com
END:VEVENT
BEGIN:VEVENT
DTSTART;TZID=America/New_York:20210810T190000
DTEND;TZID=America/New_York:20210810T200000
DTSTAMP:20260423T111556
CREATED:20210917T170947Z
LAST-MODIFIED:20210917T170947Z
UID:10000079-1628622000-1628625600@downtowntomsriver.com
SUMMARY:Toms River Artist Community - TRAC Monthly Members Meeting
DESCRIPTION:TRAC’s monthly members meeting (the 2nd Tues of every month) All are welcome\, if you are not a member come and check us out\, see what we do\, meet our artists and tour our gallery.  If you are a local artist looking to meet other artists\, hang your works in  galleries around town\, or brush up on your skills\, we are your group! \nWe now offer a discounted JR membership for High School Students ! \n 
URL:https://downtowntomsriver.com/event/toms-river-artist-community-trac-monthly-members-meeting-3/2021-08-10/
LOCATION:TRAC- Toms River Artist Community\, 40 Main Street\, Toms River\, NJ\, 08753\, United States
CATEGORIES:Clubs & Organizations
ATTACH;FMTTYPE=image/png:https://downtowntomsriver.com/wp-content/uploads/2021/07/white-logo.png
ORGANIZER;CN="Toms River Artist Community":MAILTO:tomsriverartistcommunity732@gmail.com
END:VEVENT
END:VCALENDAR