BEGIN:VCALENDAR
VERSION:2.0
PRODID:-// - ECPv6.15.15//NONSGML v1.0//EN
CALSCALE:GREGORIAN
METHOD:PUBLISH
X-ORIGINAL-URL:https://downtowntomsriver.com
X-WR-CALDESC:Events for 
REFRESH-INTERVAL;VALUE=DURATION:PT1H
X-Robots-Tag:noindex
X-PUBLISHED-TTL:PT1H
BEGIN:VTIMEZONE
TZID:America/New_York
BEGIN:DAYLIGHT
TZOFFSETFROM:-0500
TZOFFSETTO:-0400
TZNAME:EDT
DTSTART:20240310T070000
END:DAYLIGHT
BEGIN:STANDARD
TZOFFSETFROM:-0400
TZOFFSETTO:-0500
TZNAME:EST
DTSTART:20241103T060000
END:STANDARD
BEGIN:DAYLIGHT
TZOFFSETFROM:-0500
TZOFFSETTO:-0400
TZNAME:EDT
DTSTART:20250309T070000
END:DAYLIGHT
BEGIN:STANDARD
TZOFFSETFROM:-0400
TZOFFSETTO:-0500
TZNAME:EST
DTSTART:20251102T060000
END:STANDARD
BEGIN:DAYLIGHT
TZOFFSETFROM:-0500
TZOFFSETTO:-0400
TZNAME:EDT
DTSTART:20260308T070000
END:DAYLIGHT
BEGIN:STANDARD
TZOFFSETFROM:-0400
TZOFFSETTO:-0500
TZNAME:EST
DTSTART:20261101T060000
END:STANDARD
END:VTIMEZONE
BEGIN:VEVENT
DTSTART;TZID=America/New_York:20250824T130000
DTEND;TZID=America/New_York:20250824T150000
DTSTAMP:20260423T093446
CREATED:20250626T195016Z
LAST-MODIFIED:20250626T195324Z
UID:10005523-1756040400-1756047600@downtowntomsriver.com
SUMMARY:Pressed For Beauty: A Two-Part Pressed Flower Class @ TRAC
DESCRIPTION:Discover the art of flower pressing in this creative two-part workshop exploring the timeless art of flower pressing. Your instructor\, Simone Sheppard will demonstrate how to press flowers using different techniques\, tips and tools. Then\, over the next 6 weeks\, students will collect and press their own blooms to bring to the second session. You’ll use your flowers to create beautiful handmade cards and bookmarks. Most materials will be provided. Just bring your pressed treasures and creativity! \nStudents need to bring a small pallet knife or butter knife and scissors. Simone will bring some extra press flowers in case you’re not happy with your results. \nAges: 14 and Up \nMEMBERS: $60 \nNON-MEMBERS: $70
URL:https://downtowntomsriver.com/event/pressed-for-beauty-a-two-part-pressed-flower-class-trac/2025-08-24/
LOCATION:TRAC- Toms River Artist Community\, 40 Main Street\, Toms River\, NJ\, 08753\, United States
CATEGORIES:Arts & Cluture,Arts & Crafts,Classes,Toms River Artist Community
ATTACH;FMTTYPE=image/webp:https://downtowntomsriver.com/wp-content/uploads/2025/06/TRAC-Pressed-Flowers-Workshop-6-20-25_1750606174-scaled.webp
END:VEVENT
BEGIN:VEVENT
DTSTART;TZID=America/New_York:20250823T113000
DTEND;TZID=America/New_York:20250823T133000
DTSTAMP:20260423T093446
CREATED:20250626T201834Z
LAST-MODIFIED:20250626T201941Z
UID:10005530-1755948600-1755955800@downtowntomsriver.com
SUMMARY:The Story of Architecture: Materials\, Methods\, and Masterpieces
DESCRIPTION:Join Tom Nulton and explore how humans have shaped their world through architecture\, from primitive shelters to modern marvels. In this engaging four-part lecture series\, students will journey through time\, learning about the materials\, techniques\, and cultural influences behind the structures of each era. Discover how architecture reflects the values\, needs\, and technologies of its time. Ages 16 and up.  \nNo drawing or design experience needed\, just curiosity and a love of history. \nMEMBERS: $115 \nNON-MEMBERS: $125
URL:https://downtowntomsriver.com/event/the-story-of-architecture-materials-methods-and-masterpieces/2025-08-23/
LOCATION:TRAC- Toms River Artist Community\, 40 Main Street\, Toms River\, NJ\, 08753\, United States
CATEGORIES:Arts & Cluture,Arts & Crafts,Classes,Clubs & Organizations,Toms River Artist Community
ATTACH;FMTTYPE=image/webp:https://downtowntomsriver.com/wp-content/uploads/2025/06/2025-Aug-Story-of-Architeture-6-13-25_1749839380-scaled.webp
ORGANIZER;CN="TRAC":MAILTO:tomstiverartistcommunity732.com
END:VEVENT
BEGIN:VEVENT
DTSTART;TZID=America/New_York:20250816T113000
DTEND;TZID=America/New_York:20250816T133000
DTSTAMP:20260423T093446
CREATED:20250626T201834Z
LAST-MODIFIED:20250626T201941Z
UID:10005529-1755343800-1755351000@downtowntomsriver.com
SUMMARY:The Story of Architecture: Materials\, Methods\, and Masterpieces
DESCRIPTION:Join Tom Nulton and explore how humans have shaped their world through architecture\, from primitive shelters to modern marvels. In this engaging four-part lecture series\, students will journey through time\, learning about the materials\, techniques\, and cultural influences behind the structures of each era. Discover how architecture reflects the values\, needs\, and technologies of its time. Ages 16 and up.  \nNo drawing or design experience needed\, just curiosity and a love of history. \nMEMBERS: $115 \nNON-MEMBERS: $125
URL:https://downtowntomsriver.com/event/the-story-of-architecture-materials-methods-and-masterpieces/2025-08-16/
LOCATION:TRAC- Toms River Artist Community\, 40 Main Street\, Toms River\, NJ\, 08753\, United States
CATEGORIES:Arts & Cluture,Arts & Crafts,Classes,Clubs & Organizations,Toms River Artist Community
ATTACH;FMTTYPE=image/webp:https://downtowntomsriver.com/wp-content/uploads/2025/06/2025-Aug-Story-of-Architeture-6-13-25_1749839380-scaled.webp
ORGANIZER;CN="TRAC":MAILTO:tomstiverartistcommunity732.com
END:VEVENT
BEGIN:VEVENT
DTSTART;TZID=America/New_York:20250814T183000
DTEND;TZID=America/New_York:20250814T200000
DTSTAMP:20260423T093446
CREATED:20250718T193302Z
LAST-MODIFIED:20250718T193325Z
UID:10005534-1755196200-1755201600@downtowntomsriver.com
SUMMARY:Beginner Level Modern Calligraphy Class
DESCRIPTION:Join us and Kathy from Sip & Script for modern calligraphy fun! \n \nYou’ll be introduced to modern calligraphy with a pointed dip pen and ink in this beginner level workshop. We will cover all the basics and prepare you to add those unique lettered details  \nto your snail mail\, wedding paper goods\, home decor\, and more! The perfect crafty night out! \n \n$65 Per Person Class includes: 1.5 hours of instruction and demonstration\, a beginner’s calligraphy kit (two nibs\, black ink pot\, 2 letter guides\, tracing paper\, and straight pen holder)\,  \nand all materials to write on. Everything is yours to keep at the end of the workshop! Additionally\, we will be lettering on acrylic Backpack to School Backpack Tags at the end of class. \n \nTickets must be purchased in advance to attend. Spots are limited – so grab yours today!
URL:https://downtowntomsriver.com/event/beginner-level-modern-calligraphy-class/
LOCATION:Gifted on Washington\, 16 Washington St\, Toms River\, NJ\, 08753-8709\, United States
CATEGORIES:Arts & Cluture,Arts & Crafts,Classes,Other
ATTACH;FMTTYPE=image/jpeg:https://downtowntomsriver.com/wp-content/uploads/2025/07/8-14-scaled.jpg
END:VEVENT
BEGIN:VEVENT
DTSTART;TZID=America/New_York:20250809T113000
DTEND;TZID=America/New_York:20250809T133000
DTSTAMP:20260423T093446
CREATED:20250626T201834Z
LAST-MODIFIED:20250626T201941Z
UID:10005528-1754739000-1754746200@downtowntomsriver.com
SUMMARY:The Story of Architecture: Materials\, Methods\, and Masterpieces
DESCRIPTION:Join Tom Nulton and explore how humans have shaped their world through architecture\, from primitive shelters to modern marvels. In this engaging four-part lecture series\, students will journey through time\, learning about the materials\, techniques\, and cultural influences behind the structures of each era. Discover how architecture reflects the values\, needs\, and technologies of its time. Ages 16 and up.  \nNo drawing or design experience needed\, just curiosity and a love of history. \nMEMBERS: $115 \nNON-MEMBERS: $125
URL:https://downtowntomsriver.com/event/the-story-of-architecture-materials-methods-and-masterpieces/2025-08-09/
LOCATION:TRAC- Toms River Artist Community\, 40 Main Street\, Toms River\, NJ\, 08753\, United States
CATEGORIES:Arts & Cluture,Arts & Crafts,Classes,Clubs & Organizations,Toms River Artist Community
ATTACH;FMTTYPE=image/webp:https://downtowntomsriver.com/wp-content/uploads/2025/06/2025-Aug-Story-of-Architeture-6-13-25_1749839380-scaled.webp
ORGANIZER;CN="TRAC":MAILTO:tomstiverartistcommunity732.com
END:VEVENT
BEGIN:VEVENT
DTSTART;TZID=America/New_York:20250805T143000
DTEND;TZID=America/New_York:20250805T163000
DTSTAMP:20260423T093446
CREATED:20250626T201430Z
LAST-MODIFIED:20250627T192546Z
UID:10005525-1754404200-1754411400@downtowntomsriver.com
SUMMARY:Art for the Non-Artist
DESCRIPTION:Think you can’t draw? Never taken an art class? In this creative empowerment workshop you will be drawing with proficiency and confidence in no time. Join us for this fun\, supportive workshop\, you’ll learn to draw a feather with ease—breaking it down into simple shapes\, lines\, and textures. Led by art coach Jenny Santa Maria\, you’ll discover that drawing isn’t a talent you’re born with\, but a skill you can learn. Perfect for beginners or anyone looking to overcome self-doubt and reconnect with creativity. All materials provided. \n16 years and up.
URL:https://downtowntomsriver.com/event/art-for-the-non-artist/
LOCATION:TRAC- Toms River Artist Community\, 40 Main Street\, Toms River\, NJ\, 08753\, United States
CATEGORIES:Arts & Cluture,Arts & Crafts,Classes,Clubs & Organizations,Toms River Artist Community
ATTACH;FMTTYPE=image/webp:https://downtowntomsriver.com/wp-content/uploads/2025/06/2025-Aug-Art-for-the-nonartist-6-6-25_1749414551-scaled.webp
ORGANIZER;CN="TRAC":MAILTO:tomstiverartistcommunity732.com
END:VEVENT
BEGIN:VEVENT
DTSTART;TZID=America/New_York:20250729T180000
DTEND;TZID=America/New_York:20250729T180000
DTSTAMP:20260423T093446
CREATED:20250616T182717Z
LAST-MODIFIED:20250616T182838Z
UID:10005513-1753812000-1753812000@downtowntomsriver.com
SUMMARY:Juggling Workshop For Kids - Ocean County Library
DESCRIPTION:﻿ \nTOMS RIVER – Kids\, did you ever watch a juggler in action and wonder how it’s done? You can\nlearn this art of balance\, alertness and timing from a professional during our “Be a Juggler”\nsummer children’s workshops in two branches of the Ocean County Library \nWatch as Molly deftly maneuvers rings\, balls and a Chinese yo-yo\, and spins a plate. Then it’s\nyour turn! Learn how to juggle scarves\, balance a peacock feather and try your hand at spinning\nplates. \nChildren age 6 to 12 are welcome to sign up for our free juggling workshops. Please register at\ntinyurl.com/OCLJuggling to attend this program in either branch. For more information\, visit or call\nthe corresponding branch.
URL:https://downtowntomsriver.com/event/juggling-workshop-for-kids-ocean-county-library/
LOCATION:The Ocean County Library\, 101 Washington St\, Toms River\, NJ\, 08753\, United States
CATEGORIES:Arts & Cluture,Classes,Kids
ATTACH;FMTTYPE=image/jpeg:https://downtowntomsriver.com/wp-content/uploads/2025/06/Juggling.jpg
END:VEVENT
BEGIN:VEVENT
DTSTART;TZID=America/New_York:20250725T140000
DTEND;TZID=America/New_York:20250725T160000
DTSTAMP:20260423T093446
CREATED:20250626T200859Z
LAST-MODIFIED:20250626T200939Z
UID:10005524-1753452000-1753459200@downtowntomsriver.com
SUMMARY:Unleash Your Inner Artist: How to Paint Your Dragon
DESCRIPTION:Soar into creativity with our magical “How to Paint Your Dragon” acrylic painting party! Inspired by the newest “How to Train Your Dragon” movie. This all ages event invites you to paint your very own “Toothless The Dragon” rendition. Each participant will receive a pre-drawn canvas\, no experience necessary. \nEnjoy dragon-themed music\, cupcakes\, and light refreshments as you bring your dragon to life with paint. Feel free to come dressed as a Viking\, a dragon\, or anything in between. It’s a fun\, family-friendly celebration of imagination and art! \nAll Ages Welcome! All Supplies are Included! \nMEMBERS: $30 \nNON-MEMBERS: $35
URL:https://downtowntomsriver.com/event/unleash-your-inner-artist-how-to-paint-your-dragon/
LOCATION:TRAC- Toms River Artist Community\, 40 Main Street\, Toms River\, NJ\, 08753\, United States
CATEGORIES:Arts & Cluture,Arts & Crafts,Classes,Toms River Artist Community
ATTACH;FMTTYPE=image/webp:https://downtowntomsriver.com/wp-content/uploads/2025/06/2025-How-to-Paint-your-Dragon-6-13-25_1749839196-scaled.webp
ORGANIZER;CN="TRAC":MAILTO:tomstiverartistcommunity732.com
END:VEVENT
BEGIN:VEVENT
DTSTART;TZID=America/New_York:20250720T130000
DTEND;TZID=America/New_York:20250720T150000
DTSTAMP:20260423T093446
CREATED:20250626T195016Z
LAST-MODIFIED:20250626T195324Z
UID:10005522-1753016400-1753023600@downtowntomsriver.com
SUMMARY:Pressed For Beauty: A Two-Part Pressed Flower Class @ TRAC
DESCRIPTION:Discover the art of flower pressing in this creative two-part workshop exploring the timeless art of flower pressing. Your instructor\, Simone Sheppard will demonstrate how to press flowers using different techniques\, tips and tools. Then\, over the next 6 weeks\, students will collect and press their own blooms to bring to the second session. You’ll use your flowers to create beautiful handmade cards and bookmarks. Most materials will be provided. Just bring your pressed treasures and creativity! \nStudents need to bring a small pallet knife or butter knife and scissors. Simone will bring some extra press flowers in case you’re not happy with your results. \nAges: 14 and Up \nMEMBERS: $60 \nNON-MEMBERS: $70
URL:https://downtowntomsriver.com/event/pressed-for-beauty-a-two-part-pressed-flower-class-trac/2025-07-20/
LOCATION:TRAC- Toms River Artist Community\, 40 Main Street\, Toms River\, NJ\, 08753\, United States
CATEGORIES:Arts & Cluture,Arts & Crafts,Classes,Toms River Artist Community
ATTACH;FMTTYPE=image/webp:https://downtowntomsriver.com/wp-content/uploads/2025/06/TRAC-Pressed-Flowers-Workshop-6-20-25_1750606174-scaled.webp
END:VEVENT
BEGIN:VEVENT
DTSTART;TZID=America/New_York:20250710T180000
DTEND;TZID=America/New_York:20250710T200000
DTSTAMP:20260423T093446
CREATED:20250626T194651Z
LAST-MODIFIED:20250626T195634Z
UID:10005521-1752170400-1752177600@downtowntomsriver.com
SUMMARY:Cutting Up with Magazine Art! TRAC
DESCRIPTION:Join us for a creative collage class where imagination meets iconic art! Choose a famous painting or photo\, either from our instructor’s collection or bring your own. Recreate it using cut-up strips and shapes from colorful magazines\, it’s painting with paper! \nAll supplies are provided: pencils\, paper\, magazines\, scissors\, glue\, and a variety of classic images to inspire you. The instructor will also have 8.5″ X 11″ or 11″ X 14″ frames available for purchase ($15-$20). Perfect for displaying your finished masterpiece! Want to bring your won magazines\, images\, scissors\, and poster frame? Go for it! \nSixteen years and up.
URL:https://downtowntomsriver.com/event/cutting-up-with-magazine-art-trac/
LOCATION:TRAC- Toms River Artist Community\, 40 Main Street\, Toms River\, NJ\, 08753\, United States
CATEGORIES:Arts & Cluture,Arts & Crafts,Classes,Toms River Artist Community
ATTACH;FMTTYPE=image/webp:https://downtowntomsriver.com/wp-content/uploads/2025/06/2025-Magazine-Art-5-30-25_1748622194-scaled.webp
ORGANIZER;CN="TRAC":MAILTO:tomstiverartistcommunity732.com
END:VEVENT
BEGIN:VEVENT
DTSTART;TZID=America/New_York:20250630T180000
DTEND;TZID=America/New_York:20250630T200000
DTSTAMP:20260423T093446
CREATED:20250630T175904Z
LAST-MODIFIED:20250630T175904Z
UID:10005531-1751306400-1751313600@downtowntomsriver.com
SUMMARY:Simply Seaglass & Shells\, Seaglass Art Workshop
DESCRIPTION:BACK BY POPULAR DEMAND!\n Join us & create summer memories at this Seaglass Art Workshop! Hosted at Gifted on Washington by Gail from Simply Seaglass & Shells \nWednesday 8/6\, 6:00-8:00PM \n$55 per person ticket includes: All necessary materials to create (2) 4×6 seaglass canvases + lite bites \nMust buy tickets in advance to attend\, limited number of spots available!
URL:https://downtowntomsriver.com/event/simply-seaglass-shells-seaglass-art-workshop/
LOCATION:Gifted on Washington\, 16 Washington St\, Toms River\, NJ\, 08753-8709\, United States
CATEGORIES:Arts & Cluture,Arts & Crafts,Classes
ATTACH;FMTTYPE=image/jpeg:https://downtowntomsriver.com/wp-content/uploads/2025/06/8-6-event.jpeg
END:VEVENT
BEGIN:VEVENT
DTSTART;TZID=America/New_York:20250626T080000
DTEND;TZID=America/New_York:20250626T170000
DTSTAMP:20260423T093446
CREATED:20250606T132821Z
LAST-MODIFIED:20250606T132821Z
UID:10005508-1750924800-1750957200@downtowntomsriver.com
SUMMARY:Spritzes & Sweets: Cake Decorating Workshop
DESCRIPTION:Get ready for the sweetest Summer soirée in downtown Toms River! Two of your favorite small businesses are teaming up to bring you an Aperol Spritz themed cake decorating class! \nHere’s what’s included:\n– A pre-iced 6-inch cake (your blank canvas!)\n– Buttercream piping tips & tricks taught by @coastalconfectionsnj (no experience needed)\n– Aperol Spritz-inspired colors & decor (think real florals\, sprinkles\, ribbon & more!)\n– A savory focaccia grazing table (yes\, please)\n– A cake to-go box because your cake serves up to 8-10 people (or just you\, we definitely don’t judge)\n– Complimentary spritzes to sip on while you decorate \nTickets must be purchased in advance to attend. Spots are limited – so grab yours today!\nLet’s make it a sweet Summer night to remember.
URL:https://downtowntomsriver.com/event/spritzes-sweets-cake-decorating-workshop/
LOCATION:Gifted on Washington\, 16 Washington St\, Toms River\, NJ\, 08753-8709\, United States
CATEGORIES:Arts & Crafts,Classes,Entertainment,Other,Sweets and Treats
ATTACH;FMTTYPE=image/png:https://downtowntomsriver.com/wp-content/uploads/2025/06/Gifted-on-Washington-626-Event-scaled.png
END:VEVENT
BEGIN:VEVENT
DTSTART;TZID=America/New_York:20250609T080000
DTEND;TZID=America/New_York:20250609T170000
DTSTAMP:20260423T093446
CREATED:20250609T133808Z
LAST-MODIFIED:20250609T133808Z
UID:10005510-1749456000-1749488400@downtowntomsriver.com
SUMMARY:Modern Calligraphy Class: Beginner Level
DESCRIPTION:Join us and Kathy from @sipandscript for a Pretty Lettering Party! You’ll be introduced to modern calligraphy with a pointed dip pen and ink in this beginner level workshop ✒️ \nWhether you’re obsessed with all things stationary\, a DIY Bride-to-Be\, or simply love crafting\, this is the workshop for you. You’ll learn all the basics to give you the skills needed to add those unique lettering details to your snail mail\, wedding paper goods\, home decor\, and more! 💕 \n📍Sunday 6/29 – 11:30AM-1:00PM\, $65 Per Person\nClass includes: 1.5 hours of instruction and demonstration\, a beginner’s calligraphy kit (two nibs\, black ink pot\, 2 letter guides\, tracing paper\, and straight pen holder)\, and all materials to write on. Everything is yours to keep at the end of the workshop! \nTickets must be purchased in advance to attend. Spots are limited – so grab yours today!
URL:https://downtowntomsriver.com/event/modern-calligraphy-class-beginner-level/
LOCATION:Gifted on Washington\, 16 Washington St\, Toms River\, NJ\, 08753-8709\, United States
CATEGORIES:Arts & Cluture,Arts & Crafts,Classes,Other
ATTACH;FMTTYPE=image/png:https://downtowntomsriver.com/wp-content/uploads/2025/06/Calligraphy.png
END:VEVENT
END:VCALENDAR