BEGIN:VCALENDAR
VERSION:2.0
PRODID:-// - ECPv6.15.15//NONSGML v1.0//EN
CALSCALE:GREGORIAN
METHOD:PUBLISH
X-ORIGINAL-URL:https://downtowntomsriver.com
X-WR-CALDESC:Events for 
REFRESH-INTERVAL;VALUE=DURATION:PT1H
X-Robots-Tag:noindex
X-PUBLISHED-TTL:PT1H
BEGIN:VTIMEZONE
TZID:America/New_York
BEGIN:DAYLIGHT
TZOFFSETFROM:-0500
TZOFFSETTO:-0400
TZNAME:EDT
DTSTART:20250309T070000
END:DAYLIGHT
BEGIN:STANDARD
TZOFFSETFROM:-0400
TZOFFSETTO:-0500
TZNAME:EST
DTSTART:20251102T060000
END:STANDARD
BEGIN:DAYLIGHT
TZOFFSETFROM:-0500
TZOFFSETTO:-0400
TZNAME:EDT
DTSTART:20260308T070000
END:DAYLIGHT
BEGIN:STANDARD
TZOFFSETFROM:-0400
TZOFFSETTO:-0500
TZNAME:EST
DTSTART:20261101T060000
END:STANDARD
BEGIN:DAYLIGHT
TZOFFSETFROM:-0500
TZOFFSETTO:-0400
TZNAME:EDT
DTSTART:20270314T070000
END:DAYLIGHT
BEGIN:STANDARD
TZOFFSETFROM:-0400
TZOFFSETTO:-0500
TZNAME:EST
DTSTART:20271107T060000
END:STANDARD
END:VTIMEZONE
BEGIN:VEVENT
DTSTART;TZID=America/New_York:20260305T180000
DTEND;TZID=America/New_York:20260305T193000
DTSTAMP:20260423T094210
CREATED:20260217T155923Z
LAST-MODIFIED:20260217T155923Z
UID:10007470-1772733600-1772739000@downtowntomsriver.com
SUMMARY:St. Patrick's Day Themed Charcuterie Board Workshop!
DESCRIPTION:A little bit of luck\, a whole lot of delicious! ☘️ \nJoin us for a hands-on charcuterie board workshop hosted by @anchorgrazecharcuterie!\nYou’ll learn how to style a beautiful board\, just in time for St. Patrick’s Day! Think: shamrock-shaped cheese\, gold chocolate coins and sour rainbow gummies 🌈 \nThursday 3/5\, 6:00PM\n$55 per person ticket includes all necessary ingredients and tools to make your own personal charcuterie board 🧀 Bring your completed board home to enjoy or take it across the street to @battleriverbrewing to enjoy while pairing it with their seasonal sips! \nHave dietary restrictions? No problem! Let us know when you purchase your ticket and we’ll happily accommodate your needs. \nGrab tickets here: https://square.link/u/CWjExBak
URL:https://downtowntomsriver.com/event/st-patricks-day-themed-charcuterie-board-workshop/
LOCATION:Gifted on Washington\, 16 Washington St\, Toms River\, NJ\, 08753-8709\, United States
CATEGORIES:Classes
ATTACH;FMTTYPE=image/png:https://downtowntomsriver.com/wp-content/uploads/2026/02/Green-and-Beige-Illustrative-Groovy-St.-Patricks-Day-Party-Poster-scaled.png
END:VEVENT
END:VCALENDAR