BEGIN:VCALENDAR
VERSION:2.0
PRODID:-// - ECPv6.15.15//NONSGML v1.0//EN
CALSCALE:GREGORIAN
METHOD:PUBLISH
X-ORIGINAL-URL:https://downtowntomsriver.com
X-WR-CALDESC:Events for 
REFRESH-INTERVAL;VALUE=DURATION:PT1H
X-Robots-Tag:noindex
X-PUBLISHED-TTL:PT1H
BEGIN:VTIMEZONE
TZID:America/New_York
BEGIN:DAYLIGHT
TZOFFSETFROM:-0500
TZOFFSETTO:-0400
TZNAME:EDT
DTSTART:20240310T070000
END:DAYLIGHT
BEGIN:STANDARD
TZOFFSETFROM:-0400
TZOFFSETTO:-0500
TZNAME:EST
DTSTART:20241103T060000
END:STANDARD
BEGIN:DAYLIGHT
TZOFFSETFROM:-0500
TZOFFSETTO:-0400
TZNAME:EDT
DTSTART:20250309T070000
END:DAYLIGHT
BEGIN:STANDARD
TZOFFSETFROM:-0400
TZOFFSETTO:-0500
TZNAME:EST
DTSTART:20251102T060000
END:STANDARD
BEGIN:DAYLIGHT
TZOFFSETFROM:-0500
TZOFFSETTO:-0400
TZNAME:EDT
DTSTART:20260308T070000
END:DAYLIGHT
BEGIN:STANDARD
TZOFFSETFROM:-0400
TZOFFSETTO:-0500
TZNAME:EST
DTSTART:20261101T060000
END:STANDARD
END:VTIMEZONE
BEGIN:VEVENT
DTSTART;TZID=America/New_York:20250801T170000
DTEND;TZID=America/New_York:20250801T220000
DTSTAMP:20260424T062706
CREATED:20250422T200338Z
LAST-MODIFIED:20250520T140547Z
UID:10004257-1754067600-1754085600@downtowntomsriver.com
SUMMARY:Downtown Night Out 2025 - Outdoor Dining in the Summer - Fridays and Saturdays
DESCRIPTION:Join us for a tasty meal\, cold drinks\, and good conversation in Downtown Toms River! – Beginning May 30th – October 18 – Participating restaurants will set up dining and table service outside; Fridays and Saturdays from 5PM – 10PM – Brought to you by Celebrity FORD and our other fabulous sponsors!
URL:https://downtowntomsriver.com/event/downtown-night-out-2025-outdoor-dining-in-the-summer-fridays-and-saturdays/2025-08-01/
CATEGORIES:Arts & Cluture,Business Events,Dining,Downtown Toms River Events
ATTACH;FMTTYPE=image/png:https://downtowntomsriver.com/wp-content/uploads/2025/04/Downtown-Night-Out-2025.png
ORGANIZER;CN="Downtown Toms River BID":MAILTO:info@downtowntomsriver.com
END:VEVENT
BEGIN:VEVENT
DTSTART;TZID=America/New_York:20250802T170000
DTEND;TZID=America/New_York:20250802T220000
DTSTAMP:20260424T062706
CREATED:20250422T200338Z
LAST-MODIFIED:20250520T140547Z
UID:10004301-1754154000-1754172000@downtowntomsriver.com
SUMMARY:Downtown Night Out 2025 - Outdoor Dining in the Summer - Fridays and Saturdays
DESCRIPTION:Join us for a tasty meal\, cold drinks\, and good conversation in Downtown Toms River! – Beginning May 30th – October 18 – Participating restaurants will set up dining and table service outside; Fridays and Saturdays from 5PM – 10PM – Brought to you by Celebrity FORD and our other fabulous sponsors!
URL:https://downtowntomsriver.com/event/downtown-night-out-2025-outdoor-dining-in-the-summer-fridays-and-saturdays/2025-08-02/
CATEGORIES:Arts & Cluture,Business Events,Dining,Downtown Toms River Events
ATTACH;FMTTYPE=image/png:https://downtowntomsriver.com/wp-content/uploads/2025/04/Downtown-Night-Out-2025.png
ORGANIZER;CN="Downtown Toms River BID":MAILTO:info@downtowntomsriver.com
END:VEVENT
BEGIN:VEVENT
DTSTART;TZID=America/New_York:20250808T170000
DTEND;TZID=America/New_York:20250808T220000
DTSTAMP:20260424T062706
CREATED:20250422T200338Z
LAST-MODIFIED:20250520T140547Z
UID:10004259-1754672400-1754690400@downtowntomsriver.com
SUMMARY:Downtown Night Out 2025 - Outdoor Dining in the Summer - Fridays and Saturdays
DESCRIPTION:Join us for a tasty meal\, cold drinks\, and good conversation in Downtown Toms River! – Beginning May 30th – October 18 – Participating restaurants will set up dining and table service outside; Fridays and Saturdays from 5PM – 10PM – Brought to you by Celebrity FORD and our other fabulous sponsors!
URL:https://downtowntomsriver.com/event/downtown-night-out-2025-outdoor-dining-in-the-summer-fridays-and-saturdays/2025-08-08/
CATEGORIES:Arts & Cluture,Business Events,Dining,Downtown Toms River Events
ATTACH;FMTTYPE=image/png:https://downtowntomsriver.com/wp-content/uploads/2025/04/Downtown-Night-Out-2025.png
ORGANIZER;CN="Downtown Toms River BID":MAILTO:info@downtowntomsriver.com
END:VEVENT
BEGIN:VEVENT
DTSTART;TZID=America/New_York:20250809T170000
DTEND;TZID=America/New_York:20250809T220000
DTSTAMP:20260424T062706
CREATED:20250422T200338Z
LAST-MODIFIED:20250520T140547Z
UID:10004302-1754758800-1754776800@downtowntomsriver.com
SUMMARY:Downtown Night Out 2025 - Outdoor Dining in the Summer - Fridays and Saturdays
DESCRIPTION:Join us for a tasty meal\, cold drinks\, and good conversation in Downtown Toms River! – Beginning May 30th – October 18 – Participating restaurants will set up dining and table service outside; Fridays and Saturdays from 5PM – 10PM – Brought to you by Celebrity FORD and our other fabulous sponsors!
URL:https://downtowntomsriver.com/event/downtown-night-out-2025-outdoor-dining-in-the-summer-fridays-and-saturdays/2025-08-09/
CATEGORIES:Arts & Cluture,Business Events,Dining,Downtown Toms River Events
ATTACH;FMTTYPE=image/png:https://downtowntomsriver.com/wp-content/uploads/2025/04/Downtown-Night-Out-2025.png
ORGANIZER;CN="Downtown Toms River BID":MAILTO:info@downtowntomsriver.com
END:VEVENT
BEGIN:VEVENT
DTSTART;TZID=America/New_York:20250815T170000
DTEND;TZID=America/New_York:20250815T220000
DTSTAMP:20260424T062706
CREATED:20250422T200338Z
LAST-MODIFIED:20250520T140547Z
UID:10004261-1755277200-1755295200@downtowntomsriver.com
SUMMARY:Downtown Night Out 2025 - Outdoor Dining in the Summer - Fridays and Saturdays
DESCRIPTION:Join us for a tasty meal\, cold drinks\, and good conversation in Downtown Toms River! – Beginning May 30th – October 18 – Participating restaurants will set up dining and table service outside; Fridays and Saturdays from 5PM – 10PM – Brought to you by Celebrity FORD and our other fabulous sponsors!
URL:https://downtowntomsriver.com/event/downtown-night-out-2025-outdoor-dining-in-the-summer-fridays-and-saturdays/2025-08-15/
CATEGORIES:Arts & Cluture,Business Events,Dining,Downtown Toms River Events
ATTACH;FMTTYPE=image/png:https://downtowntomsriver.com/wp-content/uploads/2025/04/Downtown-Night-Out-2025.png
ORGANIZER;CN="Downtown Toms River BID":MAILTO:info@downtowntomsriver.com
END:VEVENT
BEGIN:VEVENT
DTSTART;TZID=America/New_York:20250816T170000
DTEND;TZID=America/New_York:20250816T220000
DTSTAMP:20260424T062706
CREATED:20250422T200338Z
LAST-MODIFIED:20250520T140547Z
UID:10004303-1755363600-1755381600@downtowntomsriver.com
SUMMARY:Downtown Night Out 2025 - Outdoor Dining in the Summer - Fridays and Saturdays
DESCRIPTION:Join us for a tasty meal\, cold drinks\, and good conversation in Downtown Toms River! – Beginning May 30th – October 18 – Participating restaurants will set up dining and table service outside; Fridays and Saturdays from 5PM – 10PM – Brought to you by Celebrity FORD and our other fabulous sponsors!
URL:https://downtowntomsriver.com/event/downtown-night-out-2025-outdoor-dining-in-the-summer-fridays-and-saturdays/2025-08-16/
CATEGORIES:Arts & Cluture,Business Events,Dining,Downtown Toms River Events
ATTACH;FMTTYPE=image/png:https://downtowntomsriver.com/wp-content/uploads/2025/04/Downtown-Night-Out-2025.png
ORGANIZER;CN="Downtown Toms River BID":MAILTO:info@downtowntomsriver.com
END:VEVENT
BEGIN:VEVENT
DTSTART;TZID=America/New_York:20250822T170000
DTEND;TZID=America/New_York:20250822T220000
DTSTAMP:20260424T062706
CREATED:20250422T200338Z
LAST-MODIFIED:20250520T140547Z
UID:10004263-1755882000-1755900000@downtowntomsriver.com
SUMMARY:Downtown Night Out 2025 - Outdoor Dining in the Summer - Fridays and Saturdays
DESCRIPTION:Join us for a tasty meal\, cold drinks\, and good conversation in Downtown Toms River! – Beginning May 30th – October 18 – Participating restaurants will set up dining and table service outside; Fridays and Saturdays from 5PM – 10PM – Brought to you by Celebrity FORD and our other fabulous sponsors!
URL:https://downtowntomsriver.com/event/downtown-night-out-2025-outdoor-dining-in-the-summer-fridays-and-saturdays/2025-08-22/
CATEGORIES:Arts & Cluture,Business Events,Dining,Downtown Toms River Events
ATTACH;FMTTYPE=image/png:https://downtowntomsriver.com/wp-content/uploads/2025/04/Downtown-Night-Out-2025.png
ORGANIZER;CN="Downtown Toms River BID":MAILTO:info@downtowntomsriver.com
END:VEVENT
BEGIN:VEVENT
DTSTART;TZID=America/New_York:20250823T170000
DTEND;TZID=America/New_York:20250823T220000
DTSTAMP:20260424T062706
CREATED:20250422T200338Z
LAST-MODIFIED:20250520T140547Z
UID:10004304-1755968400-1755986400@downtowntomsriver.com
SUMMARY:Downtown Night Out 2025 - Outdoor Dining in the Summer - Fridays and Saturdays
DESCRIPTION:Join us for a tasty meal\, cold drinks\, and good conversation in Downtown Toms River! – Beginning May 30th – October 18 – Participating restaurants will set up dining and table service outside; Fridays and Saturdays from 5PM – 10PM – Brought to you by Celebrity FORD and our other fabulous sponsors!
URL:https://downtowntomsriver.com/event/downtown-night-out-2025-outdoor-dining-in-the-summer-fridays-and-saturdays/2025-08-23/
CATEGORIES:Arts & Cluture,Business Events,Dining,Downtown Toms River Events
ATTACH;FMTTYPE=image/png:https://downtowntomsriver.com/wp-content/uploads/2025/04/Downtown-Night-Out-2025.png
ORGANIZER;CN="Downtown Toms River BID":MAILTO:info@downtowntomsriver.com
END:VEVENT
BEGIN:VEVENT
DTSTART;TZID=America/New_York:20250829T170000
DTEND;TZID=America/New_York:20250829T220000
DTSTAMP:20260424T062706
CREATED:20250422T200338Z
LAST-MODIFIED:20250520T140547Z
UID:10004265-1756486800-1756504800@downtowntomsriver.com
SUMMARY:Downtown Night Out 2025 - Outdoor Dining in the Summer - Fridays and Saturdays
DESCRIPTION:Join us for a tasty meal\, cold drinks\, and good conversation in Downtown Toms River! – Beginning May 30th – October 18 – Participating restaurants will set up dining and table service outside; Fridays and Saturdays from 5PM – 10PM – Brought to you by Celebrity FORD and our other fabulous sponsors!
URL:https://downtowntomsriver.com/event/downtown-night-out-2025-outdoor-dining-in-the-summer-fridays-and-saturdays/2025-08-29/
CATEGORIES:Arts & Cluture,Business Events,Dining,Downtown Toms River Events
ATTACH;FMTTYPE=image/png:https://downtowntomsriver.com/wp-content/uploads/2025/04/Downtown-Night-Out-2025.png
ORGANIZER;CN="Downtown Toms River BID":MAILTO:info@downtowntomsriver.com
END:VEVENT
BEGIN:VEVENT
DTSTART;TZID=America/New_York:20250830T170000
DTEND;TZID=America/New_York:20250830T220000
DTSTAMP:20260424T062706
CREATED:20250422T200338Z
LAST-MODIFIED:20250520T140547Z
UID:10004305-1756573200-1756591200@downtowntomsriver.com
SUMMARY:Downtown Night Out 2025 - Outdoor Dining in the Summer - Fridays and Saturdays
DESCRIPTION:Join us for a tasty meal\, cold drinks\, and good conversation in Downtown Toms River! – Beginning May 30th – October 18 – Participating restaurants will set up dining and table service outside; Fridays and Saturdays from 5PM – 10PM – Brought to you by Celebrity FORD and our other fabulous sponsors!
URL:https://downtowntomsriver.com/event/downtown-night-out-2025-outdoor-dining-in-the-summer-fridays-and-saturdays/2025-08-30/
CATEGORIES:Arts & Cluture,Business Events,Dining,Downtown Toms River Events
ATTACH;FMTTYPE=image/png:https://downtowntomsriver.com/wp-content/uploads/2025/04/Downtown-Night-Out-2025.png
ORGANIZER;CN="Downtown Toms River BID":MAILTO:info@downtowntomsriver.com
END:VEVENT
END:VCALENDAR