BEGIN:VCALENDAR
VERSION:2.0
PRODID:-// - ECPv6.15.15//NONSGML v1.0//EN
CALSCALE:GREGORIAN
METHOD:PUBLISH
X-ORIGINAL-URL:https://downtowntomsriver.com
X-WR-CALDESC:Events for 
REFRESH-INTERVAL;VALUE=DURATION:PT1H
X-Robots-Tag:noindex
X-PUBLISHED-TTL:PT1H
BEGIN:VTIMEZONE
TZID:America/New_York
BEGIN:DAYLIGHT
TZOFFSETFROM:-0500
TZOFFSETTO:-0400
TZNAME:EDT
DTSTART:20240310T070000
END:DAYLIGHT
BEGIN:STANDARD
TZOFFSETFROM:-0400
TZOFFSETTO:-0500
TZNAME:EST
DTSTART:20241103T060000
END:STANDARD
BEGIN:DAYLIGHT
TZOFFSETFROM:-0500
TZOFFSETTO:-0400
TZNAME:EDT
DTSTART:20250309T070000
END:DAYLIGHT
BEGIN:STANDARD
TZOFFSETFROM:-0400
TZOFFSETTO:-0500
TZNAME:EST
DTSTART:20251102T060000
END:STANDARD
BEGIN:DAYLIGHT
TZOFFSETFROM:-0500
TZOFFSETTO:-0400
TZNAME:EDT
DTSTART:20260308T070000
END:DAYLIGHT
BEGIN:STANDARD
TZOFFSETFROM:-0400
TZOFFSETTO:-0500
TZNAME:EST
DTSTART:20261101T060000
END:STANDARD
END:VTIMEZONE
BEGIN:VEVENT
DTSTART;TZID=America/New_York:20250530T170000
DTEND;TZID=America/New_York:20250530T220000
DTSTAMP:20260424T113406
CREATED:20250422T200338Z
LAST-MODIFIED:20250520T140547Z
UID:10004239-1748624400-1748642400@downtowntomsriver.com
SUMMARY:Downtown Night Out 2025 - Outdoor Dining in the Summer - Fridays and Saturdays
DESCRIPTION:Join us for a tasty meal\, cold drinks\, and good conversation in Downtown Toms River! – Beginning May 30th – October 18 – Participating restaurants will set up dining and table service outside; Fridays and Saturdays from 5PM – 10PM – Brought to you by Celebrity FORD and our other fabulous sponsors!
URL:https://downtowntomsriver.com/event/downtown-night-out-2025-outdoor-dining-in-the-summer-fridays-and-saturdays/2025-05-30/
CATEGORIES:Arts & Cluture,Business Events,Dining,Downtown Toms River Events
ATTACH;FMTTYPE=image/png:https://downtowntomsriver.com/wp-content/uploads/2025/04/Downtown-Night-Out-2025.png
ORGANIZER;CN="Downtown Toms River BID":MAILTO:info@downtowntomsriver.com
END:VEVENT
BEGIN:VEVENT
DTSTART;TZID=America/New_York:20250531T170000
DTEND;TZID=America/New_York:20250531T220000
DTSTAMP:20260424T113406
CREATED:20250422T200338Z
LAST-MODIFIED:20250520T140547Z
UID:10004292-1748710800-1748728800@downtowntomsriver.com
SUMMARY:Downtown Night Out 2025 - Outdoor Dining in the Summer - Fridays and Saturdays
DESCRIPTION:Join us for a tasty meal\, cold drinks\, and good conversation in Downtown Toms River! – Beginning May 30th – October 18 – Participating restaurants will set up dining and table service outside; Fridays and Saturdays from 5PM – 10PM – Brought to you by Celebrity FORD and our other fabulous sponsors!
URL:https://downtowntomsriver.com/event/downtown-night-out-2025-outdoor-dining-in-the-summer-fridays-and-saturdays/2025-05-31/
CATEGORIES:Arts & Cluture,Business Events,Dining,Downtown Toms River Events
ATTACH;FMTTYPE=image/png:https://downtowntomsriver.com/wp-content/uploads/2025/04/Downtown-Night-Out-2025.png
ORGANIZER;CN="Downtown Toms River BID":MAILTO:info@downtowntomsriver.com
END:VEVENT
END:VCALENDAR