BEGIN:VCALENDAR
VERSION:2.0
PRODID:-// - ECPv6.15.15//NONSGML v1.0//EN
CALSCALE:GREGORIAN
METHOD:PUBLISH
X-ORIGINAL-URL:https://downtowntomsriver.com
X-WR-CALDESC:Events for 
REFRESH-INTERVAL;VALUE=DURATION:PT1H
X-Robots-Tag:noindex
X-PUBLISHED-TTL:PT1H
BEGIN:VTIMEZONE
TZID:America/New_York
BEGIN:DAYLIGHT
TZOFFSETFROM:-0500
TZOFFSETTO:-0400
TZNAME:EDT
DTSTART:20190310T070000
END:DAYLIGHT
BEGIN:STANDARD
TZOFFSETFROM:-0400
TZOFFSETTO:-0500
TZNAME:EST
DTSTART:20191103T060000
END:STANDARD
BEGIN:DAYLIGHT
TZOFFSETFROM:-0500
TZOFFSETTO:-0400
TZNAME:EDT
DTSTART:20200308T070000
END:DAYLIGHT
BEGIN:STANDARD
TZOFFSETFROM:-0400
TZOFFSETTO:-0500
TZNAME:EST
DTSTART:20201101T060000
END:STANDARD
BEGIN:DAYLIGHT
TZOFFSETFROM:-0500
TZOFFSETTO:-0400
TZNAME:EDT
DTSTART:20210314T070000
END:DAYLIGHT
BEGIN:STANDARD
TZOFFSETFROM:-0400
TZOFFSETTO:-0500
TZNAME:EST
DTSTART:20211107T060000
END:STANDARD
BEGIN:DAYLIGHT
TZOFFSETFROM:-0500
TZOFFSETTO:-0400
TZNAME:EDT
DTSTART:20220313T070000
END:DAYLIGHT
BEGIN:STANDARD
TZOFFSETFROM:-0400
TZOFFSETTO:-0500
TZNAME:EST
DTSTART:20221106T060000
END:STANDARD
BEGIN:DAYLIGHT
TZOFFSETFROM:-0500
TZOFFSETTO:-0400
TZNAME:EDT
DTSTART:20230312T070000
END:DAYLIGHT
BEGIN:STANDARD
TZOFFSETFROM:-0400
TZOFFSETTO:-0500
TZNAME:EST
DTSTART:20231105T060000
END:STANDARD
BEGIN:DAYLIGHT
TZOFFSETFROM:-0500
TZOFFSETTO:-0400
TZNAME:EDT
DTSTART:20240310T070000
END:DAYLIGHT
BEGIN:STANDARD
TZOFFSETFROM:-0400
TZOFFSETTO:-0500
TZNAME:EST
DTSTART:20241103T060000
END:STANDARD
END:VTIMEZONE
BEGIN:VEVENT
DTSTART;TZID=America/New_York:20231207T110000
DTEND;TZID=America/New_York:20231207T143000
DTSTAMP:20260423T113248
CREATED:20231006T203618Z
LAST-MODIFIED:20231010T150545Z
UID:10000940-1701946800-1701959400@downtowntomsriver.com
SUMMARY:Celebrate the Holidays with our Holiday Tea at the Mathis House
DESCRIPTION:Celebrate the Holidays with our Holiday Tea at the Mathis House! \nBack by popular demand\, our Holiday Tea will be offered to those wishing to visit the beautifully decorated Mathis House Tearoom at 600 Main Street in Toms River on Thursday\, December 7\, 2023. Guests may look forward to the ever-delicious scones\, yummy tea sandwiches\, and scrumptious mini-desserts that accompany generous pots of fine tea as they chat with friends in the historical elegance of this stately home. As usual\, a few lucky guests will win door prizes. The seating is at 11:00 AM. Cost: $40 members; $45 non-members. \nBe sure to make your reservation starting 10:00 am on October 9th by calling Pat at 732-814-2979. Checks should be made out and mailed to Ocean County Historical Society\, 26 Hadley Avenue\, Toms River\, NJ 08753 within one week of phone reservation\, with Attention: Pat in the bottom left-hand corner of the envelope. \n 
URL:https://downtowntomsriver.com/event/celebrate-the-holidays-with-our-holiday-tea-at-the-mathis-house-3/
LOCATION:The Mathis House at 600 Main\, 600 Main St.\, Toms River\, NJ\, 08753\, United States
CATEGORIES:Arts & Crafts
END:VEVENT
BEGIN:VEVENT
DTSTART;TZID=America/New_York:20231105T140000
DTEND;TZID=America/New_York:20231105T160000
DTSTAMP:20260423T113248
CREATED:20231026T195611Z
LAST-MODIFIED:20231027T123936Z
UID:10000950-1699192800-1699200000@downtowntomsriver.com
SUMMARY:TRAC – Make your own seashell trinket tray
DESCRIPTION:Join us at the TRAC Gallery to learn how to make your own handpainted & decoupage seashell trinket tray.  A great class for adults and children.  Everyone leaves with their own special tray. \nAll materials are included in the class fee. \nTo reserve your place please email Ajoyofart732@gmail.com \nLight refreshment’s will be served
URL:https://downtowntomsriver.com/event/trac-make-your-own-seashell-trinket-tray/
LOCATION:40 Main St\, Right Side\, Toms River\, 40 Main St\, Right Side\, TOMS RIVER\, NJ\, 08753\, United States
CATEGORIES:Arts & Cluture,Arts & Crafts
ATTACH;FMTTYPE=image/png:https://downtowntomsriver.com/wp-content/uploads/2023/10/Trinket-tray-1.png
ORGANIZER;CN="Painted Thingies":MAILTO:ajoyofart732@GMAIL.COM
END:VEVENT
BEGIN:VEVENT
DTSTART;TZID=America/New_York:20231006T173000
DTEND;TZID=America/New_York:20231006T200000
DTSTAMP:20260423T113248
CREATED:20231002T202052Z
LAST-MODIFIED:20231003T124859Z
UID:10000931-1696613400-1696622400@downtowntomsriver.com
SUMMARY:TRAC Art Walk On Main
DESCRIPTION:Join us FRIDAY Oct 6th 5:30 – 8pm for our last Art Walk on Main for the year. \nLocal artists setup outside our gallery with loads of local art for sale.  It’s not too early to think about Holiday gifts! \nShop local\, support local artists\, support small business’. \nStop by on your way to Downtown Night Out. \nFamily Friendly Free event \n 
URL:https://downtowntomsriver.com/event/trac-art-walk-on-main-3/
LOCATION:40 Main St\, Right Side\, Toms River\, 40 Main St\, Right Side\, TOMS RIVER\, NJ\, 08753\, United States
CATEGORIES:Arts & Crafts
ATTACH;FMTTYPE=image/jpeg:https://downtowntomsriver.com/wp-content/uploads/2023/10/art-walk-1.jpg
ORGANIZER;CN="Toms River Artist Community":MAILTO:tomsriverartistcommunity732@gmail.com
END:VEVENT
BEGIN:VEVENT
DTSTART;TZID=America/New_York:20230823T190000
DTEND;TZID=America/New_York:20230823T203000
DTSTAMP:20260423T113248
CREATED:20230720T143632Z
LAST-MODIFIED:20230724T125846Z
UID:10000904-1692817200-1692822600@downtowntomsriver.com
SUMMARY:WREP: When Radio Entertained People
DESCRIPTION:Veteran actors from WREP will perform skits from radio’s “Golden Age” of the 1940s and 1950s. This “broadcast” will feature episodes from the shows Suspense\, Our Miss Brooks\, and My Friend Irma. \nThis program is sponsored by the Friends of the Ocean County Library – Toms River.
URL:https://downtowntomsriver.com/event/wrep-when-radio-entertained-people-2/
LOCATION:The Ocean County Library\, 101 Washington St\, Toms River\, NJ\, 08753\, United States
CATEGORIES:Arts & Crafts,Entertainment
ATTACH;FMTTYPE=image/jpeg:https://downtowntomsriver.com/wp-content/uploads/2023/07/WREP-When-Radio-Entertained-People-Poster-scaled.jpg
ORGANIZER;CN="The Ocean County Library":MAILTO:programs@theoceancountylibrary.org
END:VEVENT
BEGIN:VEVENT
DTSTART;TZID=America/New_York:20230616T170000
DTEND;TZID=America/New_York:20230616T183000
DTSTAMP:20260423T113248
CREATED:20230526T165729Z
LAST-MODIFIED:20230526T172205Z
UID:10000865-1686934800-1686940200@downtowntomsriver.com
SUMMARY:Beginner Calligraphy Class for ALL AGES
DESCRIPTION:Beginner Calligraphy Class for ALL AGES! \nMaterials are included in price.
URL:https://downtowntomsriver.com/event/beginner-calligraphy-class-for-all-ages/
LOCATION:Downtown Shops Activity Room\, 53 Main Street\, Toms River\, NJ\, 08753\, United States
CATEGORIES:Arts & Crafts
ATTACH;FMTTYPE=image/png:https://downtowntomsriver.com/wp-content/uploads/2023/05/images.png
ORGANIZER;CN="Mary Prendergast (Jodi Irvington Art &amp%3B Design Studio)":MAILTO:Mprendergast120@gmail.com
END:VEVENT
BEGIN:VEVENT
DTSTART;TZID=America/New_York:20230603T160000
DTEND;TZID=America/New_York:20230603T190000
DTSTAMP:20260423T113248
CREATED:20230323T125833Z
LAST-MODIFIED:20230323T125833Z
UID:10000738-1685808000-1685818800@downtowntomsriver.com
SUMMARY:2023 OCEAN COUNTY SENIOR ART EXIBIT
DESCRIPTION:Are you an Ocean County Senior Artist?  WE WANT YOU!!! \nSubmit you artwork to be part of this amazing show.  Winners at the County level will move onto the State Exhibit!  Show us some Ocean County pride and join us \nThis show will be hung and ready to view June 3rd – June 24th. \n  \nhttps://forms.gle/95QeUeYi7Hk79KJw7 \n 
URL:https://downtowntomsriver.com/event/2023-ocean-county-senior-art-exibit/
LOCATION:The Downtown Shops\, 53 Main St\, Toms Rivet\, NJ\, 08723\, United States
CATEGORIES:Arts & Crafts
ATTACH;FMTTYPE=image/jpeg:https://downtowntomsriver.com/wp-content/uploads/2023/03/2023-OCEAN-COUNTY-SENIOR-ART-jpeg.jpg
ORGANIZER;CN="Toms River Artist Community":MAILTO:tomsriverartistcommunity732@gmail.com
END:VEVENT
BEGIN:VEVENT
DTSTART;TZID=America/New_York:20230511T160000
DTEND;TZID=America/New_York:20230511T173000
DTSTAMP:20260423T113248
CREATED:20230417T190551Z
LAST-MODIFIED:20230420T163650Z
UID:10000761-1683820800-1683826200@downtowntomsriver.com
SUMMARY:Drawing Class for All ages and levels
DESCRIPTION:This class is for all ages and all levels of experience. Space is limited so sign up now!
URL:https://downtowntomsriver.com/event/drawing-class-for-all-ages-and-levels/
LOCATION:Downtown Shops Activity Room\, 53 Main Street\, Toms River\, NJ\, 08753\, United States
CATEGORIES:Arts & Crafts
ATTACH;FMTTYPE=image/png:https://downtowntomsriver.com/wp-content/uploads/2023/04/Screen-Shot-2023-04-17-at-3.57.17-PM.png
ORGANIZER;CN="Mary Prendergast (Jodi Irvington Art &amp%3B Design Studio)":MAILTO:Mprendergast120@gmail.com
END:VEVENT
BEGIN:VEVENT
DTSTART;TZID=America/New_York:20230415T160000
DTEND;TZID=America/New_York:20230415T190000
DTSTAMP:20260423T113248
CREATED:20221219T173226Z
LAST-MODIFIED:20221219T173226Z
UID:10000299-1681574400-1681585200@downtowntomsriver.com
SUMMARY:TRAC Opening Reception
DESCRIPTION:Join us for the opening of our new gallery hang. Meet the artists\, have a snack and enjoy some great local art!\nThis is a family friendly\, free\, event
URL:https://downtowntomsriver.com/event/trac-opening-reception-5/
LOCATION:The Downtown Shops\, 53 Main St\, Toms Rivet\, NJ\, 08723\, United States
CATEGORIES:Arts & Crafts
ATTACH;FMTTYPE=image/jpeg:https://downtowntomsriver.com/wp-content/uploads/2022/12/logo-4.jpg
ORGANIZER;CN="Toms River Artist Community":MAILTO:tomsriverartistcommunity732@gmail.com
END:VEVENT
BEGIN:VEVENT
DTSTART;TZID=America/New_York:20221019T180000
DTEND;TZID=America/New_York:20221019T200000
DTSTAMP:20260423T113248
CREATED:20220929T143009Z
LAST-MODIFIED:20220929T143009Z
UID:10000611-1666202400-1666209600@downtowntomsriver.com
SUMMARY:Celebrate Diwali - Festival of Lights
DESCRIPTION:Join us for a memorable cultural experience and learn how to celebrate Diwali! This special program for all ages will feature unique crafts\, stories\, traditional music\, dancing\, beautiful decorative displays\, and an elaborate visual presentation about the festival and traditions connected with it. Program presented by Enjoy\, Explore India.
URL:https://downtowntomsriver.com/event/celebrate-diwali-festival-of-lights/
LOCATION:The Ocean County Library\, 101 Washington St\, Toms River\, NJ\, 08753\, United States
CATEGORIES:Arts & Crafts
ATTACH;FMTTYPE=image/png:https://downtowntomsriver.com/wp-content/uploads/2022/09/ocl-logo-1.png
ORGANIZER;CN="The Ocean County Library":MAILTO:programs@theoceancountylibrary.org
END:VEVENT
BEGIN:VEVENT
DTSTART;TZID=America/New_York:20220810T183000
DTEND;TZID=America/New_York:20220810T203000
DTSTAMP:20260423T113248
CREATED:20220726T194545Z
LAST-MODIFIED:20220726T194545Z
UID:10000592-1660156200-1660163400@downtowntomsriver.com
SUMMARY:DIY with FI Craft Night
DESCRIPTION:Lets help little Sophia (FI)\, she is in the fight for her life at the age of 6. \nEnjoy a fun night of Crafting\, Good Eats\, and Craft Beer \nYour $65.00 ticket includes: 2 hour DIY class – take home your art – 2 Delicious Beers w/ discounted refills – Pizza by Capones \nA portion of the ticket sales go to the Colavito Family Fund.  For more & ticket purchase: \nhttps://linktr.ee/craft_and_carrycustom
URL:https://downtowntomsriver.com/event/diy-with-fi-craft-night/
LOCATION:Battle River Brewing\, 69 Main St\, Toms River\, NJ\, 08753
CATEGORIES:Arts & Crafts
ATTACH;FMTTYPE=image/jpeg:https://downtowntomsriver.com/wp-content/uploads/2022/07/sophia.jpg
END:VEVENT
BEGIN:VEVENT
DTSTART;TZID=America/New_York:20220521T100000
DTEND;TZID=America/New_York:20220521T160000
DTSTAMP:20260423T113248
CREATED:20220330T143605Z
LAST-MODIFIED:20220330T143605Z
UID:10000587-1653127200-1653148800@downtowntomsriver.com
SUMMARY:1st Annual WAKE UP TOMS RIVER - TRAC at the Toms River Seaport
DESCRIPTION:Spring has sprung and so has festival season!  Join TRAC at the Toms River Seaport for a great day of art outside and the historic Seaport Museum/gift shop inside.  Local artist and crafters will fill the grounds of the Seaport with handmade original pieces of art of all kinds.  We have also invited local crafters to join us in the colorful\, talent filled local event. \nWhen you are done with this event\, stay parked where you are and walk up Washington St to enjoy Downtown Night Out! \nThis is a free\, family friendly event
URL:https://downtowntomsriver.com/event/1st-annual-wake-up-toms-river-trac-at-the-toms-river-seaport/
LOCATION:Toms River Seaport\, 78 East Water St.\, Toms River\, New Jersey\, 08753
CATEGORIES:Arts & Crafts
ATTACH;FMTTYPE=image/jpeg:https://downtowntomsriver.com/wp-content/uploads/2022/03/TRAC-STICKER.jpg
ORGANIZER;CN="Toms River Artist Community":MAILTO:tomsriverartistcommunity732@gmail.com
END:VEVENT
BEGIN:VEVENT
DTSTART;TZID=America/New_York:20210411T140000
DTEND;TZID=America/New_York:20210411T170000
DTSTAMP:20260423T113248
CREATED:20210204T161054Z
LAST-MODIFIED:20210204T161054Z
UID:10000514-1618149600-1618160400@downtowntomsriver.com
SUMMARY:OCHS Welcomes Accomplished Photographer\, Gary Saretsky
DESCRIPTION:Well respected throughout the State history community\, especially in Monmouth & Ocean Counties\, retired Monmouth County archivist & educator Gary Saretsky is also an outstanding  photographer. In 1972\, he became seriously involved with photography\, eventually sharing his knowledge and experience with students at Mercer County Community College. Established in 1985\, his online photo bookstore currently offers more than 800 titles for sale. \nArt & photography lovers should plan to join OCHS for our Zoom presentation of Gary Saretsky’s illustrated slide lecture\, Nineteenth Century New Jersey Photographers. After showcasing photographers of State renown\, Gary will focus on selected photographers of Ocean County. Gary lectured under the auspices of the Public Scholars Speakers Bureau of the NJ Council for the Humanities before the pandemic. \nTo register\, send your name\, zip code\, email address\, and “NJ Photographers” on April 11\, 2021 to oceancounty.history@verizon.net. We will send you the link to Zoom a few days before the event.
URL:https://downtowntomsriver.com/event/ochs-welcomes-accomplished-photographer-gary-saretsky/
LOCATION:Ocean County Historical Society\, 26 Hadley Ave\, Toms River\, NJ\, 08753\, United States
CATEGORIES:Arts & Crafts
END:VEVENT
BEGIN:VEVENT
DTSTART;TZID=America/New_York:20210207T140000
DTEND;TZID=America/New_York:20210207T160000
DTSTAMP:20260423T113248
CREATED:20210104T195104Z
LAST-MODIFIED:20210104T195104Z
UID:10000055-1612706400-1612713600@downtowntomsriver.com
SUMMARY:Congressman Andy Kim Invited to OCHS Presentation
DESCRIPTION:We are honored to have a tentative commitment from Congressman Kim\, representing residents in most of Burlington County & parts of Ocean County\, to speak virtually about his public service career under both Democrats & Republicans. He served at USAID\, the Pentagon\, the State Department\, the White House National Security Council\, and in Afghanistan as an advisor to Generals Petraeus and Allen. We are particularly interested in his past Middle East experiences\, with a possible drawdown of US troops about to occur in Iraq & Afghanistan. Make a list of questions you have for Rep. Kim! As soon as we receive confirmation of Rep. Kim’s new committee assignments & schedule for 2021\, we will confirm the planned presentation. Sign up for this informative program by emailing your name\, zip code\, email address and Congressman Kim program to oceancounty.history@verizon.net. We will send you the link to Zoom a few days before the event.
URL:https://downtowntomsriver.com/event/congressman-andy-kim-invited-to-ochs-presentation/
LOCATION:Ocean County Historical Society\, 26 Hadley Ave\, Toms River\, NJ\, 08753\, United States
CATEGORIES:Arts & Crafts
END:VEVENT
BEGIN:VEVENT
DTSTART;TZID=America/New_York:20200418T130000
DTEND;TZID=America/New_York:20200418T143000
DTSTAMP:20260423T113248
CREATED:20200224T125952Z
LAST-MODIFIED:20200306T171025Z
UID:10000038-1587214800-1587220200@downtowntomsriver.com
SUMMARY:Youth Mosaic Class - Toms River Artist Community
DESCRIPTION:Open to youths 11 or older. This Toms River Artist Community led class will let students explore their creativity in creating a mosaic art piece that will be framed and ready to share with friends and family. All materials will be furnished\, just bring creativity!
URL:https://downtowntomsriver.com/event/youth-mosaic-class-toms-river-artist-community/
LOCATION:Downtown Shops Activity Room\, 53 Main Street\, Toms River\, NJ\, 08753\, United States
CATEGORIES:Arts & Crafts
ORGANIZER;CN="Toms River Artist Community":MAILTO:tomsriverartistcommunity732@gmail.com
END:VEVENT
BEGIN:VEVENT
DTSTART;TZID=America/New_York:20200328T100000
DTEND;TZID=America/New_York:20200328T150000
DTSTAMP:20260423T113248
CREATED:20200128T154558Z
LAST-MODIFIED:20200128T154558Z
UID:10000313-1585389600-1585407600@downtowntomsriver.com
SUMMARY:TRHSS Chorusline Spring Craft/Vendor Fair
DESCRIPTION:Toms River HS South Choir is hosting a Spring Craft/Vendor Fair. We will have Ohana Food Truck\, over 50 Crafter/Artians/Vendors selling\, basket raffle and door prizes.\nJoin our Facebook event page and see what our vendors have to offer…”TRHSS Chorusline Event Page”
URL:https://downtowntomsriver.com/event/trhss-chorusline-spring-craft-vendor-fair/
LOCATION:Toms River HS South\, 55 Hyers Street\, Toms River\, 08753\, United States
CATEGORIES:Arts & Crafts
ATTACH;FMTTYPE=image/jpeg:https://downtowntomsriver.com/wp-content/uploads/2020/01/D13463CF-5B86-49B2-89DF-AB8449DB7EDF.jpeg
END:VEVENT
BEGIN:VEVENT
DTSTART;TZID=America/New_York:20200314T130000
DTEND;TZID=America/New_York:20200314T160000
DTSTAMP:20260423T113248
CREATED:20200305T183702Z
LAST-MODIFIED:20200305T183702Z
UID:10000047-1584190800-1584201600@downtowntomsriver.com
SUMMARY:TRAC – Opening Reception  – March art Gallery
DESCRIPTION:New Art presented by TRAC
URL:https://downtowntomsriver.com/event/trac-opening-reception-march-art-gallery/
LOCATION:TRAC- Toms River Artist Community\, 40 Main Street\, Toms River\, NJ\, 08753\, United States
CATEGORIES:Arts & Crafts
ATTACH;FMTTYPE=image/jpeg:https://downtowntomsriver.com/wp-content/uploads/2020/03/gallery-1.jpg
ORGANIZER;CN="Toms River Artist Community":MAILTO:tomsriverartistcommunity732@gmail.com
END:VEVENT
END:VCALENDAR