BEGIN:VCALENDAR
VERSION:2.0
PRODID:-// - ECPv6.15.15//NONSGML v1.0//EN
CALSCALE:GREGORIAN
METHOD:PUBLISH
X-ORIGINAL-URL:https://downtowntomsriver.com
X-WR-CALDESC:Events for 
REFRESH-INTERVAL;VALUE=DURATION:PT1H
X-Robots-Tag:noindex
X-PUBLISHED-TTL:PT1H
BEGIN:VTIMEZONE
TZID:America/New_York
BEGIN:DAYLIGHT
TZOFFSETFROM:-0500
TZOFFSETTO:-0400
TZNAME:EDT
DTSTART:20230312T070000
END:DAYLIGHT
BEGIN:STANDARD
TZOFFSETFROM:-0400
TZOFFSETTO:-0500
TZNAME:EST
DTSTART:20231105T060000
END:STANDARD
BEGIN:DAYLIGHT
TZOFFSETFROM:-0500
TZOFFSETTO:-0400
TZNAME:EDT
DTSTART:20240310T070000
END:DAYLIGHT
BEGIN:STANDARD
TZOFFSETFROM:-0400
TZOFFSETTO:-0500
TZNAME:EST
DTSTART:20241103T060000
END:STANDARD
BEGIN:DAYLIGHT
TZOFFSETFROM:-0500
TZOFFSETTO:-0400
TZNAME:EDT
DTSTART:20250309T070000
END:DAYLIGHT
BEGIN:STANDARD
TZOFFSETFROM:-0400
TZOFFSETTO:-0500
TZNAME:EST
DTSTART:20251102T060000
END:STANDARD
END:VTIMEZONE
BEGIN:VEVENT
DTSTART;TZID=America/New_York:20241122T170000
DTEND;TZID=America/New_York:20241122T190000
DTSTAMP:20260424T070041
CREATED:20241106T133922Z
LAST-MODIFIED:20241106T133922Z
UID:10004063-1732294800-1732302000@downtowntomsriver.com
SUMMARY:Craft & Carry + Atabey Candle Co. Candle Making Workshop at Gifted on Washington
DESCRIPTION:Experience the art of candle-making and create your own custom lids with our DIY Candle & Custom Lid Class. Join us for a hands-on workshop where you’ll learn the secrets of crafting beautiful candles and unique lids. Elevate your home decor with personalized creations – sign up now!\nJoin Atabey Candle Co & Craft & Carry Custom to create your own unique candle and custom engraved lid!\nHosted at Gifted on Washington\, Downtown’s premier gift shop!\n$45ppNovember 22 5p-7p\nSign Up here: https://square.link/u/zZx7nXGA
URL:https://downtowntomsriver.com/event/craft-carry-atabey-candle-co-candle-making-workshop-at-gifted-on-washington/
LOCATION:Gifted on Washington\, 16 Washington St\, Toms River\, NJ\, 08753-8709\, United States
CATEGORIES:Arts & Crafts
ATTACH;FMTTYPE=image/jpeg:https://downtowntomsriver.com/wp-content/uploads/2024/11/Beige-Elegant-Aesthetic-Restaurant-Event-Promotion-Brunch-Flyer.png-scaled.jpeg
END:VEVENT
END:VCALENDAR