BEGIN:VCALENDAR
VERSION:2.0
PRODID:-// - ECPv6.15.15//NONSGML v1.0//EN
CALSCALE:GREGORIAN
METHOD:PUBLISH
X-ORIGINAL-URL:https://downtowntomsriver.com
X-WR-CALDESC:Events for 
REFRESH-INTERVAL;VALUE=DURATION:PT1H
X-Robots-Tag:noindex
X-PUBLISHED-TTL:PT1H
BEGIN:VTIMEZONE
TZID:America/New_York
BEGIN:DAYLIGHT
TZOFFSETFROM:-0500
TZOFFSETTO:-0400
TZNAME:EDT
DTSTART:20240310T070000
END:DAYLIGHT
BEGIN:STANDARD
TZOFFSETFROM:-0400
TZOFFSETTO:-0500
TZNAME:EST
DTSTART:20241103T060000
END:STANDARD
BEGIN:DAYLIGHT
TZOFFSETFROM:-0500
TZOFFSETTO:-0400
TZNAME:EDT
DTSTART:20250309T070000
END:DAYLIGHT
BEGIN:STANDARD
TZOFFSETFROM:-0400
TZOFFSETTO:-0500
TZNAME:EST
DTSTART:20251102T060000
END:STANDARD
BEGIN:DAYLIGHT
TZOFFSETFROM:-0500
TZOFFSETTO:-0400
TZNAME:EDT
DTSTART:20260308T070000
END:DAYLIGHT
BEGIN:STANDARD
TZOFFSETFROM:-0400
TZOFFSETTO:-0500
TZNAME:EST
DTSTART:20261101T060000
END:STANDARD
END:VTIMEZONE
BEGIN:VEVENT
DTSTART;TZID=America/New_York:20251102T100000
DTEND;TZID=America/New_York:20251102T150000
DTSTAMP:20260423T110440
CREATED:20250910T171132Z
LAST-MODIFIED:20250910T171132Z
UID:10005607-1762077600-1762095600@downtowntomsriver.com
SUMMARY:Holiday Gifts\, Crafts and Collectibles Faire
DESCRIPTION:OCHS will be hosting their 36th annual Holiday Gifts\, Crafts and Collectibles Faire on Sunday\, November 2\, 2025\, from 10:00 AM to 3:00 PM. It will again be held in the Toms River High School South cafetorium. Admission is free! \nIn addition to over eighty vendor tables\, there will be historical and cultural displays\, baked goods for sale\, our popular 50-50 and much more. This event\, sponsored in part by the Ocean County Cultural & Heritage Commission\, will feature an Ocean County History and Cultural Pavilion. \nToms River High School South is in the Downtown Toms River area. Use 212 Hooper Avenue as a GPS setting. \nFor additional information\, please call Joseph at 732-998-5934 or email him at rjl072001@gmail.com. \nVendors: See our website at: oceancountyhistory.org for sign-up information.
URL:https://downtowntomsriver.com/event/holiday-gifts-crafts-and-collectibles-faire/
LOCATION:Toms River South Cafetorium\, 55 Hyers Street\, Toms River\, NJ\, United States
CATEGORIES:Arts & Cluture,Arts & Crafts
END:VEVENT
BEGIN:VEVENT
DTSTART;TZID=America/New_York:20251107T180000
DTEND;TZID=America/New_York:20251107T200000
DTSTAMP:20260423T110440
CREATED:20251020T160732Z
LAST-MODIFIED:20251020T160813Z
UID:10005619-1762538400-1762545600@downtowntomsriver.com
SUMMARY:Fall Charcuterie Board Workshop - With Anchor and Graze
DESCRIPTION:Join us for a cozy\, hands-on charcuterie board workshop!\nLed by Anchor & Graze Charcuterie\, you’ll learn how to craft a beautiful (and delicious) charcuterie board – just in time for Thanksgiving & holiday entertaining\, or simply for a quiet night in. \nFrom seasonal pairings to presentation tips\, you’ll leave ready to wow guests (or treat yourself!) \n  \n$55 per person ticket includes all necessary ingredients and tools to make your own personal charcuterie board.\nBring your board home to enjoy or take it across the street to Battle River Brewery or Garden State Distillery to enjoy while pairing it with seasonal sips!
URL:https://downtowntomsriver.com/event/fall-charcuterie-board-workshop-with-anchor-and-graze/
LOCATION:Gifted on Washington\, 16 Washington St\, Toms River\, NJ\, 08753-8709\, United States
CATEGORIES:Arts & Cluture,Arts & Crafts,Classes,Food Classes + Tastings,Other,Sweets and Treats
ATTACH;FMTTYPE=image/jpeg:https://downtowntomsriver.com/wp-content/uploads/2025/10/117-Event-1-1-scaled.jpg
END:VEVENT
BEGIN:VEVENT
DTSTART;TZID=America/New_York:20251112T183000
DTEND;TZID=America/New_York:20251112T203000
DTSTAMP:20260423T110440
CREATED:20251114T153727Z
LAST-MODIFIED:20251114T153727Z
UID:10005621-1762972200-1762979400@downtowntomsriver.com
SUMMARY:Garden State Distillery Paint n Sip night
DESCRIPTION:Another fun event Coming to Garden State Distillery! Wednesday November 12th at 6:30pm \nIn downtown Toms River! \nWe will be making these beautiful 12-in wooden pumpkins that come with a bow and a hanging mechanism. 👻🎃🎨🖌️ \nYou’ll be taught step by step on how to paint the pumpkin with shading etc. \n🍹🍂🎃 \nAnd your first alcoholic drink is on us for FREE!! \n$40 per person painting. \n  \nIf you don’t want to paint the pumpkin\, there is another option as well\, which is this beautiful canvas painting . \nJust let the artist know which one you’d like to do!! \n  \nYou must sign up for this event in advance due to limited seating. \nTo sign up contact Jessica at \n“JesSea’s Crafty Beaches” Mobile Paint Parties. \n732-581-7115
URL:https://downtowntomsriver.com/event/garden-state-distillery-paint-n-sip-night/
LOCATION:Garden State Distillery\, 13 Washington Street\, Toms River\, 08753\, United States
CATEGORIES:Arts & Cluture,Arts & Crafts,Business Events,Entertainment,Toms River Artist Community
ATTACH;FMTTYPE=image/png:https://downtowntomsriver.com/wp-content/uploads/2025/11/1000021850.png
END:VEVENT
BEGIN:VEVENT
DTSTART;TZID=America/New_York:20251116T140000
DTEND;TZID=America/New_York:20251116T170000
DTSTAMP:20260423T110440
CREATED:20250910T171458Z
LAST-MODIFIED:20250910T171458Z
UID:10005608-1763301600-1763312400@downtowntomsriver.com
SUMMARY:Native American Wisdom –Presented by Ande Three Ravens
DESCRIPTION:Sunday\, November 16th—Native American Wisdom –Presented by Ande Three Ravens \nThree Ravens is an Indigenous American artist of Misikita Black Foot and Mandan ancestry. He is an expert flute player\, instrument maker\, percussionist\, and vocalist who specializes in the rich\, ancient Indigenous traditions of South\, Meso\, and North American Native Indian music and storytelling. \nThree Ravens along with Little Hawk did over two hundred Native American cultural\, historical\, and interactive programs in the New York City public schools. In addition\, he worked at the NYC Department of Education and retired after 47 years of service focusing on youth development\, conflict resolution and building bridges. \nThese events take place at our museum at 26 Hadley Avenue in Toms River. These events are free\, but your donations in support of our programs are appreciated. \nSEATING IS LIMITED so reserve your seat early by sending your name\, zip code\, email address\,  telephone number\, and the name and date of the program (Nov. 16\, 2025) to:  oceancountyhistory.programs@gmail.com \nLocation: Ocean County Historical Society \nTime: 2:00 PM
URL:https://downtowntomsriver.com/event/native-american-wisdom-presented-by-ande-three-ravens/
LOCATION:Ocean County Historical Society\, 26 Hadley Ave\, Toms River\, NJ\, 08753\, United States
CATEGORIES:Arts & Cluture
END:VEVENT
BEGIN:VEVENT
DTSTART;TZID=America/New_York:20251116T150000
DTEND;TZID=America/New_York:20251116T170000
DTSTAMP:20260423T110440
CREATED:20251015T164525Z
LAST-MODIFIED:20251015T164525Z
UID:10005618-1763305200-1763312400@downtowntomsriver.com
SUMMARY:Nora Flemming - Paint Your Own Mini Party: Holiday Edition!
DESCRIPTION:Nora Fleming Paint Your Own Mini Party – Holiday Edition! \nEnjoy cheerful sips\, sweets and holiday music while decorating your very own nora fleming deck the halls ornament-shaped mini! \n$55 per person ticket includes:\n– One blank ornament-shaped mini to decorate\n-️ All materials needed to decorate your mini (we’ll be using paint pens!)\n– One Nora Fleming dainty dish to add your completed mini to take home
URL:https://downtowntomsriver.com/event/nora-flemming-paint-your-own-mini-party-holiday-edition/
LOCATION:Gifted on Washington\, 16 Washington St\, Toms River\, NJ\, 08753-8709\, United States
CATEGORIES:Arts & Cluture,Classes,Other
ATTACH;FMTTYPE=image/jpeg:https://downtowntomsriver.com/wp-content/uploads/2025/10/Gifted-11-16-scaled.jpg
END:VEVENT
BEGIN:VEVENT
DTSTART;VALUE=DATE:20251129
DTEND;VALUE=DATE:20251130
DTSTAMP:20260423T110440
CREATED:20250417T134719Z
LAST-MODIFIED:20250417T134831Z
UID:10004233-1764374400-1764460799@downtowntomsriver.com
SUMMARY:Small Business Saturday 2025
DESCRIPTION:The Holidays are upon us!  This year\, remember to shop small and support your local businesses! Downtown Toms River supports Small Business Saturday – \nRestaurants – Gifts – Art – Novelties – Collectibles – Sports – Dance – Downtown has it all – \nSaturday\, November 29th\, 2025 – See what’s in store\, updates to come. \nFor more info follow our Facebook: www.facebook.com/downtowntomsrive Instagram: www.instagram.com/downtowntomsriver/ for updates and info.
URL:https://downtowntomsriver.com/event/small-business-saturday-2025/
LOCATION:Downtown Toms River\, Washington St\,.\, Toms River\, NJ\, 08753\, United States
CATEGORIES:Arts & Cluture,Arts & Crafts,Business Events,Downtown Toms River Events
ATTACH;FMTTYPE=image/png:https://downtowntomsriver.com/wp-content/uploads/2025/04/Small-Biz-Saturday-2025.png
ORGANIZER;CN="Downtown Toms River BID":MAILTO:info@downtowntomsriver.com
END:VEVENT
BEGIN:VEVENT
DTSTART;TZID=America/New_York:20251129T100000
DTEND;TZID=America/New_York:20251129T150000
DTSTAMP:20260423T110440
CREATED:20250910T171656Z
LAST-MODIFIED:20250910T171656Z
UID:10005609-1764410400-1764428400@downtowntomsriver.com
SUMMARY:Victorian Holiday Open House with Santa and Mrs. Claus
DESCRIPTION:Ocean County Historical Society \nTime: 10:00 AM to 3:00 PM \nDate: Saturday\, November 29th\, 2025 \n  \nThe Ocean County Historical Society is pleased to announce our fifth annual Victorian Style Open House to be held on Saturday\, November 29\, 2025\, from 10:00 AM until 3:00 PM. Bring your children and grandchildren to meet Santa Claus. Bring your camera to take pictures with Santa and Mrs. Claus. Santa will be visiting us from 11:00 to 2:00. Tour our Victorian-style house and museum complete with holiday music and decorations and enjoy holiday refreshments and gifts for the children. Best of all\, the event is free! Enjoy a fun filled event with the whole family. For additional information\, please call Jeff at 609-339-9134 or email:  jeffschenker@myyahoo.com \n 
URL:https://downtowntomsriver.com/event/victorian-holiday-open-house-with-santa-and-mrs-claus-2/
LOCATION:Ocean County Historical Society\, 26 Hadley Ave\, Toms River\, NJ\, 08753\, United States
CATEGORIES:Arts & Cluture
END:VEVENT
END:VCALENDAR