BEGIN:VCALENDAR
VERSION:2.0
PRODID:-// - ECPv6.15.15//NONSGML v1.0//EN
CALSCALE:GREGORIAN
METHOD:PUBLISH
X-ORIGINAL-URL:https://downtowntomsriver.com
X-WR-CALDESC:Events for 
REFRESH-INTERVAL;VALUE=DURATION:PT1H
X-Robots-Tag:noindex
X-PUBLISHED-TTL:PT1H
BEGIN:VTIMEZONE
TZID:America/New_York
BEGIN:DAYLIGHT
TZOFFSETFROM:-0500
TZOFFSETTO:-0400
TZNAME:EDT
DTSTART:20240310T070000
END:DAYLIGHT
BEGIN:STANDARD
TZOFFSETFROM:-0400
TZOFFSETTO:-0500
TZNAME:EST
DTSTART:20241103T060000
END:STANDARD
BEGIN:DAYLIGHT
TZOFFSETFROM:-0500
TZOFFSETTO:-0400
TZNAME:EDT
DTSTART:20250309T070000
END:DAYLIGHT
BEGIN:STANDARD
TZOFFSETFROM:-0400
TZOFFSETTO:-0500
TZNAME:EST
DTSTART:20251102T060000
END:STANDARD
BEGIN:DAYLIGHT
TZOFFSETFROM:-0500
TZOFFSETTO:-0400
TZNAME:EDT
DTSTART:20260308T070000
END:DAYLIGHT
BEGIN:STANDARD
TZOFFSETFROM:-0400
TZOFFSETTO:-0500
TZNAME:EST
DTSTART:20261101T060000
END:STANDARD
END:VTIMEZONE
BEGIN:VEVENT
DTSTART;VALUE=DATE:20250827
DTEND;VALUE=DATE:20251004
DTSTAMP:20260423T124213
CREATED:20250827T181423Z
LAST-MODIFIED:20250827T181757Z
UID:10005603-1756252800-1759535999@downtowntomsriver.com
SUMMARY:Scarecrow Walk Registration 2025
DESCRIPTION:It’s starting to feel like fall! Help us decorate the Downtown with your very own Scarecrow. You could even win up to $400! \n\nCreate lasting memories and build your scarecrow as a family or team-building opportunity!\nAdvertise your Business for Free! All scarecrows will be clearly labeled and waterproofed\, and your business or organization can be featured!\nScarecrows on display from October 10th – 31st\nYour scarecrow can be seen by thousands of people during the Halloween Parade where we can have over 38\,000 visitors.\n\nScarecrow Walk Registration Link
URL:https://downtowntomsriver.com/event/scarecrow-walk-registration-2025/
LOCATION:Downtown Toms River\, Washington St\,.\, Toms River\, NJ\, 08753\, United States
CATEGORIES:Arts & Cluture,Arts & Crafts,Contests,Downtown Business Events,Downtown Toms River Events,Entertainment,Kids,Other
ATTACH;FMTTYPE=image/png:https://downtowntomsriver.com/wp-content/uploads/2025/08/Scarecrows-Wanted-2025.png
ORGANIZER;CN="Downtown Toms River BID":MAILTO:info@downtowntomsriver.com
END:VEVENT
BEGIN:VEVENT
DTSTART;TZID=America/New_York:20251001T110000
DTEND;TZID=America/New_York:20251001T160000
DTSTAMP:20260423T124213
CREATED:20250416T144157Z
LAST-MODIFIED:20250416T144559Z
UID:10004224-1759316400-1759334400@downtowntomsriver.com
SUMMARY:Farmer's Market 2025
DESCRIPTION:Once again\, Toms River hosts artisans of food\, crafts and more–to our weekly Farmer’s Market! \n  \n  \nBeginning June 6th 2025\, through October 1st \nEvery Wednesday from 11AM – 4PM @ 33 Washington St. \n  \n  \nExciting smells and aromas\, gifts and charms of all sorts are just waiting to be found at this years’ Farmer’s Market. \nStay tuned: \nFollow our Facebook and Instagram for updates and info. \n 
URL:https://downtowntomsriver.com/event/farmers-market-2025/2025-10-01/
LOCATION:Farmer’s Market\, 33 Washington St.\, Toms River\, 08753\, United States
CATEGORIES:Arts & Cluture,Arts & Crafts,Downtown Toms River Events,Entertainment
ATTACH;FMTTYPE=image/png:https://downtowntomsriver.com/wp-content/uploads/2025/04/Farmers-Market-2025-.png
ORGANIZER;CN="Downtown Toms River BID":MAILTO:info@downtowntomsriver.com
END:VEVENT
BEGIN:VEVENT
DTSTART;TZID=America/New_York:20251001T163000
DTEND;TZID=America/New_York:20251001T173000
DTSTAMP:20260423T124213
CREATED:20250826T152643Z
LAST-MODIFIED:20250826T152643Z
UID:10005596-1759336200-1759339800@downtowntomsriver.com
SUMMARY:Disney Wednesdays @ Broadway on Main
DESCRIPTION:Come join us as we explore different genres of dance with your favorite Disney characters all season long!\nWhich magical character will make it to our Summer Showcase?\n\n8 Week Course – $125 Per Student
URL:https://downtowntomsriver.com/event/disney-wednesdays-broadway-on-main/2025-10-01/
LOCATION:Broadway On Main\, 806 N. Main Street\, Toms River\, 08753\, United States
CATEGORIES:Arts & Cluture,Classes,Dance,Kids
ATTACH;FMTTYPE=image/jpeg:https://downtowntomsriver.com/wp-content/uploads/2025/08/BOM-Flyer-10.29.jpg
ORGANIZER;CN="Broadway On Main":MAILTO:broadwayonmaintrnj@gmail.com
END:VEVENT
BEGIN:VEVENT
DTSTART;TZID=America/New_York:20251003T170000
DTEND;TZID=America/New_York:20251003T220000
DTSTAMP:20260423T124213
CREATED:20250422T200338Z
LAST-MODIFIED:20250520T140547Z
UID:10004275-1759510800-1759528800@downtowntomsriver.com
SUMMARY:Downtown Night Out 2025 - Outdoor Dining in the Summer - Fridays and Saturdays
DESCRIPTION:Join us for a tasty meal\, cold drinks\, and good conversation in Downtown Toms River! – Beginning May 30th – October 18 – Participating restaurants will set up dining and table service outside; Fridays and Saturdays from 5PM – 10PM – Brought to you by Celebrity FORD and our other fabulous sponsors!
URL:https://downtowntomsriver.com/event/downtown-night-out-2025-outdoor-dining-in-the-summer-fridays-and-saturdays/2025-10-03/
LOCATION:NJ
CATEGORIES:Arts & Cluture,Business Events,Dining,Downtown Toms River Events
ATTACH;FMTTYPE=image/png:https://downtowntomsriver.com/wp-content/uploads/2025/04/Downtown-Night-Out-2025.png
ORGANIZER;CN="Downtown Toms River BID":MAILTO:info@downtowntomsriver.com
END:VEVENT
BEGIN:VEVENT
DTSTART;TZID=America/New_York:20251003T180000
DTEND;TZID=America/New_York:20251003T210000
DTSTAMP:20260423T124213
CREATED:20250916T183928Z
LAST-MODIFIED:20250916T183928Z
UID:10005612-1759514400-1759525200@downtowntomsriver.com
SUMMARY:The Scent Social at First Date Coffee Shop
DESCRIPTION:Sip & Scents Night at First Date Coffee Shop \n\n\nJoin us for a cozy and creative evening on Friday\, October 3rd from 6–9 PM at First Date Coffee Shop (11C Washington Street\, Toms River\, NJ)!\n\n\nYour $50 ticket includes:\n One specialty drink\n A sweet treat\n The chance to create your very own custom perfume with The Scent Social’s mobile perfume bar!\n\n\nThis is the perfect night out for friends\, date night\, or a little self-care. Spots are limited\, so grab your tickets now!
URL:https://downtowntomsriver.com/event/the-scent-social-at-first-date-coffee-shop/
LOCATION:First Date Coffee Shop\, 11C Washington St\, Toms River\, New Jersey\, United States
CATEGORIES:Arts & Cluture,Classes,Other,Sweets and Treats
ATTACH;FMTTYPE=image/jpeg:https://downtowntomsriver.com/wp-content/uploads/2025/09/Scents.jpg
ORGANIZER;CN="First Date Coffee":MAILTO:firstdatecoffeeshops@gmail.com
END:VEVENT
BEGIN:VEVENT
DTSTART;TZID=America/New_York:20251004T170000
DTEND;TZID=America/New_York:20251004T200000
DTSTAMP:20260423T124213
CREATED:20250916T195357Z
LAST-MODIFIED:20250916T195357Z
UID:10005613-1759597200-1759608000@downtowntomsriver.com
SUMMARY:Host a Little Ghost and the Story of the Mystical Mums: Author Meet and Greet
DESCRIPTION:Join us during Downtown Night Out & meet Lillian Stulich\, co-author of ‘Host a Little host and the Story of the Mystical Mums!’\n \nAn autumn whirlwind came to Tommy and Suzie’s town bringing with it a new friend\, who would teach them the true spirit of caring\, sharing\, and the joy of the Halloween season! Inspired by the students of Toms River Intermediate East in October 2012\, when Halloween in Toms River\, NJ was canceled during Super Storm Sandy\n\n \n\nBooks will be available for purchase! Includes: a tote bag to carry your book & a glow in the dark ghost plush.
URL:https://downtowntomsriver.com/event/host-a-little-ghost-and-the-story-of-the-mystical-mums-author-meet-and-greet/
LOCATION:Gifted on Washington\, 16 Washington St\, Toms River\, NJ\, 08753-8709\, United States
CATEGORIES:Arts & Cluture,Books and Authors,Downtown Business Events,Kids,Other
ATTACH;FMTTYPE=image/jpeg:https://downtowntomsriver.com/wp-content/uploads/2025/09/Host-A-Little-Ghost-and-the-Story-of-the-Mystical-Mums-scaled.jpg
END:VEVENT
BEGIN:VEVENT
DTSTART;TZID=America/New_York:20251004T170000
DTEND;TZID=America/New_York:20251004T220000
DTSTAMP:20260423T124213
CREATED:20250422T200338Z
LAST-MODIFIED:20250520T140547Z
UID:10004310-1759597200-1759615200@downtowntomsriver.com
SUMMARY:Downtown Night Out 2025 - Outdoor Dining in the Summer - Fridays and Saturdays
DESCRIPTION:Join us for a tasty meal\, cold drinks\, and good conversation in Downtown Toms River! – Beginning May 30th – October 18 – Participating restaurants will set up dining and table service outside; Fridays and Saturdays from 5PM – 10PM – Brought to you by Celebrity FORD and our other fabulous sponsors!
URL:https://downtowntomsriver.com/event/downtown-night-out-2025-outdoor-dining-in-the-summer-fridays-and-saturdays/2025-10-04/
LOCATION:NJ
CATEGORIES:Arts & Cluture,Business Events,Dining,Downtown Toms River Events
ATTACH;FMTTYPE=image/png:https://downtowntomsriver.com/wp-content/uploads/2025/04/Downtown-Night-Out-2025.png
ORGANIZER;CN="Downtown Toms River BID":MAILTO:info@downtowntomsriver.com
END:VEVENT
BEGIN:VEVENT
DTSTART;TZID=America/New_York:20251005T140000
DTEND;TZID=America/New_York:20251005T170000
DTSTAMP:20260423T124213
CREATED:20250819T210724Z
LAST-MODIFIED:20250819T211040Z
UID:10005586-1759672800-1759683600@downtowntomsriver.com
SUMMARY:Old Methodist Cemetery
DESCRIPTION:Location: Ocean County Historical Society \nTime: 2:00 PM \nSunday\, October 5th – Old Methodist Cemetery — presented by Joseph Latshaw \nJoin us for a presentation by Joseph Latshaw about the historic Old Methodist Cemetery\, located at the corner of Hooper Avenue and Washington Street in Toms River. \nThis Power Point presentation will include a brief history of 19th Century Toms River\, the emergence of Methodism\, the identity of military veterans interred at the cemetery dating back to the American Revolution\, the meaning of some of the symbols on certain gravestones\, and much more. Joseph will also discuss preservation efforts for the two-hundred-year-old cemetery. \nJoseph is the historian for the First United Methodist Church of Toms River\, which oversees and manages the Old Methodist Cemetery. A lifelong resident of Toms River\, he has a degree in history from Kean University. Joseph is currently employed by the Ocean County Cultural and Heritage Commission. In addition\, he is a President of the Ocean County Historical Society. He also serves as Chair of the Toms River Township Historic Preservation Commission and is a trustee for the League of Historical Societies of New Jersey. Joseph is an Eagle Scout\, an assistant scoutmaster\, and a member of the Sons of the American Revolution. \nThese events take place at our museum at 26 Hadley Avenue in Toms River. These events are free\, but your donations in support of our programs are appreciated. \nSEATING IS LIMITED so reserve your seat early by sending your name\, zip code\, email address\, telephone number\, and the name and date of the program (Oct. 5\, 2025) to:  oceancountyhistory.programs@gmail.com
URL:https://downtowntomsriver.com/event/old-methodist-cemetery/
LOCATION:Ocean County Historical Society\, 26 Hadley Ave\, Toms River\, NJ\, 08753\, United States
CATEGORIES:Arts & Cluture
END:VEVENT
BEGIN:VEVENT
DTSTART;TZID=America/New_York:20251008T163000
DTEND;TZID=America/New_York:20251008T173000
DTSTAMP:20260423T124213
CREATED:20250826T152643Z
LAST-MODIFIED:20250826T152643Z
UID:10005597-1759941000-1759944600@downtowntomsriver.com
SUMMARY:Disney Wednesdays @ Broadway on Main
DESCRIPTION:Come join us as we explore different genres of dance with your favorite Disney characters all season long!\nWhich magical character will make it to our Summer Showcase?\n\n8 Week Course – $125 Per Student
URL:https://downtowntomsriver.com/event/disney-wednesdays-broadway-on-main/2025-10-08/
LOCATION:Broadway On Main\, 806 N. Main Street\, Toms River\, 08753\, United States
CATEGORIES:Arts & Cluture,Classes,Dance,Kids
ATTACH;FMTTYPE=image/jpeg:https://downtowntomsriver.com/wp-content/uploads/2025/08/BOM-Flyer-10.29.jpg
ORGANIZER;CN="Broadway On Main":MAILTO:broadwayonmaintrnj@gmail.com
END:VEVENT
BEGIN:VEVENT
DTSTART;VALUE=DATE:20251010
DTEND;VALUE=DATE:20251101
DTSTAMP:20260423T124213
CREATED:20250416T200158Z
LAST-MODIFIED:20250416T200158Z
UID:10004231-1760054400-1761955199@downtowntomsriver.com
SUMMARY:Downtown Scarecrow Walk 2025
DESCRIPTION:Spooky\, scary… Scarecrows! – \nHandmade scarecrows\, submitted by locals like you! – \nDisplayed on Washington St. from October 10th to October 31st to usher in All Hallows Eve! – \nCast your vote for your favorite scarecrow\, see flyer for details. – \nAnd while you’re here\, you’ll probably want to stop\, shop and grab a bite. \n  \nDo you have the stuffing to win Best Scarecrow? Entry is FREE! \nStay tuned: Follow our Facebook: www.facebook.com/downtowntomsrive Instagram: www.instagram.com/downtowntomsriver/ for updates and info.
URL:https://downtowntomsriver.com/event/downtown-scarecrow-walk-2025/
LOCATION:Downtown Toms River\, Washington St\,.\, Toms River\, NJ\, 08753\, United States
CATEGORIES:Arts & Cluture,Arts & Crafts,Downtown Toms River Events,Entertainment,Kids
ATTACH;FMTTYPE=image/png:https://downtowntomsriver.com/wp-content/uploads/2025/04/Scarecrow-Walk-2025.png
ORGANIZER;CN="Downtown Toms River BID":MAILTO:info@downtowntomsriver.com
END:VEVENT
BEGIN:VEVENT
DTSTART;TZID=America/New_York:20251010T170000
DTEND;TZID=America/New_York:20251010T220000
DTSTAMP:20260423T124213
CREATED:20250422T200338Z
LAST-MODIFIED:20250520T140547Z
UID:10004277-1760115600-1760133600@downtowntomsriver.com
SUMMARY:Downtown Night Out 2025 - Outdoor Dining in the Summer - Fridays and Saturdays
DESCRIPTION:Join us for a tasty meal\, cold drinks\, and good conversation in Downtown Toms River! – Beginning May 30th – October 18 – Participating restaurants will set up dining and table service outside; Fridays and Saturdays from 5PM – 10PM – Brought to you by Celebrity FORD and our other fabulous sponsors!
URL:https://downtowntomsriver.com/event/downtown-night-out-2025-outdoor-dining-in-the-summer-fridays-and-saturdays/2025-10-10/
LOCATION:NJ
CATEGORIES:Arts & Cluture,Business Events,Dining,Downtown Toms River Events
ATTACH;FMTTYPE=image/png:https://downtowntomsriver.com/wp-content/uploads/2025/04/Downtown-Night-Out-2025.png
ORGANIZER;CN="Downtown Toms River BID":MAILTO:info@downtowntomsriver.com
END:VEVENT
BEGIN:VEVENT
DTSTART;TZID=America/New_York:20251011T170000
DTEND;TZID=America/New_York:20251011T220000
DTSTAMP:20260423T124213
CREATED:20250422T200338Z
LAST-MODIFIED:20250520T140547Z
UID:10004311-1760202000-1760220000@downtowntomsriver.com
SUMMARY:Downtown Night Out 2025 - Outdoor Dining in the Summer - Fridays and Saturdays
DESCRIPTION:Join us for a tasty meal\, cold drinks\, and good conversation in Downtown Toms River! – Beginning May 30th – October 18 – Participating restaurants will set up dining and table service outside; Fridays and Saturdays from 5PM – 10PM – Brought to you by Celebrity FORD and our other fabulous sponsors!
URL:https://downtowntomsriver.com/event/downtown-night-out-2025-outdoor-dining-in-the-summer-fridays-and-saturdays/2025-10-11/
LOCATION:NJ
CATEGORIES:Arts & Cluture,Business Events,Dining,Downtown Toms River Events
ATTACH;FMTTYPE=image/png:https://downtowntomsriver.com/wp-content/uploads/2025/04/Downtown-Night-Out-2025.png
ORGANIZER;CN="Downtown Toms River BID":MAILTO:info@downtowntomsriver.com
END:VEVENT
BEGIN:VEVENT
DTSTART;TZID=America/New_York:20251015T163000
DTEND;TZID=America/New_York:20251015T173000
DTSTAMP:20260423T124213
CREATED:20250826T152643Z
LAST-MODIFIED:20250826T152643Z
UID:10005598-1760545800-1760549400@downtowntomsriver.com
SUMMARY:Disney Wednesdays @ Broadway on Main
DESCRIPTION:Come join us as we explore different genres of dance with your favorite Disney characters all season long!\nWhich magical character will make it to our Summer Showcase?\n\n8 Week Course – $125 Per Student
URL:https://downtowntomsriver.com/event/disney-wednesdays-broadway-on-main/2025-10-15/
LOCATION:Broadway On Main\, 806 N. Main Street\, Toms River\, 08753\, United States
CATEGORIES:Arts & Cluture,Classes,Dance,Kids
ATTACH;FMTTYPE=image/jpeg:https://downtowntomsriver.com/wp-content/uploads/2025/08/BOM-Flyer-10.29.jpg
ORGANIZER;CN="Broadway On Main":MAILTO:broadwayonmaintrnj@gmail.com
END:VEVENT
BEGIN:VEVENT
DTSTART;TZID=America/New_York:20251017T170000
DTEND;TZID=America/New_York:20251017T220000
DTSTAMP:20260423T124213
CREATED:20250422T200338Z
LAST-MODIFIED:20250520T140547Z
UID:10004279-1760720400-1760738400@downtowntomsriver.com
SUMMARY:Downtown Night Out 2025 - Outdoor Dining in the Summer - Fridays and Saturdays
DESCRIPTION:Join us for a tasty meal\, cold drinks\, and good conversation in Downtown Toms River! – Beginning May 30th – October 18 – Participating restaurants will set up dining and table service outside; Fridays and Saturdays from 5PM – 10PM – Brought to you by Celebrity FORD and our other fabulous sponsors!
URL:https://downtowntomsriver.com/event/downtown-night-out-2025-outdoor-dining-in-the-summer-fridays-and-saturdays/2025-10-17/
LOCATION:NJ
CATEGORIES:Arts & Cluture,Business Events,Dining,Downtown Toms River Events
ATTACH;FMTTYPE=image/png:https://downtowntomsriver.com/wp-content/uploads/2025/04/Downtown-Night-Out-2025.png
ORGANIZER;CN="Downtown Toms River BID":MAILTO:info@downtowntomsriver.com
END:VEVENT
BEGIN:VEVENT
DTSTART;TZID=America/New_York:20251018T110000
DTEND;TZID=America/New_York:20251018T170000
DTSTAMP:20260423T124213
CREATED:20250417T133725Z
LAST-MODIFIED:20250417T133840Z
UID:10004232-1760785200-1760806800@downtowntomsriver.com
SUMMARY:Harvest Arts Festival 2025
DESCRIPTION:Harvest Arts Returns with the changing leaves! Local NJ artists come to showcase their art with the kaleidoscopic colors of fall. A juried art show with a cash prize and all the adulation that comes with it! Join us Saturday October 18th from 11Am – 5PM on Washington St. in the downtown. – \nFood trucks – Vendors – Artists – Live Bands – Free Kids Games – Pumpkins – District Businesses – \nFollow our Facebook: www.facebook.com/downtowntomsrive Instagram: www.instagram.com/downtowntomsriver/ for updates and info.
URL:https://downtowntomsriver.com/event/harvest-arts-festival-2025/
LOCATION:Downtown Toms River\, Washington St\,.\, Toms River\, NJ\, 08753\, United States
CATEGORIES:Arts & Cluture,Arts & Crafts,Downtown Toms River Events,Entertainment,Kids
ATTACH;FMTTYPE=image/png:https://downtowntomsriver.com/wp-content/uploads/2025/04/Harvest-Arts-2025.png
ORGANIZER;CN="Downtown Toms River BID":MAILTO:info@downtowntomsriver.com
END:VEVENT
BEGIN:VEVENT
DTSTART;TZID=America/New_York:20251018T170000
DTEND;TZID=America/New_York:20251018T220000
DTSTAMP:20260423T124213
CREATED:20250422T200338Z
LAST-MODIFIED:20250520T140547Z
UID:10004312-1760806800-1760824800@downtowntomsriver.com
SUMMARY:Downtown Night Out 2025 - Outdoor Dining in the Summer - Fridays and Saturdays
DESCRIPTION:Join us for a tasty meal\, cold drinks\, and good conversation in Downtown Toms River! – Beginning May 30th – October 18 – Participating restaurants will set up dining and table service outside; Fridays and Saturdays from 5PM – 10PM – Brought to you by Celebrity FORD and our other fabulous sponsors!
URL:https://downtowntomsriver.com/event/downtown-night-out-2025-outdoor-dining-in-the-summer-fridays-and-saturdays/2025-10-18/
LOCATION:NJ
CATEGORIES:Arts & Cluture,Business Events,Dining,Downtown Toms River Events
ATTACH;FMTTYPE=image/png:https://downtowntomsriver.com/wp-content/uploads/2025/04/Downtown-Night-Out-2025.png
ORGANIZER;CN="Downtown Toms River BID":MAILTO:info@downtowntomsriver.com
END:VEVENT
BEGIN:VEVENT
DTSTART;TZID=America/New_York:20251022T163000
DTEND;TZID=America/New_York:20251022T173000
DTSTAMP:20260423T124213
CREATED:20250826T152643Z
LAST-MODIFIED:20250826T152643Z
UID:10005599-1761150600-1761154200@downtowntomsriver.com
SUMMARY:Disney Wednesdays @ Broadway on Main
DESCRIPTION:Come join us as we explore different genres of dance with your favorite Disney characters all season long!\nWhich magical character will make it to our Summer Showcase?\n\n8 Week Course – $125 Per Student
URL:https://downtowntomsriver.com/event/disney-wednesdays-broadway-on-main/2025-10-22/
LOCATION:Broadway On Main\, 806 N. Main Street\, Toms River\, 08753\, United States
CATEGORIES:Arts & Cluture,Classes,Dance,Kids
ATTACH;FMTTYPE=image/jpeg:https://downtowntomsriver.com/wp-content/uploads/2025/08/BOM-Flyer-10.29.jpg
ORGANIZER;CN="Broadway On Main":MAILTO:broadwayonmaintrnj@gmail.com
END:VEVENT
BEGIN:VEVENT
DTSTART;TZID=America/New_York:20251029T163000
DTEND;TZID=America/New_York:20251029T173000
DTSTAMP:20260423T124213
CREATED:20250826T152643Z
LAST-MODIFIED:20250826T152643Z
UID:10005600-1761755400-1761759000@downtowntomsriver.com
SUMMARY:Disney Wednesdays @ Broadway on Main
DESCRIPTION:Come join us as we explore different genres of dance with your favorite Disney characters all season long!\nWhich magical character will make it to our Summer Showcase?\n\n8 Week Course – $125 Per Student
URL:https://downtowntomsriver.com/event/disney-wednesdays-broadway-on-main/2025-10-29/
LOCATION:Broadway On Main\, 806 N. Main Street\, Toms River\, 08753\, United States
CATEGORIES:Arts & Cluture,Classes,Dance,Kids
ATTACH;FMTTYPE=image/jpeg:https://downtowntomsriver.com/wp-content/uploads/2025/08/BOM-Flyer-10.29.jpg
ORGANIZER;CN="Broadway On Main":MAILTO:broadwayonmaintrnj@gmail.com
END:VEVENT
END:VCALENDAR