BEGIN:VCALENDAR
VERSION:2.0
PRODID:-// - ECPv6.15.15//NONSGML v1.0//EN
CALSCALE:GREGORIAN
METHOD:PUBLISH
X-ORIGINAL-URL:https://downtowntomsriver.com
X-WR-CALDESC:Events for 
REFRESH-INTERVAL;VALUE=DURATION:PT1H
X-Robots-Tag:noindex
X-PUBLISHED-TTL:PT1H
BEGIN:VTIMEZONE
TZID:America/New_York
BEGIN:DAYLIGHT
TZOFFSETFROM:-0500
TZOFFSETTO:-0400
TZNAME:EDT
DTSTART:20240310T070000
END:DAYLIGHT
BEGIN:STANDARD
TZOFFSETFROM:-0400
TZOFFSETTO:-0500
TZNAME:EST
DTSTART:20241103T060000
END:STANDARD
BEGIN:DAYLIGHT
TZOFFSETFROM:-0500
TZOFFSETTO:-0400
TZNAME:EDT
DTSTART:20250309T070000
END:DAYLIGHT
BEGIN:STANDARD
TZOFFSETFROM:-0400
TZOFFSETTO:-0500
TZNAME:EST
DTSTART:20251102T060000
END:STANDARD
BEGIN:DAYLIGHT
TZOFFSETFROM:-0500
TZOFFSETTO:-0400
TZNAME:EDT
DTSTART:20260308T070000
END:DAYLIGHT
BEGIN:STANDARD
TZOFFSETFROM:-0400
TZOFFSETTO:-0500
TZNAME:EST
DTSTART:20261101T060000
END:STANDARD
END:VTIMEZONE
BEGIN:VEVENT
DTSTART;TZID=America/New_York:20250702T110000
DTEND;TZID=America/New_York:20250702T160000
DTSTAMP:20260423T172038
CREATED:20250416T144157Z
LAST-MODIFIED:20250416T144559Z
UID:10004211-1751454000-1751472000@downtowntomsriver.com
SUMMARY:Farmer's Market 2025
DESCRIPTION:Once again\, Toms River hosts artisans of food\, crafts and more–to our weekly Farmer’s Market! \n  \n  \nBeginning June 6th 2025\, through October 1st \nEvery Wednesday from 11AM – 4PM @ 33 Washington St. \n  \n  \nExciting smells and aromas\, gifts and charms of all sorts are just waiting to be found at this years’ Farmer’s Market. \nStay tuned: \nFollow our Facebook and Instagram for updates and info. \n 
URL:https://downtowntomsriver.com/event/farmers-market-2025/2025-07-02/
LOCATION:Farmer’s Market\, 33 Washington St.\, Toms River\, 08753\, United States
CATEGORIES:Arts & Cluture,Arts & Crafts,Downtown Toms River Events,Entertainment
ATTACH;FMTTYPE=image/png:https://downtowntomsriver.com/wp-content/uploads/2025/04/Farmers-Market-2025-.png
ORGANIZER;CN="Downtown Toms River BID":MAILTO:info@downtowntomsriver.com
END:VEVENT
BEGIN:VEVENT
DTSTART;TZID=America/New_York:20250704T170000
DTEND;TZID=America/New_York:20250704T220000
DTSTAMP:20260423T172038
CREATED:20250422T200338Z
LAST-MODIFIED:20250520T140547Z
UID:10004249-1751648400-1751666400@downtowntomsriver.com
SUMMARY:Downtown Night Out 2025 - Outdoor Dining in the Summer - Fridays and Saturdays
DESCRIPTION:Join us for a tasty meal\, cold drinks\, and good conversation in Downtown Toms River! – Beginning May 30th – October 18 – Participating restaurants will set up dining and table service outside; Fridays and Saturdays from 5PM – 10PM – Brought to you by Celebrity FORD and our other fabulous sponsors!
URL:https://downtowntomsriver.com/event/downtown-night-out-2025-outdoor-dining-in-the-summer-fridays-and-saturdays/2025-07-04/
LOCATION:NJ
CATEGORIES:Arts & Cluture,Business Events,Dining,Downtown Toms River Events
ATTACH;FMTTYPE=image/png:https://downtowntomsriver.com/wp-content/uploads/2025/04/Downtown-Night-Out-2025.png
ORGANIZER;CN="Downtown Toms River BID":MAILTO:info@downtowntomsriver.com
END:VEVENT
BEGIN:VEVENT
DTSTART;TZID=America/New_York:20250705T170000
DTEND;TZID=America/New_York:20250705T220000
DTSTAMP:20260423T172038
CREATED:20250422T200338Z
LAST-MODIFIED:20250520T140547Z
UID:10004297-1751734800-1751752800@downtowntomsriver.com
SUMMARY:Downtown Night Out 2025 - Outdoor Dining in the Summer - Fridays and Saturdays
DESCRIPTION:Join us for a tasty meal\, cold drinks\, and good conversation in Downtown Toms River! – Beginning May 30th – October 18 – Participating restaurants will set up dining and table service outside; Fridays and Saturdays from 5PM – 10PM – Brought to you by Celebrity FORD and our other fabulous sponsors!
URL:https://downtowntomsriver.com/event/downtown-night-out-2025-outdoor-dining-in-the-summer-fridays-and-saturdays/2025-07-05/
LOCATION:NJ
CATEGORIES:Arts & Cluture,Business Events,Dining,Downtown Toms River Events
ATTACH;FMTTYPE=image/png:https://downtowntomsriver.com/wp-content/uploads/2025/04/Downtown-Night-Out-2025.png
ORGANIZER;CN="Downtown Toms River BID":MAILTO:info@downtowntomsriver.com
END:VEVENT
BEGIN:VEVENT
DTSTART;TZID=America/New_York:20250709T110000
DTEND;TZID=America/New_York:20250709T160000
DTSTAMP:20260423T172038
CREATED:20250416T144157Z
LAST-MODIFIED:20250416T144559Z
UID:10004212-1752058800-1752076800@downtowntomsriver.com
SUMMARY:Farmer's Market 2025
DESCRIPTION:Once again\, Toms River hosts artisans of food\, crafts and more–to our weekly Farmer’s Market! \n  \n  \nBeginning June 6th 2025\, through October 1st \nEvery Wednesday from 11AM – 4PM @ 33 Washington St. \n  \n  \nExciting smells and aromas\, gifts and charms of all sorts are just waiting to be found at this years’ Farmer’s Market. \nStay tuned: \nFollow our Facebook and Instagram for updates and info. \n 
URL:https://downtowntomsriver.com/event/farmers-market-2025/2025-07-09/
LOCATION:Farmer’s Market\, 33 Washington St.\, Toms River\, 08753\, United States
CATEGORIES:Arts & Cluture,Arts & Crafts,Downtown Toms River Events,Entertainment
ATTACH;FMTTYPE=image/png:https://downtowntomsriver.com/wp-content/uploads/2025/04/Farmers-Market-2025-.png
ORGANIZER;CN="Downtown Toms River BID":MAILTO:info@downtowntomsriver.com
END:VEVENT
BEGIN:VEVENT
DTSTART;TZID=America/New_York:20250710T180000
DTEND;TZID=America/New_York:20250710T200000
DTSTAMP:20260423T172038
CREATED:20250626T194651Z
LAST-MODIFIED:20250626T195634Z
UID:10005521-1752170400-1752177600@downtowntomsriver.com
SUMMARY:Cutting Up with Magazine Art! TRAC
DESCRIPTION:Join us for a creative collage class where imagination meets iconic art! Choose a famous painting or photo\, either from our instructor’s collection or bring your own. Recreate it using cut-up strips and shapes from colorful magazines\, it’s painting with paper! \nAll supplies are provided: pencils\, paper\, magazines\, scissors\, glue\, and a variety of classic images to inspire you. The instructor will also have 8.5″ X 11″ or 11″ X 14″ frames available for purchase ($15-$20). Perfect for displaying your finished masterpiece! Want to bring your won magazines\, images\, scissors\, and poster frame? Go for it! \nSixteen years and up.
URL:https://downtowntomsriver.com/event/cutting-up-with-magazine-art-trac/
LOCATION:TRAC- Toms River Artist Community\, 40 Main Street\, Toms River\, NJ\, 08753\, United States
CATEGORIES:Arts & Cluture,Arts & Crafts,Classes,Toms River Artist Community
ATTACH;FMTTYPE=image/webp:https://downtowntomsriver.com/wp-content/uploads/2025/06/2025-Magazine-Art-5-30-25_1748622194-scaled.webp
ORGANIZER;CN="TRAC":MAILTO:tomstiverartistcommunity732.com
END:VEVENT
BEGIN:VEVENT
DTSTART;TZID=America/New_York:20250711T170000
DTEND;TZID=America/New_York:20250711T220000
DTSTAMP:20260423T172038
CREATED:20250422T200338Z
LAST-MODIFIED:20250520T140547Z
UID:10004251-1752253200-1752271200@downtowntomsriver.com
SUMMARY:Downtown Night Out 2025 - Outdoor Dining in the Summer - Fridays and Saturdays
DESCRIPTION:Join us for a tasty meal\, cold drinks\, and good conversation in Downtown Toms River! – Beginning May 30th – October 18 – Participating restaurants will set up dining and table service outside; Fridays and Saturdays from 5PM – 10PM – Brought to you by Celebrity FORD and our other fabulous sponsors!
URL:https://downtowntomsriver.com/event/downtown-night-out-2025-outdoor-dining-in-the-summer-fridays-and-saturdays/2025-07-11/
LOCATION:NJ
CATEGORIES:Arts & Cluture,Business Events,Dining,Downtown Toms River Events
ATTACH;FMTTYPE=image/png:https://downtowntomsriver.com/wp-content/uploads/2025/04/Downtown-Night-Out-2025.png
ORGANIZER;CN="Downtown Toms River BID":MAILTO:info@downtowntomsriver.com
END:VEVENT
BEGIN:VEVENT
DTSTART;TZID=America/New_York:20250712T170000
DTEND;TZID=America/New_York:20250712T220000
DTSTAMP:20260423T172038
CREATED:20250422T200338Z
LAST-MODIFIED:20250520T140547Z
UID:10004298-1752339600-1752357600@downtowntomsriver.com
SUMMARY:Downtown Night Out 2025 - Outdoor Dining in the Summer - Fridays and Saturdays
DESCRIPTION:Join us for a tasty meal\, cold drinks\, and good conversation in Downtown Toms River! – Beginning May 30th – October 18 – Participating restaurants will set up dining and table service outside; Fridays and Saturdays from 5PM – 10PM – Brought to you by Celebrity FORD and our other fabulous sponsors!
URL:https://downtowntomsriver.com/event/downtown-night-out-2025-outdoor-dining-in-the-summer-fridays-and-saturdays/2025-07-12/
LOCATION:NJ
CATEGORIES:Arts & Cluture,Business Events,Dining,Downtown Toms River Events
ATTACH;FMTTYPE=image/png:https://downtowntomsriver.com/wp-content/uploads/2025/04/Downtown-Night-Out-2025.png
ORGANIZER;CN="Downtown Toms River BID":MAILTO:info@downtowntomsriver.com
END:VEVENT
BEGIN:VEVENT
DTSTART;TZID=America/New_York:20250714T130000
DTEND;TZID=America/New_York:20250718T150000
DTSTAMP:20260423T172038
CREATED:20250527T183024Z
LAST-MODIFIED:20250527T183024Z
UID:10004324-1752498000-1752850800@downtowntomsriver.com
SUMMARY:Summer Arts Camp | Ages 6-9 | Learn to Create Cartoons!
DESCRIPTION:
URL:https://downtowntomsriver.com/event/summer-arts-camp-ages-6-9-learn-to-create-cartoons/
LOCATION:TRAC- Toms River Artist Community\, 40 Main Street\, Toms River\, NJ\, 08753\, United States
CATEGORIES:Arts & Cluture,Arts & Crafts,Kids
ORGANIZER;CN="TRAC":MAILTO:tomstiverartistcommunity732.com
END:VEVENT
BEGIN:VEVENT
DTSTART;TZID=America/New_York:20250716T110000
DTEND;TZID=America/New_York:20250716T160000
DTSTAMP:20260423T172038
CREATED:20250416T144157Z
LAST-MODIFIED:20250416T144559Z
UID:10004213-1752663600-1752681600@downtowntomsriver.com
SUMMARY:Farmer's Market 2025
DESCRIPTION:Once again\, Toms River hosts artisans of food\, crafts and more–to our weekly Farmer’s Market! \n  \n  \nBeginning June 6th 2025\, through October 1st \nEvery Wednesday from 11AM – 4PM @ 33 Washington St. \n  \n  \nExciting smells and aromas\, gifts and charms of all sorts are just waiting to be found at this years’ Farmer’s Market. \nStay tuned: \nFollow our Facebook and Instagram for updates and info. \n 
URL:https://downtowntomsriver.com/event/farmers-market-2025/2025-07-16/
LOCATION:Farmer’s Market\, 33 Washington St.\, Toms River\, 08753\, United States
CATEGORIES:Arts & Cluture,Arts & Crafts,Downtown Toms River Events,Entertainment
ATTACH;FMTTYPE=image/png:https://downtowntomsriver.com/wp-content/uploads/2025/04/Farmers-Market-2025-.png
ORGANIZER;CN="Downtown Toms River BID":MAILTO:info@downtowntomsriver.com
END:VEVENT
BEGIN:VEVENT
DTSTART;TZID=America/New_York:20250716T190000
DTEND;TZID=America/New_York:20250716T210000
DTSTAMP:20260423T172038
CREATED:20250626T135606Z
LAST-MODIFIED:20250626T135802Z
UID:10005520-1752692400-1752699600@downtowntomsriver.com
SUMMARY:Concert With the Pineland Symphonic Band @ Ocean County Library
DESCRIPTION:Pineland Symphonic Band to Perform at \nOcean County Library Toms River Branch \nTOMS RIVER – The Ocean County Library is pleased to present a live concert by the Pineland Symphonic Band at the Toms River Branch at 7 p.m. Wednesday\, July 16. \nThe popular Whiting-based ensemble has performed for Ocean County community groups\, retirement communities\, civic events\, and schools for more than 30 years. Its volunteer members include virtuosos from professional symphonies\, music teachers\, and music enthusiasts. \nUnder the direction of Karen Hedden\, the ensemble will perform a variety of songs including marches\, Broadway music\, pop tunes\, and traditional jazz numbers. \nThis program is generously sponsored by Friends of the Ocean County Library – Toms River\, volunteers who support the library through fundraising\, programs\, and advocacy. New members are always welcome. Membership forms are available at all OCL branches and reading centers and at theoceancountylibrary.org/OCLFriends. \nRegistration is required for this free event. To register\, or for more information\, visit tinyurl.com/SymphonicTR\, call the branch at 732-349-6200\, or visit the branch at 101 Washington Street. \nOCL turns 100 this year and you’re why we’re celebrating! See details on Facebook\, Instagram\, X\, YouTube\, Spotify\, Pinterest and theoceancountylibrary.org.
URL:https://downtowntomsriver.com/event/concert-with-the-pineland-symphonic-band-ocean-county-library/
LOCATION:The Ocean County Library\, 101 Washington St\, Toms River\, NJ\, 08753\, United States
CATEGORIES:Arts & Cluture,Live Music
ATTACH;FMTTYPE=image/jpeg:https://downtowntomsriver.com/wp-content/uploads/2025/06/thumbnail_Pineland-Symphonic.jpg
END:VEVENT
BEGIN:VEVENT
DTSTART;TZID=America/New_York:20250718T170000
DTEND;TZID=America/New_York:20250718T220000
DTSTAMP:20260423T172038
CREATED:20250422T200338Z
LAST-MODIFIED:20250520T140547Z
UID:10004253-1752858000-1752876000@downtowntomsriver.com
SUMMARY:Downtown Night Out 2025 - Outdoor Dining in the Summer - Fridays and Saturdays
DESCRIPTION:Join us for a tasty meal\, cold drinks\, and good conversation in Downtown Toms River! – Beginning May 30th – October 18 – Participating restaurants will set up dining and table service outside; Fridays and Saturdays from 5PM – 10PM – Brought to you by Celebrity FORD and our other fabulous sponsors!
URL:https://downtowntomsriver.com/event/downtown-night-out-2025-outdoor-dining-in-the-summer-fridays-and-saturdays/2025-07-18/
LOCATION:NJ
CATEGORIES:Arts & Cluture,Business Events,Dining,Downtown Toms River Events
ATTACH;FMTTYPE=image/png:https://downtowntomsriver.com/wp-content/uploads/2025/04/Downtown-Night-Out-2025.png
ORGANIZER;CN="Downtown Toms River BID":MAILTO:info@downtowntomsriver.com
END:VEVENT
BEGIN:VEVENT
DTSTART;TZID=America/New_York:20250719T140000
DTEND;TZID=America/New_York:20250719T200000
DTSTAMP:20260423T172038
CREATED:20250416T161413Z
LAST-MODIFIED:20250718T174659Z
UID:10004228-1752933600-1752955200@downtowntomsriver.com
SUMMARY:Summer in The Street 2025
DESCRIPTION:Join us for the hottest event of the summer.. in the street! Come to Downtown Toms River to celebrate fun in the sun! – \nJuly 19th 2025 – 2PM – 8Pm  on Washington Street – \nLive bands\, demonstrations\, food\, cold drinks\, family fun\, activities\, crafts\, vendors and so much more! – \nNo entry fee! – \nFor more info and events follow us on Facebook www.facebook.com/downtowntomsriver and Instagram www.instagram.com/downtowntomsriver/
URL:https://downtowntomsriver.com/event/summer-in-the-street-2025/
LOCATION:Downtown Toms River\, Washington St\,.\, Toms River\, NJ\, 08753\, United States
CATEGORIES:Arts & Cluture,Arts & Crafts,Downtown Toms River Events,Entertainment,Kids,Live Music,Sweets and Treats,Toms River Artist Community
ATTACH;FMTTYPE=image/jpeg:https://downtowntomsriver.com/wp-content/uploads/2025/04/Summer-In-The-Street-Toms-River-Times-AD.jpg
END:VEVENT
BEGIN:VEVENT
DTSTART;TZID=America/New_York:20250719T170000
DTEND;TZID=America/New_York:20250719T220000
DTSTAMP:20260423T172038
CREATED:20250422T200338Z
LAST-MODIFIED:20250520T140547Z
UID:10004299-1752944400-1752962400@downtowntomsriver.com
SUMMARY:Downtown Night Out 2025 - Outdoor Dining in the Summer - Fridays and Saturdays
DESCRIPTION:Join us for a tasty meal\, cold drinks\, and good conversation in Downtown Toms River! – Beginning May 30th – October 18 – Participating restaurants will set up dining and table service outside; Fridays and Saturdays from 5PM – 10PM – Brought to you by Celebrity FORD and our other fabulous sponsors!
URL:https://downtowntomsriver.com/event/downtown-night-out-2025-outdoor-dining-in-the-summer-fridays-and-saturdays/2025-07-19/
LOCATION:NJ
CATEGORIES:Arts & Cluture,Business Events,Dining,Downtown Toms River Events
ATTACH;FMTTYPE=image/png:https://downtowntomsriver.com/wp-content/uploads/2025/04/Downtown-Night-Out-2025.png
ORGANIZER;CN="Downtown Toms River BID":MAILTO:info@downtowntomsriver.com
END:VEVENT
BEGIN:VEVENT
DTSTART;TZID=America/New_York:20250720T130000
DTEND;TZID=America/New_York:20250720T150000
DTSTAMP:20260423T172038
CREATED:20250626T195016Z
LAST-MODIFIED:20250626T195324Z
UID:10005522-1753016400-1753023600@downtowntomsriver.com
SUMMARY:Pressed For Beauty: A Two-Part Pressed Flower Class @ TRAC
DESCRIPTION:Discover the art of flower pressing in this creative two-part workshop exploring the timeless art of flower pressing. Your instructor\, Simone Sheppard will demonstrate how to press flowers using different techniques\, tips and tools. Then\, over the next 6 weeks\, students will collect and press their own blooms to bring to the second session. You’ll use your flowers to create beautiful handmade cards and bookmarks. Most materials will be provided. Just bring your pressed treasures and creativity! \nStudents need to bring a small pallet knife or butter knife and scissors. Simone will bring some extra press flowers in case you’re not happy with your results. \nAges: 14 and Up \nMEMBERS: $60 \nNON-MEMBERS: $70
URL:https://downtowntomsriver.com/event/pressed-for-beauty-a-two-part-pressed-flower-class-trac/2025-07-20/
LOCATION:TRAC- Toms River Artist Community\, 40 Main Street\, Toms River\, NJ\, 08753\, United States
CATEGORIES:Arts & Cluture,Arts & Crafts,Classes,Toms River Artist Community
ATTACH;FMTTYPE=image/webp:https://downtowntomsriver.com/wp-content/uploads/2025/06/TRAC-Pressed-Flowers-Workshop-6-20-25_1750606174-scaled.webp
END:VEVENT
BEGIN:VEVENT
DTSTART;TZID=America/New_York:20250723T110000
DTEND;TZID=America/New_York:20250723T160000
DTSTAMP:20260423T172038
CREATED:20250416T144157Z
LAST-MODIFIED:20250416T144559Z
UID:10004214-1753268400-1753286400@downtowntomsriver.com
SUMMARY:Farmer's Market 2025
DESCRIPTION:Once again\, Toms River hosts artisans of food\, crafts and more–to our weekly Farmer’s Market! \n  \n  \nBeginning June 6th 2025\, through October 1st \nEvery Wednesday from 11AM – 4PM @ 33 Washington St. \n  \n  \nExciting smells and aromas\, gifts and charms of all sorts are just waiting to be found at this years’ Farmer’s Market. \nStay tuned: \nFollow our Facebook and Instagram for updates and info. \n 
URL:https://downtowntomsriver.com/event/farmers-market-2025/2025-07-23/
LOCATION:Farmer’s Market\, 33 Washington St.\, Toms River\, 08753\, United States
CATEGORIES:Arts & Cluture,Arts & Crafts,Downtown Toms River Events,Entertainment
ATTACH;FMTTYPE=image/png:https://downtowntomsriver.com/wp-content/uploads/2025/04/Farmers-Market-2025-.png
ORGANIZER;CN="Downtown Toms River BID":MAILTO:info@downtowntomsriver.com
END:VEVENT
BEGIN:VEVENT
DTSTART;TZID=America/New_York:20250725T140000
DTEND;TZID=America/New_York:20250725T160000
DTSTAMP:20260423T172038
CREATED:20250626T200859Z
LAST-MODIFIED:20250626T200939Z
UID:10005524-1753452000-1753459200@downtowntomsriver.com
SUMMARY:Unleash Your Inner Artist: How to Paint Your Dragon
DESCRIPTION:Soar into creativity with our magical “How to Paint Your Dragon” acrylic painting party! Inspired by the newest “How to Train Your Dragon” movie. This all ages event invites you to paint your very own “Toothless The Dragon” rendition. Each participant will receive a pre-drawn canvas\, no experience necessary. \nEnjoy dragon-themed music\, cupcakes\, and light refreshments as you bring your dragon to life with paint. Feel free to come dressed as a Viking\, a dragon\, or anything in between. It’s a fun\, family-friendly celebration of imagination and art! \nAll Ages Welcome! All Supplies are Included! \nMEMBERS: $30 \nNON-MEMBERS: $35
URL:https://downtowntomsriver.com/event/unleash-your-inner-artist-how-to-paint-your-dragon/
LOCATION:TRAC- Toms River Artist Community\, 40 Main Street\, Toms River\, NJ\, 08753\, United States
CATEGORIES:Arts & Cluture,Arts & Crafts,Classes,Toms River Artist Community
ATTACH;FMTTYPE=image/webp:https://downtowntomsriver.com/wp-content/uploads/2025/06/2025-How-to-Paint-your-Dragon-6-13-25_1749839196-scaled.webp
ORGANIZER;CN="TRAC":MAILTO:tomstiverartistcommunity732.com
END:VEVENT
BEGIN:VEVENT
DTSTART;TZID=America/New_York:20250725T170000
DTEND;TZID=America/New_York:20250725T220000
DTSTAMP:20260423T172038
CREATED:20250422T200338Z
LAST-MODIFIED:20250520T140547Z
UID:10004255-1753462800-1753480800@downtowntomsriver.com
SUMMARY:Downtown Night Out 2025 - Outdoor Dining in the Summer - Fridays and Saturdays
DESCRIPTION:Join us for a tasty meal\, cold drinks\, and good conversation in Downtown Toms River! – Beginning May 30th – October 18 – Participating restaurants will set up dining and table service outside; Fridays and Saturdays from 5PM – 10PM – Brought to you by Celebrity FORD and our other fabulous sponsors!
URL:https://downtowntomsriver.com/event/downtown-night-out-2025-outdoor-dining-in-the-summer-fridays-and-saturdays/2025-07-25/
LOCATION:NJ
CATEGORIES:Arts & Cluture,Business Events,Dining,Downtown Toms River Events
ATTACH;FMTTYPE=image/png:https://downtowntomsriver.com/wp-content/uploads/2025/04/Downtown-Night-Out-2025.png
ORGANIZER;CN="Downtown Toms River BID":MAILTO:info@downtowntomsriver.com
END:VEVENT
BEGIN:VEVENT
DTSTART;TZID=America/New_York:20250726T170000
DTEND;TZID=America/New_York:20250726T220000
DTSTAMP:20260423T172038
CREATED:20250422T200338Z
LAST-MODIFIED:20250520T140547Z
UID:10004300-1753549200-1753567200@downtowntomsriver.com
SUMMARY:Downtown Night Out 2025 - Outdoor Dining in the Summer - Fridays and Saturdays
DESCRIPTION:Join us for a tasty meal\, cold drinks\, and good conversation in Downtown Toms River! – Beginning May 30th – October 18 – Participating restaurants will set up dining and table service outside; Fridays and Saturdays from 5PM – 10PM – Brought to you by Celebrity FORD and our other fabulous sponsors!
URL:https://downtowntomsriver.com/event/downtown-night-out-2025-outdoor-dining-in-the-summer-fridays-and-saturdays/2025-07-26/
LOCATION:NJ
CATEGORIES:Arts & Cluture,Business Events,Dining,Downtown Toms River Events
ATTACH;FMTTYPE=image/png:https://downtowntomsriver.com/wp-content/uploads/2025/04/Downtown-Night-Out-2025.png
ORGANIZER;CN="Downtown Toms River BID":MAILTO:info@downtowntomsriver.com
END:VEVENT
BEGIN:VEVENT
DTSTART;TZID=America/New_York:20250729T180000
DTEND;TZID=America/New_York:20250729T180000
DTSTAMP:20260423T172038
CREATED:20250616T182717Z
LAST-MODIFIED:20250616T182838Z
UID:10005513-1753812000-1753812000@downtowntomsriver.com
SUMMARY:Juggling Workshop For Kids - Ocean County Library
DESCRIPTION:﻿ \nTOMS RIVER – Kids\, did you ever watch a juggler in action and wonder how it’s done? You can\nlearn this art of balance\, alertness and timing from a professional during our “Be a Juggler”\nsummer children’s workshops in two branches of the Ocean County Library \nWatch as Molly deftly maneuvers rings\, balls and a Chinese yo-yo\, and spins a plate. Then it’s\nyour turn! Learn how to juggle scarves\, balance a peacock feather and try your hand at spinning\nplates. \nChildren age 6 to 12 are welcome to sign up for our free juggling workshops. Please register at\ntinyurl.com/OCLJuggling to attend this program in either branch. For more information\, visit or call\nthe corresponding branch.
URL:https://downtowntomsriver.com/event/juggling-workshop-for-kids-ocean-county-library/
LOCATION:The Ocean County Library\, 101 Washington St\, Toms River\, NJ\, 08753\, United States
CATEGORIES:Arts & Cluture,Classes,Kids
ATTACH;FMTTYPE=image/jpeg:https://downtowntomsriver.com/wp-content/uploads/2025/06/Juggling.jpg
END:VEVENT
BEGIN:VEVENT
DTSTART;TZID=America/New_York:20250730T110000
DTEND;TZID=America/New_York:20250730T160000
DTSTAMP:20260423T172038
CREATED:20250416T144157Z
LAST-MODIFIED:20250416T144559Z
UID:10004215-1753873200-1753891200@downtowntomsriver.com
SUMMARY:Farmer's Market 2025
DESCRIPTION:Once again\, Toms River hosts artisans of food\, crafts and more–to our weekly Farmer’s Market! \n  \n  \nBeginning June 6th 2025\, through October 1st \nEvery Wednesday from 11AM – 4PM @ 33 Washington St. \n  \n  \nExciting smells and aromas\, gifts and charms of all sorts are just waiting to be found at this years’ Farmer’s Market. \nStay tuned: \nFollow our Facebook and Instagram for updates and info. \n 
URL:https://downtowntomsriver.com/event/farmers-market-2025/2025-07-30/
LOCATION:Farmer’s Market\, 33 Washington St.\, Toms River\, 08753\, United States
CATEGORIES:Arts & Cluture,Arts & Crafts,Downtown Toms River Events,Entertainment
ATTACH;FMTTYPE=image/png:https://downtowntomsriver.com/wp-content/uploads/2025/04/Farmers-Market-2025-.png
ORGANIZER;CN="Downtown Toms River BID":MAILTO:info@downtowntomsriver.com
END:VEVENT
END:VCALENDAR